{"text_format":"1","workbook":"xlsx","n_sheets":9,"sheets":["Menü","Homogenitätsanalyse","Daten","Uniformitätsentwicklung","Gewichtsentwicklung","Sollgewichte","Dateneingabe","Impressum","Datenexport"],"not_rendered":{"charts":4,"images":10,"macros":1,"external_links":0,"defined_names":9,"comments":0,"pivot_tables":0},"unopened":[],"bounds":{"document_bytes":16777216,"sheet_cells":100000,"rows_first":2000,"rows_last":500,"rows_between":2000,"halvings":0,"cell_chars":16384,"cell_head_chars":4096},"cells_cut":0,"cells_raw":0,"read":"whole","date_system":"1900"}

{"sheet":"Menü","index":0,"n_rows":24,"n_cols":14,"rows_kept":24,"cut":false,"hidden":false,"merged":[[21,4,21,9],[23,8,23,9],[13,4,13,9]]}
[]
[]
[]
[null,null,null,null,null,null,null,null,null,null,null,null,null,"2.2"]
[]
[]
[]
[]
[]
[]
[]
[]
[{"$f":"\" Version \" & N4","v":" Version 2.2"}]
[null,null,null,null,"Gewichtsentwicklung:"]
[]
[]
[]
[]
[]
[]
[]
[null,null,null,null,"Herden- / Tiergruppendaten:"]
[null,null,null,null,"Betriebskennung:  ",null,"Tieranzahl: ",null,"Schlupfdatum: "]
[null,null,null,null,"Stall / Abteil:  ",null,"Herkunft: ",null,"MTool ©, Dr. Christiane Keppler"]

{"sheet":"Homogenitätsanalyse","index":1,"n_rows":20,"n_cols":26,"rows_kept":20,"cut":false,"hidden":false,"merged":[[1,1,1,10],[2,1,2,2],[2,3,2,4],[3,1,3,2],[3,3,3,4],[3,6,3,9],[2,6,2,9],[5,1,5,9],[6,2,6,3],[6,4,6,5],[6,6,6,9],[7,2,7,3],[7,4,7,5],[7,6,7,9],[15,1,15,3],[16,1,16,3],[17,1,17,3],[18,1,18,3],[19,1,19,3],[14,4,14,5],[10,1,10,3],[11,1,11,3],[12,1,12,3],[13,1,13,3],[14,1,14,3],[9,1,9,5],[10,4,10,5],[11,4,11,5],[12,4,12,5],[13,4,13,5],[19,4,19,5],[15,4,15,5],[16,4,16,5],[17,4,17,5],[18,4,18,5]]}
[]
[null,"Herden- / Tiergruppendaten:",null,null,null,null,null,null,null,null,null,null,null,null,null,null,null,null,null,"Gewichtsklassen:","Von:","Bis:","Von-Bis:","Wert X","Normverteilung:","Anzahl pro Klasse:"]
[null,"Betriebskennung:  ",null,"Stall / Abteil:  ",null,"Tieranzahl: ","Herkunft: ",null,null,null,"Schlupfdatum: "]
[null,{"$f":"Menü!F23","v":0},null,{"$f":"Menü!F24","v":0},null,{"$f":"Menü!H23","v":0},{"$f":"Menü!H24","v":0},null,null,null,{"$f":"Menü!J23","v":"00:00:00"},null,null,null,null,null,null,null,null,1,{"$f":"ROUNDDOWN(E12,-1)","v":{"$error":"#N/A"}},{"$f":"ROUNDDOWN(E12,-1)+((ROUNDUP(E13,-1)-ROUNDDOWN(E12,-1))/10)","v":{"$error":"#N/A"}},{"$f":"U4&\" - \"&V4","v":{"$error":"#N/A"}},{"$f":"U4","v":{"$error":"#N/A"}},{"$f":"NORMDIST(X4,E$11,E$14,FALSE)","v":{"$error":"#N/A"}},{"$f":"VLOOKUP($B$8,Daten!$A$6:$X$115,15,FALSE)","v":{"$error":"#N/A"}}]
[null,null,null,null,null,null,null,null,null,null,null,null,null,null,null,null,null,null,null,2,{"$f":"ROUNDDOWN(E$12,-1)+((ROUNDUP(E$13,-1)-ROUNDDOWN(E$12,-1))/10)","v":{"$error":"#N/A"}},{"$f":"ROUNDDOWN(E$12,-1)+((ROUNDUP(E$13,-1)-ROUNDDOWN(E$12,-1))/10*2)","v":{"$error":"#N/A"}},{"$f":"U5&\" - \"&V5","v":{"$error":"#N/A"}},{"$f":"U5","v":{"$error":"#N/A"}},{"$error":"#N/A"},{"$f":"VLOOKUP($B$8,Daten!$A$6:$X$115,16,FALSE)","v":{"$error":"#N/A"}}]
[null,"Gewichtsaufnahmedaten:",null,null,null,null,null,null,null,null,null,null,null,null,null,null,null,null,null,3,{"$f":"ROUNDDOWN(E$12,-1)+((ROUNDUP(E$13,-1)-ROUNDDOWN(E$12,-1))/10*2)","v":{"$error":"#N/A"}},{"$f":"ROUNDDOWN(E$12,-1)+((ROUNDUP(E$13,-1)-ROUNDDOWN(E$12,-1))/10*3)","v":{"$error":"#N/A"}},{"$error":"#N/A"},{"$error":"#N/A"},{"$error":"#N/A"},{"$f":"VLOOKUP($B$8,Daten!$A$6:$X$115,17,FALSE)","v":{"$error":"#N/A"}}]
[null,"Aufnahmedatum:","Lebenstag:",null,"Lebenswoche:",null,"Anzahl gew. Tiere:",null,null,null,null,null,null,null,null,null,null,null,null,4,{"$f":"ROUNDDOWN(E$12,-1)+((ROUNDUP(E$13,-1)-ROUNDDOWN(E$12,-1))/10*3)","v":{"$error":"#N/A"}},{"$f":"ROUNDDOWN(E$12,-1)+((ROUNDUP(E$13,-1)-ROUNDDOWN(E$12,-1))/10*4)","v":{"$error":"#N/A"}},{"$error":"#N/A"},{"$error":"#N/A"},{"$error":"#N/A"},{"$f":"VLOOKUP($B$8,Daten!$A$6:$X$115,18,FALSE)","v":{"$error":"#N/A"}}]
[null,"1900-01-01",{"$f":"VLOOKUP($B$8,Daten!$A$6:$X$115,2,FALSE)","v":{"$error":"#N/A"}},null,{"$f":"VLOOKUP($B$8,Daten!$A$6:$X$115,3,FALSE)","v":{"$error":"#N/A"}},null,{"$f":"VLOOKUP($B$8,Daten!$A$6:$X$115,4,FALSE)","v":{"$error":"#N/A"}},null,null,null,null,null,null,null,null,null,null,null,null,5,{"$f":"ROUNDDOWN(E$12,-1)+((ROUNDUP(E$13,-1)-ROUNDDOWN(E$12,-1))/10*4)","v":{"$error":"#N/A"}},{"$f":" ROUNDDOWN(E$12,-1)+((ROUNDUP(E$13,-1)-ROUNDDOWN(E$12,-1))/10*5)","v":{"$error":"#N/A"}},{"$error":"#N/A"},{"$error":"#N/A"},{"$error":"#N/A"},{"$f":"VLOOKUP($B$8,Daten!$A$6:$X$115,19,FALSE)","v":{"$error":"#N/A"}}]
[null,null,null,null,null,null,null,null,null,null,null,null,null,null,null,null,null,null,null,6,{"$f":"ROUNDDOWN(E$12,-1)+((ROUNDUP(E$13,-1)-ROUNDDOWN(E$12,-1))/10*5)","v":{"$error":"#N/A"}},{"$f":" ROUNDDOWN(E$12,-1)+((ROUNDUP(E$13,-1)-ROUNDDOWN(E$12,-1))/10*6)","v":{"$error":"#N/A"}},{"$error":"#N/A"},{"$error":"#N/A"},{"$error":"#N/A"},{"$f":"VLOOKUP($B$8,Daten!$A$6:$X$115,20,FALSE)","v":{"$error":"#N/A"}}]
[null,"Gewichtsdaten:",null,null,null,null,null,null,null,null,null,null,null,null,null,null,null,null,null,7,{"$f":"ROUNDDOWN(E$12,-1)+((ROUNDUP(E$13,-1)-ROUNDDOWN(E$12,-1))/10*6)","v":{"$error":"#N/A"}},{"$f":"ROUNDDOWN(E$12,-1)+((ROUNDUP(E$13,-1)-ROUNDDOWN(E$12,-1))/10*7)","v":{"$error":"#N/A"}},{"$error":"#N/A"},{"$error":"#N/A"},{"$error":"#N/A"},{"$f":"VLOOKUP($B$8,Daten!$A$6:$X$115,21,FALSE)","v":{"$error":"#N/A"}}]
[null,"Mittelwert: ",null,null,{"$f":"VLOOKUP($B$8,Daten!$A$6:$X$115,5,FALSE)","v":{"$error":"#N/A"}},null,null,null,null,null,null,null,null,null,null,null,null,null,null,8,{"$f":"ROUNDDOWN(E$12,-1)+((ROUNDUP(E$13,-1)-ROUNDDOWN(E$12,-1))/10*7)","v":{"$error":"#N/A"}},{"$f":" ROUNDDOWN(E$12,-1)+((ROUNDUP(E$13,-1)-ROUNDDOWN(E$12,-1))/10*8)","v":{"$error":"#N/A"}},{"$error":"#N/A"},{"$error":"#N/A"},{"$error":"#N/A"},{"$f":"VLOOKUP($B$8,Daten!$A$6:$X$115,22,FALSE)","v":{"$error":"#N/A"}}]
[null,"Minimum: ",null,null,{"$f":"VLOOKUP($B$8,Daten!$A$6:$X$115,6,FALSE)","v":{"$error":"#N/A"}},null,null,null,null,null,null,null,null,null,null,null,null,null,null,9,{"$f":"ROUNDDOWN(E$12,-1)+((ROUNDUP(E$13,-1)-ROUNDDOWN(E$12,-1))/10*8)","v":{"$error":"#N/A"}},{"$f":"ROUNDDOWN(E$12,-1)+((ROUNDUP(E$13,-1)-ROUNDDOWN(E$12,-1))/10*9)","v":{"$error":"#N/A"}},{"$error":"#N/A"},{"$error":"#N/A"},{"$error":"#N/A"},{"$f":"VLOOKUP($B$8,Daten!$A$6:$X$115,23,FALSE)","v":{"$error":"#N/A"}}]
[null,"Maximum: ",null,null,{"$f":"VLOOKUP($B$8,Daten!$A$6:$X$115,7,FALSE)","v":{"$error":"#N/A"}},null,null,null,null,null,null,null,null,null,null,null,null,null,null,10,{"$f":"ROUNDDOWN(E$12,-1)+((ROUNDUP(E$13,-1)-ROUNDDOWN(E$12,-1))/10*9)","v":{"$error":"#N/A"}},{"$f":"ROUNDUP(E$13,-1)","v":{"$error":"#N/A"}},{"$error":"#N/A"},{"$error":"#N/A"},{"$error":"#N/A"},{"$f":"VLOOKUP($B$8,Daten!$A$6:$X$115,24,FALSE)","v":{"$error":"#N/A"}}]
[null,"Standardabweichung: ",null,null,{"$f":"VLOOKUP($B$8,Daten!$A$6:$X$115,8,FALSE)","v":{"$error":"#N/A"}},null,null,null,null,null,null,null,null,null,null,null,null,null,null,null,null,null,null,{"$f":"V13","v":{"$error":"#N/A"}},{"$error":"#N/A"}]
[null,"Variationskoeffizient: ",null,null,{"$f":"VLOOKUP($B$8,Daten!$A$6:$X$115,9,FALSE)","v":{"$error":"#N/A"}}]
[null,"Sollgewicht: ",null,null,{"$f":"VLOOKUP($B$8,Daten!$A$6:$X$115,10,FALSE)","v":{"$error":"#N/A"}}]
[null,"Sollgewichtserfüllung: ",null,null,{"$f":"VLOOKUP($B$8,Daten!$A$6:$X$115,11,FALSE)","v":{"$error":"#N/A"}},null,null,null,null,null,null,null,null,null,null,null,null,null,2," kein Handlungsbedarf"]
[null,"Uniformität: ",null,null,{"$f":"VLOOKUP($B$8,Daten!$A$6:$X$115,12,FALSE)","v":{"$error":"#N/A"}},null,null,null,null,null,null,null,null,null,null,null,null,null,1,"Handlungsbedarf"]
[null,"Anteil Tiere mit zu niedrigem Gewicht: ",null,null,{"$f":"VLOOKUP($B$8,Daten!$A$6:$X$115,13,FALSE)","v":{"$error":"#N/A"}},null,null,null,null,null,null,null,null,null,null,null,null,null,0,"dringender Handlungsbedarf"]
[null,"Anzahl Tiere außerhalb 80%: ",null,null,{"$f":"VLOOKUP($B$8,Daten!$A$6:$X$115,14,FALSE)","v":{"$error":"#N/A"}}]

{"sheet":"Daten","index":2,"n_rows":115,"n_cols":173,"rows_kept":115,"cut":false,"hidden":false,"merged":[[1,0,1,1],[1,2,1,3],[2,0,2,1],[2,2,2,3],[2,9,2,10],[2,4,2,5],[2,6,2,7],[1,4,1,5],[1,6,1,7]]}
[]
["Betriebskennung: ",null,{"$f":"Menü!F23","v":0},null,"Tieranzahl: ",null,{"$f":"Menü!H23","v":0}]
["Stall / Abteil: ",null,{"$f":"Menü!F24","v":0},null,"Herkunft: ",null,{"$f":"Menü!H24","v":0},null,null,"Schlupfdatum: ",null,{"$f":"Menü!J23","v":"00:00:00"}]
[]
["Aufnahme-datum","Lebens-     tag ","Lebens-woche","Anzahl    gewogener Tiere","Mittelwert","Minimum","Maximum","Standart-abweichung","Variationakoeffizient:","Sollgewicht","Sollgewichts-erfüllung","Uniformität","Anteil Tiere mit niedrigem Gewicht","Anzahl Tiere Außerhalb 80%:","Anzahl Tiere Klasse 1:","Anzahl Tiere Klasse 2:","Anzahl Tiere Klasse 3:","Anzahl Tiere Klasse 4:","Anzahl Tiere Klasse 5:","Anzahl Tiere Klasse 6:","Anzahl Tiere Klasse 7:","Anzahl Tiere Klasse 8:","Anzahl Tiere Klasse 9:","Anzahl Tiere Klasse 10:","# 1","# 2","# 3","# 4","# 5","# 6","# 7","# 8","# 9","# 10","# 11","# 12","# 13","# 14","# 15","# 16","# 17","# 18","# 19","# 20","# 21","# 22","# 23","# 24","# 25","# 26","# 27","# 28","# 29","# 30","# 31","# 32","# 33","# 34","# 35","# 36","# 37","# 38","# 39","# 40","# 41","# 42","# 43","# 44","# 45","# 46","# 47","# 48","# 49","# 50","# 51","# 52","# 53","# 54","# 55","# 56","# 57","# 58","# 59","# 60","# 61","# 62","# 63","# 64","# 65","# 66","# 67","# 68","# 69","# 70","# 71","# 72","# 73","# 74","# 75","# 76","# 77","# 78","# 79","# 80","# 81","# 82","# 83","# 84","# 85","# 86","# 87","# 88","# 89","# 90","# 91","# 92","# 93","# 94","# 95","# 96","# 97","# 98","# 99","# 100","# 101","# 102","# 103","# 104","# 105","# 106","# 107","# 108","# 109","# 110","# 111","# 112","# 113","# 114","# 115","# 116","# 117","# 118","# 119","# 120","# 121","# 122","# 123","# 124","# 125","# 126","# 127","# 128","# 129","# 130","# 131","# 132","# 133","# 134","# 135","# 136","# 137","# 138","# 139","# 140","# 141","# 142","# 143","# 144","# 145","# 146","# 147","# 148","# 149"]
[null,{"$f":"A6-L$3","v":0},{"$f":"ROUND(ROUNDUP((A6-L$3)/7,1),1)","v":0},{"$f":"COUNTIF(Y6:FQ6,\">0\")","v":0},{"$f":"ROUND(AVERAGE(Y6:FQ6),0)","v":{"$error":"#DIV/0!"}},{"$f":"MIN(Y6:FQ6)","v":0},{"$f":"MAX(Y6:FQ6)","v":0},{"$f":"ROUND(STDEV(Y6:FQ6),0)","v":{"$error":"#DIV/0!"}},{"$f":"ROUND(H6/E6,4)","v":{"$error":"#DIV/0!"}},{"$f":"VLOOKUP(C6,Gewichtsentwicklung!P$6:R$568,3,FALSE)","v":{"$error":"#N/A"}},{"$f":"ROUND(E6/J6,4)","v":{"$error":"#DIV/0!"}},{"$f":"ROUND((D6-N6)/D6,4)","v":{"$error":"#DIV/0!"}},{"$f":"ROUND(COUNTIF(Y6:FQ6,\"<\"&J6*0.9)/D6,4)","v":{"$error":"#DIV/0!"}},{"$f":"COUNTIF(Y6:FQ6,\"<\"&E6*0.9)+COUNTIF(Y6:FQ6,\">\"&E6*1.1)","v":0},{"$f":"COUNTIF(Y6:FQ6,\">=\"&ROUNDDOWN($F6,-1))-COUNTIF(Y6:FQ6,\">=\"&ROUNDDOWN($F6,-1)+((ROUNDUP($G6,-1)-ROUNDDOWN($F6,-1))/10))","v":0},{"$f":"COUNTIF(Y6:FQ6,\">=\"&ROUNDDOWN($F6,-1)+((ROUNDUP($G6,-1)-ROUNDDOWN($F6,-1))/10))-COUNTIF(Y6:FQ6,\">=\"&ROUNDDOWN($F6,-1)+((ROUNDUP($G6,-1)-ROUNDDOWN($F6,-1))/10*2))","v":0},{"$f":"COUNTIF(Y6:FQ6,\">=\"&ROUNDDOWN($F6,-1)+((ROUNDUP($G6,-1)-ROUNDDOWN($F6,-1))/10*2))-COUNTIF(Y6:FQ6,\">=\"&ROUNDDOWN($F6,-1)+((ROUNDUP($G6,-1)-ROUNDDOWN($F6,-1))/10*3))","v":0},{"$f":"COUNTIF(Y6:FQ6,\">=\"&ROUNDDOWN($F6,-1)+((ROUNDUP($G6,-1)-ROUNDDOWN($F6,-1))/10*3))-COUNTIF(Y6:FQ6,\">=\"&ROUNDDOWN($F6,-1)+((ROUNDUP($G6,-1)-ROUNDDOWN($F6,-1))/10*4))","v":0},{"$f":"COUNTIF(Y6:FQ6,\">=\"&ROUNDDOWN($F6,-1)+((ROUNDUP($G6,-1)-ROUNDDOWN($F6,-1))/10*4))-COUNTIF(Y6:FQ6,\">=\"&ROUNDDOWN($F6,-1)+((ROUNDUP($G6,-1)-ROUNDDOWN($F6,-1))/10*5))","v":0},{"$f":"COUNTIF(Y6:FQ6,\">=\"&ROUNDDOWN($F6,-1)+((ROUNDUP($G6,-1)-ROUNDDOWN($F6,-1))/10*5))-COUNTIF(Y6:FQ6,\">=\"&ROUNDDOWN($F6,-1)+((ROUNDUP($G6,-1)-ROUNDDOWN($F6,-1))/10*6))","v":0},{"$f":"COUNTIF(Y6:FQ6,\">=\"&ROUNDDOWN($F6,-1)+((ROUNDUP($G6,-1)-ROUNDDOWN($F6,-1))/10*6))-COUNTIF(Y6:FQ6,\">=\"&ROUNDDOWN($F6,-1)+((ROUNDUP($G6,-1)-ROUNDDOWN($F6,-1))/10*7))","v":0},{"$f":"COUNTIF(Y6:FQ6,\">=\"&ROUNDDOWN($F6,-1)+((ROUNDUP($G6,-1)-ROUNDDOWN($F6,-1))/10*7))-COUNTIF(Y6:FQ6,\">=\"&ROUNDDOWN($F6,-1)+((ROUNDUP($G6,-1)-ROUNDDOWN($F6,-1))/10*8))","v":0},{"$f":"COUNTIF(Y6:FQ6,\">=\"&ROUNDDOWN($F6,-1)+((ROUNDUP($G6,-1)-ROUNDDOWN($F6,-1))/10*8))-COUNTIF(Y6:FQ6,\">=\"&ROUNDDOWN($F6,-1)+((ROUNDUP($G6,-1)-ROUNDDOWN($F6,-1))/10*9))","v":0},{"$f":"COUNTIF(Y6:FQ6,\">0\"&ROUNDDOWN($F6,-1)+((ROUNDUP($G6,-1)-ROUNDDOWN($F6,-1))/10*9))-COUNTIF(Y6:FQ6,\">\"&ROUNDUP($G6,-1))","v":0}]
[null,0,0,0,{"$error":"#DIV/0!"},0,0,{"$error":"#DIV/0!"},{"$error":"#DIV/0!"},{"$f":"VLOOKUP(C7,Gewichtsentwicklung!P$6:R$568,3,FALSE)","v":{"$error":"#N/A"}},{"$error":"#DIV/0!"},{"$error":"#DIV/0!"},{"$error":"#DIV/0!"},0,0,0,0,0,0,0,0,0,0,0]
[null,0,0,0,{"$error":"#DIV/0!"},0,0,{"$error":"#DIV/0!"},{"$error":"#DIV/0!"},{"$f":"VLOOKUP(C8,Gewichtsentwicklung!P$6:R$568,3,FALSE)","v":{"$error":"#N/A"}},{"$error":"#DIV/0!"},{"$error":"#DIV/0!"},{"$error":"#DIV/0!"},0,0,0,0,0,0,0,0,0,0,0]
[null,0,0,0,{"$error":"#DIV/0!"},0,0,{"$error":"#DIV/0!"},{"$error":"#DIV/0!"},{"$f":"VLOOKUP(C9,Gewichtsentwicklung!P$6:R$568,3,FALSE)","v":{"$error":"#N/A"}},{"$error":"#DIV/0!"},{"$error":"#DIV/0!"},{"$error":"#DIV/0!"},0,0,0,0,0,0,0,0,0,0,0]
[null,0,0,0,{"$error":"#DIV/0!"},0,0,{"$error":"#DIV/0!"},{"$error":"#DIV/0!"},{"$f":"VLOOKUP(C10,Gewichtsentwicklung!P$6:R$568,3,FALSE)","v":{"$error":"#N/A"}},{"$error":"#DIV/0!"},{"$error":"#DIV/0!"},{"$error":"#DIV/0!"},0,0,0,0,0,0,0,0,0,0,0]
[null,0,0,0,{"$error":"#DIV/0!"},0,0,{"$error":"#DIV/0!"},{"$error":"#DIV/0!"},{"$f":"VLOOKUP(C11,Gewichtsentwicklung!P$6:R$568,3,FALSE)","v":{"$error":"#N/A"}},{"$error":"#DIV/0!"},{"$error":"#DIV/0!"},{"$error":"#DIV/0!"},0,0,0,0,0,0,0,0,0,0,0]
[null,0,0,0,{"$error":"#DIV/0!"},0,0,{"$error":"#DIV/0!"},{"$error":"#DIV/0!"},{"$f":"VLOOKUP(C12,Gewichtsentwicklung!P$6:R$568,3,FALSE)","v":{"$error":"#N/A"}},{"$error":"#DIV/0!"},{"$error":"#DIV/0!"},{"$error":"#DIV/0!"},0,0,0,0,0,0,0,0,0,0,0]
[null,0,0,0,{"$error":"#DIV/0!"},0,0,{"$error":"#DIV/0!"},{"$error":"#DIV/0!"},{"$f":"VLOOKUP(C13,Gewichtsentwicklung!P$6:R$568,3,FALSE)","v":{"$error":"#N/A"}},{"$error":"#DIV/0!"},{"$error":"#DIV/0!"},{"$error":"#DIV/0!"},0,0,0,0,0,0,0,0,0,0,0]
[null,0,0,0,{"$error":"#DIV/0!"},0,0,{"$error":"#DIV/0!"},{"$error":"#DIV/0!"},{"$f":"VLOOKUP(C14,Gewichtsentwicklung!P$6:R$568,3,FALSE)","v":{"$error":"#N/A"}},{"$error":"#DIV/0!"},{"$error":"#DIV/0!"},{"$error":"#DIV/0!"},0,0,0,0,0,0,0,0,0,0,0]
[null,0,0,0,{"$error":"#DIV/0!"},0,0,{"$error":"#DIV/0!"},{"$error":"#DIV/0!"},{"$f":"VLOOKUP(C15,Gewichtsentwicklung!P$6:R$568,3,FALSE)","v":{"$error":"#N/A"}},{"$error":"#DIV/0!"},{"$error":"#DIV/0!"},{"$error":"#DIV/0!"},0,0,0,0,0,0,0,0,0,0,0]
[null,0,0,0,{"$error":"#DIV/0!"},0,0,{"$error":"#DIV/0!"},{"$error":"#DIV/0!"},{"$f":"VLOOKUP(C16,Gewichtsentwicklung!P$6:R$568,3,FALSE)","v":{"$error":"#N/A"}},{"$error":"#DIV/0!"},{"$error":"#DIV/0!"},{"$error":"#DIV/0!"},0,0,0,0,0,0,0,0,0,0,0]
[null,0,0,0,{"$error":"#DIV/0!"},0,0,{"$error":"#DIV/0!"},{"$error":"#DIV/0!"},{"$f":"VLOOKUP(C17,Gewichtsentwicklung!P$6:R$568,3,FALSE)","v":{"$error":"#N/A"}},{"$error":"#DIV/0!"},{"$error":"#DIV/0!"},{"$error":"#DIV/0!"},0,0,0,0,0,0,0,0,0,0,0]
[null,0,0,0,{"$error":"#DIV/0!"},0,0,{"$error":"#DIV/0!"},{"$error":"#DIV/0!"},{"$f":"VLOOKUP(C18,Gewichtsentwicklung!P$6:R$568,3,FALSE)","v":{"$error":"#N/A"}},{"$error":"#DIV/0!"},{"$error":"#DIV/0!"},{"$error":"#DIV/0!"},0,0,0,0,0,0,0,0,0,0,0]
[null,0,0,0,{"$error":"#DIV/0!"},0,0,{"$error":"#DIV/0!"},{"$error":"#DIV/0!"},{"$f":"VLOOKUP(C19,Gewichtsentwicklung!P$6:R$568,3,FALSE)","v":{"$error":"#N/A"}},{"$error":"#DIV/0!"},{"$error":"#DIV/0!"},{"$error":"#DIV/0!"},0,0,0,0,0,0,0,0,0,0,0]
[null,0,0,0,{"$error":"#DIV/0!"},0,0,{"$error":"#DIV/0!"},{"$error":"#DIV/0!"},{"$f":"VLOOKUP(C20,Gewichtsentwicklung!P$6:R$568,3,FALSE)","v":{"$error":"#N/A"}},{"$error":"#DIV/0!"},{"$error":"#DIV/0!"},{"$error":"#DIV/0!"},0,0,0,0,0,0,0,0,0,0,0]
[null,0,0,0,{"$error":"#DIV/0!"},0,0,{"$error":"#DIV/0!"},{"$error":"#DIV/0!"},{"$f":"VLOOKUP(C21,Gewichtsentwicklung!P$6:R$568,3,FALSE)","v":{"$error":"#N/A"}},{"$error":"#DIV/0!"},{"$error":"#DIV/0!"},{"$error":"#DIV/0!"},0,0,0,0,0,0,0,0,0,0,0]
[null,0,0,0,{"$error":"#DIV/0!"},0,0,{"$error":"#DIV/0!"},{"$error":"#DIV/0!"},{"$f":"VLOOKUP(C22,Gewichtsentwicklung!P$6:R$568,3,FALSE)","v":{"$error":"#N/A"}},{"$error":"#DIV/0!"},{"$error":"#DIV/0!"},{"$error":"#DIV/0!"},0,0,0,0,0,0,0,0,0,0,0]
[null,0,0,0,{"$error":"#DIV/0!"},0,0,{"$error":"#DIV/0!"},{"$error":"#DIV/0!"},{"$f":"VLOOKUP(C23,Gewichtsentwicklung!P$6:R$568,3,FALSE)","v":{"$error":"#N/A"}},{"$error":"#DIV/0!"},{"$error":"#DIV/0!"},{"$error":"#DIV/0!"},0,0,0,0,0,0,0,0,0,0,0]
[null,0,0,0,{"$error":"#DIV/0!"},0,0,{"$error":"#DIV/0!"},{"$error":"#DIV/0!"},{"$f":"VLOOKUP(C24,Gewichtsentwicklung!P$6:R$568,3,FALSE)","v":{"$error":"#N/A"}},{"$error":"#DIV/0!"},{"$error":"#DIV/0!"},{"$error":"#DIV/0!"},0,0,0,0,0,0,0,0,0,0,0]
[null,0,0,0,{"$error":"#DIV/0!"},0,0,{"$error":"#DIV/0!"},{"$error":"#DIV/0!"},{"$f":"VLOOKUP(C25,Gewichtsentwicklung!P$6:R$568,3,FALSE)","v":{"$error":"#N/A"}},{"$error":"#DIV/0!"},{"$error":"#DIV/0!"},{"$error":"#DIV/0!"},0,0,0,0,0,0,0,0,0,0,0]
[null,0,0,0,{"$error":"#DIV/0!"},0,0,{"$error":"#DIV/0!"},{"$error":"#DIV/0!"},{"$f":"VLOOKUP(C26,Gewichtsentwicklung!P$6:R$568,3,FALSE)","v":{"$error":"#N/A"}},{"$error":"#DIV/0!"},{"$error":"#DIV/0!"},{"$error":"#DIV/0!"},0,0,0,0,0,0,0,0,0,0,0]
[null,0,0,0,{"$error":"#DIV/0!"},0,0,{"$error":"#DIV/0!"},{"$error":"#DIV/0!"},{"$f":"VLOOKUP(C27,Gewichtsentwicklung!P$6:R$568,3,FALSE)","v":{"$error":"#N/A"}},{"$error":"#DIV/0!"},{"$error":"#DIV/0!"},{"$error":"#DIV/0!"},0,0,0,0,0,0,0,0,0,0,0]
[null,0,0,0,{"$error":"#DIV/0!"},0,0,{"$error":"#DIV/0!"},{"$error":"#DIV/0!"},{"$f":"VLOOKUP(C28,Gewichtsentwicklung!P$6:R$568,3,FALSE)","v":{"$error":"#N/A"}},{"$error":"#DIV/0!"},{"$error":"#DIV/0!"},{"$error":"#DIV/0!"},0,0,0,0,0,0,0,0,0,0,0]
[null,0,0,0,{"$error":"#DIV/0!"},0,0,{"$error":"#DIV/0!"},{"$error":"#DIV/0!"},{"$f":"VLOOKUP(C29,Gewichtsentwicklung!P$6:R$568,3,FALSE)","v":{"$error":"#N/A"}},{"$error":"#DIV/0!"},{"$error":"#DIV/0!"},{"$error":"#DIV/0!"},0,0,0,0,0,0,0,0,0,0,0]
[null,0,0,0,{"$error":"#DIV/0!"},0,0,{"$error":"#DIV/0!"},{"$error":"#DIV/0!"},{"$f":"VLOOKUP(C30,Gewichtsentwicklung!P$6:R$568,3,FALSE)","v":{"$error":"#N/A"}},{"$error":"#DIV/0!"},{"$error":"#DIV/0!"},{"$error":"#DIV/0!"},0,0,0,0,0,0,0,0,0,0,0]
[null,0,0,0,{"$error":"#DIV/0!"},0,0,{"$error":"#DIV/0!"},{"$error":"#DIV/0!"},{"$f":"VLOOKUP(C31,Gewichtsentwicklung!P$6:R$568,3,FALSE)","v":{"$error":"#N/A"}},{"$error":"#DIV/0!"},{"$error":"#DIV/0!"},{"$error":"#DIV/0!"},0,0,0,0,0,0,0,0,0,0,0]
[null,0,0,0,{"$error":"#DIV/0!"},0,0,{"$error":"#DIV/0!"},{"$error":"#DIV/0!"},{"$f":"VLOOKUP(C32,Gewichtsentwicklung!P$6:R$568,3,FALSE)","v":{"$error":"#N/A"}},{"$error":"#DIV/0!"},{"$error":"#DIV/0!"},{"$error":"#DIV/0!"},0,0,0,0,0,0,0,0,0,0,0]
[null,0,0,0,{"$error":"#DIV/0!"},0,0,{"$error":"#DIV/0!"},{"$error":"#DIV/0!"},{"$f":"VLOOKUP(C33,Gewichtsentwicklung!P$6:R$568,3,FALSE)","v":{"$error":"#N/A"}},{"$error":"#DIV/0!"},{"$error":"#DIV/0!"},{"$error":"#DIV/0!"},0,0,0,0,0,0,0,0,0,0,0]
[null,0,0,0,{"$error":"#DIV/0!"},0,0,{"$error":"#DIV/0!"},{"$error":"#DIV/0!"},{"$f":"VLOOKUP(C34,Gewichtsentwicklung!P$6:R$568,3,FALSE)","v":{"$error":"#N/A"}},{"$error":"#DIV/0!"},{"$error":"#DIV/0!"},{"$error":"#DIV/0!"},0,0,0,0,0,0,0,0,0,0,0]
[null,0,0,0,{"$error":"#DIV/0!"},0,0,{"$error":"#DIV/0!"},{"$error":"#DIV/0!"},{"$f":"VLOOKUP(C35,Gewichtsentwicklung!P$6:R$568,3,FALSE)","v":{"$error":"#N/A"}},{"$error":"#DIV/0!"},{"$error":"#DIV/0!"},{"$error":"#DIV/0!"},0,0,0,0,0,0,0,0,0,0,0]
[null,0,0,0,{"$error":"#DIV/0!"},0,0,{"$error":"#DIV/0!"},{"$error":"#DIV/0!"},{"$f":"VLOOKUP(C36,Gewichtsentwicklung!P$6:R$568,3,FALSE)","v":{"$error":"#N/A"}},{"$error":"#DIV/0!"},{"$error":"#DIV/0!"},{"$error":"#DIV/0!"},0,0,0,0,0,0,0,0,0,0,0]
[null,0,0,0,{"$error":"#DIV/0!"},0,0,{"$error":"#DIV/0!"},{"$error":"#DIV/0!"},{"$f":"VLOOKUP(C37,Gewichtsentwicklung!P$6:R$568,3,FALSE)","v":{"$error":"#N/A"}},{"$error":"#DIV/0!"},{"$error":"#DIV/0!"},{"$error":"#DIV/0!"},0,0,0,0,0,0,0,0,0,0,0]
[null,{"$f":"A38-L$3","v":0},{"$f":"ROUND(ROUNDUP((A38-L$3)/7,1),1)","v":0},{"$f":"COUNTIF(Y38:FQ38,\">0\")","v":0},{"$f":"ROUND(AVERAGE(Y38:FQ38),0)","v":{"$error":"#DIV/0!"}},{"$f":"MIN(Y38:FQ38)","v":0},{"$f":"MAX(Y38:FQ38)","v":0},{"$f":"ROUND(STDEV(Y38:FQ38),0)","v":{"$error":"#DIV/0!"}},{"$f":"ROUND(H38/E38,4)","v":{"$error":"#DIV/0!"}},{"$f":"VLOOKUP(C38,Gewichtsentwicklung!P$6:R$568,3,FALSE)","v":{"$error":"#N/A"}},{"$f":"ROUND(E38/J38,4)","v":{"$error":"#DIV/0!"}},{"$f":"ROUND((D38-N38)/D38,4)","v":{"$error":"#DIV/0!"}},{"$f":"ROUND(COUNTIF(Y38:FQ38,\"<\"&J38*0.9)/D38,4)","v":{"$error":"#DIV/0!"}},{"$f":"COUNTIF(Y38:FQ38,\"<\"&E38*0.9)+COUNTIF(Y38:FQ38,\">\"&E38*1.1)","v":0},{"$f":"COUNTIF(Y38:FQ38,\">=\"&ROUNDDOWN($F38,-1))-COUNTIF(Y38:FQ38,\">=\"&ROUNDDOWN($F38,-1)+((ROUNDUP($G38,-1)-ROUNDDOWN($F38,-1))/10))","v":0},{"$f":"COUNTIF(Y38:FQ38,\">=\"&ROUNDDOWN($F38,-1)+((ROUNDUP($G38,-1)-ROUNDDOWN($F38,-1))/10))-COUNTIF(Y38:FQ38,\">=\"&ROUNDDOWN($F38,-1)+((ROUNDUP($G38,-1)-ROUNDDOWN($F38,-1))/10*2))","v":0},{"$f":"COUNTIF(Y38:FQ38,\">=\"&ROUNDDOWN($F38,-1)+((ROUNDUP($G38,-1)-ROUNDDOWN($F38,-1))/10*2))-COUNTIF(Y38:FQ38,\">=\"&ROUNDDOWN($F38,-1)+((ROUNDUP($G38,-1)-ROUNDDOWN($F38,-1))/10*3))","v":0},{"$f":"COUNTIF(Y38:FQ38,\">=\"&ROUNDDOWN($F38,-1)+((ROUNDUP($G38,-1)-ROUNDDOWN($F38,-1))/10*3))-COUNTIF(Y38:FQ38,\">=\"&ROUNDDOWN($F38,-1)+((ROUNDUP($G38,-1)-ROUNDDOWN($F38,-1))/10*4))","v":0},{"$f":"COUNTIF(Y38:FQ38,\">=\"&ROUNDDOWN($F38,-1)+((ROUNDUP($G38,-1)-ROUNDDOWN($F38,-1))/10*4))-COUNTIF(Y38:FQ38,\">=\"&ROUNDDOWN($F38,-1)+((ROUNDUP($G38,-1)-ROUNDDOWN($F38,-1))/10*5))","v":0},{"$f":"COUNTIF(Y38:FQ38,\">=\"&ROUNDDOWN($F38,-1)+((ROUNDUP($G38,-1)-ROUNDDOWN($F38,-1))/10*5))-COUNTIF(Y38:FQ38,\">=\"&ROUNDDOWN($F38,-1)+((ROUNDUP($G38,-1)-ROUNDDOWN($F38,-1))/10*6))","v":0},{"$f":"COUNTIF(Y38:FQ38,\">=\"&ROUNDDOWN($F38,-1)+((ROUNDUP($G38,-1)-ROUNDDOWN($F38,-1))/10*6))-COUNTIF(Y38:FQ38,\">=\"&ROUNDDOWN($F38,-1)+((ROUNDUP($G38,-1)-ROUNDDOWN($F38,-1))/10*7))","v":0},{"$f":"COUNTIF(Y38:FQ38,\">=\"&ROUNDDOWN($F38,-1)+((ROUNDUP($G38,-1)-ROUNDDOWN($F38,-1))/10*7))-COUNTIF(Y38:FQ38,\">=\"&ROUNDDOWN($F38,-1)+((ROUNDUP($G38,-1)-ROUNDDOWN($F38,-1))/10*8))","v":0},{"$f":"COUNTIF(Y38:FQ38,\">=\"&ROUNDDOWN($F38,-1)+((ROUNDUP($G38,-1)-ROUNDDOWN($F38,-1))/10*8))-COUNTIF(Y38:FQ38,\">=\"&ROUNDDOWN($F38,-1)+((ROUNDUP($G38,-1)-ROUNDDOWN($F38,-1))/10*9))","v":0},{"$f":"COUNTIF(Y38:FQ38,\">0\"&ROUNDDOWN($F38,-1)+((ROUNDUP($G38,-1)-ROUNDDOWN($F38,-1))/10*9))-COUNTIF(Y38:FQ38,\">\"&ROUNDUP($G38,-1))","v":0}]
[null,0,0,0,{"$error":"#DIV/0!"},0,0,{"$error":"#DIV/0!"},{"$error":"#DIV/0!"},{"$f":"VLOOKUP(C39,Gewichtsentwicklung!P$6:R$568,3,FALSE)","v":{"$error":"#N/A"}},{"$error":"#DIV/0!"},{"$error":"#DIV/0!"},{"$error":"#DIV/0!"},0,0,0,0,0,0,0,0,0,0,0]
[null,0,0,0,{"$error":"#DIV/0!"},0,0,{"$error":"#DIV/0!"},{"$error":"#DIV/0!"},{"$f":"VLOOKUP(C40,Gewichtsentwicklung!P$6:R$568,3,FALSE)","v":{"$error":"#N/A"}},{"$error":"#DIV/0!"},{"$error":"#DIV/0!"},{"$error":"#DIV/0!"},0,0,0,0,0,0,0,0,0,0,0]
[null,0,0,0,{"$error":"#DIV/0!"},0,0,{"$error":"#DIV/0!"},{"$error":"#DIV/0!"},{"$f":"VLOOKUP(C41,Gewichtsentwicklung!P$6:R$568,3,FALSE)","v":{"$error":"#N/A"}},{"$error":"#DIV/0!"},{"$error":"#DIV/0!"},{"$error":"#DIV/0!"},0,0,0,0,0,0,0,0,0,0,0]
[null,0,0,0,{"$error":"#DIV/0!"},0,0,{"$error":"#DIV/0!"},{"$error":"#DIV/0!"},{"$f":"VLOOKUP(C42,Gewichtsentwicklung!P$6:R$568,3,FALSE)","v":{"$error":"#N/A"}},{"$error":"#DIV/0!"},{"$error":"#DIV/0!"},{"$error":"#DIV/0!"},0,0,0,0,0,0,0,0,0,0,0]
[null,0,0,0,{"$error":"#DIV/0!"},0,0,{"$error":"#DIV/0!"},{"$error":"#DIV/0!"},{"$f":"VLOOKUP(C43,Gewichtsentwicklung!P$6:R$568,3,FALSE)","v":{"$error":"#N/A"}},{"$error":"#DIV/0!"},{"$error":"#DIV/0!"},{"$error":"#DIV/0!"},0,0,0,0,0,0,0,0,0,0,0]
[null,0,0,0,{"$error":"#DIV/0!"},0,0,{"$error":"#DIV/0!"},{"$error":"#DIV/0!"},{"$f":"VLOOKUP(C44,Gewichtsentwicklung!P$6:R$568,3,FALSE)","v":{"$error":"#N/A"}},{"$error":"#DIV/0!"},{"$error":"#DIV/0!"},{"$error":"#DIV/0!"},0,0,0,0,0,0,0,0,0,0,0]
[null,0,0,0,{"$error":"#DIV/0!"},0,0,{"$error":"#DIV/0!"},{"$error":"#DIV/0!"},{"$f":"VLOOKUP(C45,Gewichtsentwicklung!P$6:R$568,3,FALSE)","v":{"$error":"#N/A"}},{"$error":"#DIV/0!"},{"$error":"#DIV/0!"},{"$error":"#DIV/0!"},0,0,0,0,0,0,0,0,0,0,0]
[null,0,0,0,{"$error":"#DIV/0!"},0,0,{"$error":"#DIV/0!"},{"$error":"#DIV/0!"},{"$f":"VLOOKUP(C46,Gewichtsentwicklung!P$6:R$568,3,FALSE)","v":{"$error":"#N/A"}},{"$error":"#DIV/0!"},{"$error":"#DIV/0!"},{"$error":"#DIV/0!"},0,0,0,0,0,0,0,0,0,0,0]
[null,0,0,0,{"$error":"#DIV/0!"},0,0,{"$error":"#DIV/0!"},{"$error":"#DIV/0!"},{"$f":"VLOOKUP(C47,Gewichtsentwicklung!P$6:R$568,3,FALSE)","v":{"$error":"#N/A"}},{"$error":"#DIV/0!"},{"$error":"#DIV/0!"},{"$error":"#DIV/0!"},0,0,0,0,0,0,0,0,0,0,0]
[null,0,0,0,{"$error":"#DIV/0!"},0,0,{"$error":"#DIV/0!"},{"$error":"#DIV/0!"},{"$f":"VLOOKUP(C48,Gewichtsentwicklung!P$6:R$568,3,FALSE)","v":{"$error":"#N/A"}},{"$error":"#DIV/0!"},{"$error":"#DIV/0!"},{"$error":"#DIV/0!"},0,0,0,0,0,0,0,0,0,0,0]
[null,0,0,0,{"$error":"#DIV/0!"},0,0,{"$error":"#DIV/0!"},{"$error":"#DIV/0!"},{"$f":"VLOOKUP(C49,Gewichtsentwicklung!P$6:R$568,3,FALSE)","v":{"$error":"#N/A"}},{"$error":"#DIV/0!"},{"$error":"#DIV/0!"},{"$error":"#DIV/0!"},0,0,0,0,0,0,0,0,0,0,0]
[null,0,0,0,{"$error":"#DIV/0!"},0,0,{"$error":"#DIV/0!"},{"$error":"#DIV/0!"},{"$f":"VLOOKUP(C50,Gewichtsentwicklung!P$6:R$568,3,FALSE)","v":{"$error":"#N/A"}},{"$error":"#DIV/0!"},{"$error":"#DIV/0!"},{"$error":"#DIV/0!"},0,0,0,0,0,0,0,0,0,0,0]
[null,0,0,0,{"$error":"#DIV/0!"},0,0,{"$error":"#DIV/0!"},{"$error":"#DIV/0!"},{"$f":"VLOOKUP(C51,Gewichtsentwicklung!P$6:R$568,3,FALSE)","v":{"$error":"#N/A"}},{"$error":"#DIV/0!"},{"$error":"#DIV/0!"},{"$error":"#DIV/0!"},0,0,0,0,0,0,0,0,0,0,0]
[null,0,0,0,{"$error":"#DIV/0!"},0,0,{"$error":"#DIV/0!"},{"$error":"#DIV/0!"},{"$f":"VLOOKUP(C52,Gewichtsentwicklung!P$6:R$568,3,FALSE)","v":{"$error":"#N/A"}},{"$error":"#DIV/0!"},{"$error":"#DIV/0!"},{"$error":"#DIV/0!"},0,0,0,0,0,0,0,0,0,0,0]
[null,0,0,0,{"$error":"#DIV/0!"},0,0,{"$error":"#DIV/0!"},{"$error":"#DIV/0!"},{"$f":"VLOOKUP(C53,Gewichtsentwicklung!P$6:R$568,3,FALSE)","v":{"$error":"#N/A"}},{"$error":"#DIV/0!"},{"$error":"#DIV/0!"},{"$error":"#DIV/0!"},0,0,0,0,0,0,0,0,0,0,0]
[null,0,0,0,{"$error":"#DIV/0!"},0,0,{"$error":"#DIV/0!"},{"$error":"#DIV/0!"},{"$f":"VLOOKUP(C54,Gewichtsentwicklung!P$6:R$568,3,FALSE)","v":{"$error":"#N/A"}},{"$error":"#DIV/0!"},{"$error":"#DIV/0!"},{"$error":"#DIV/0!"},0,0,0,0,0,0,0,0,0,0,0]
[null,0,0,0,{"$error":"#DIV/0!"},0,0,{"$error":"#DIV/0!"},{"$error":"#DIV/0!"},{"$f":"VLOOKUP(C55,Gewichtsentwicklung!P$6:R$568,3,FALSE)","v":{"$error":"#N/A"}},{"$error":"#DIV/0!"},{"$error":"#DIV/0!"},{"$error":"#DIV/0!"},0,0,0,0,0,0,0,0,0,0,0]
[null,0,0,0,{"$error":"#DIV/0!"},0,0,{"$error":"#DIV/0!"},{"$error":"#DIV/0!"},{"$f":"VLOOKUP(C56,Gewichtsentwicklung!P$6:R$568,3,FALSE)","v":{"$error":"#N/A"}},{"$error":"#DIV/0!"},{"$error":"#DIV/0!"},{"$error":"#DIV/0!"},0,0,0,0,0,0,0,0,0,0,0]
[null,0,0,0,{"$error":"#DIV/0!"},0,0,{"$error":"#DIV/0!"},{"$error":"#DIV/0!"},{"$f":"VLOOKUP(C57,Gewichtsentwicklung!P$6:R$568,3,FALSE)","v":{"$error":"#N/A"}},{"$error":"#DIV/0!"},{"$error":"#DIV/0!"},{"$error":"#DIV/0!"},0,0,0,0,0,0,0,0,0,0,0]
[null,0,0,0,{"$error":"#DIV/0!"},0,0,{"$error":"#DIV/0!"},{"$error":"#DIV/0!"},{"$f":"VLOOKUP(C58,Gewichtsentwicklung!P$6:R$568,3,FALSE)","v":{"$error":"#N/A"}},{"$error":"#DIV/0!"},{"$error":"#DIV/0!"},{"$error":"#DIV/0!"},0,0,0,0,0,0,0,0,0,0,0]
[null,0,0,0,{"$error":"#DIV/0!"},0,0,{"$error":"#DIV/0!"},{"$error":"#DIV/0!"},{"$f":"VLOOKUP(C59,Gewichtsentwicklung!P$6:R$568,3,FALSE)","v":{"$error":"#N/A"}},{"$error":"#DIV/0!"},{"$error":"#DIV/0!"},{"$error":"#DIV/0!"},0,0,0,0,0,0,0,0,0,0,0]
[null,0,0,0,{"$error":"#DIV/0!"},0,0,{"$error":"#DIV/0!"},{"$error":"#DIV/0!"},{"$f":"VLOOKUP(C60,Gewichtsentwicklung!P$6:R$568,3,FALSE)","v":{"$error":"#N/A"}},{"$error":"#DIV/0!"},{"$error":"#DIV/0!"},{"$error":"#DIV/0!"},0,0,0,0,0,0,0,0,0,0,0]
[null,0,0,0,{"$error":"#DIV/0!"},0,0,{"$error":"#DIV/0!"},{"$error":"#DIV/0!"},{"$f":"VLOOKUP(C61,Gewichtsentwicklung!P$6:R$568,3,FALSE)","v":{"$error":"#N/A"}},{"$error":"#DIV/0!"},{"$error":"#DIV/0!"},{"$error":"#DIV/0!"},0,0,0,0,0,0,0,0,0,0,0]
[null,0,0,0,{"$error":"#DIV/0!"},0,0,{"$error":"#DIV/0!"},{"$error":"#DIV/0!"},{"$f":"VLOOKUP(C62,Gewichtsentwicklung!P$6:R$568,3,FALSE)","v":{"$error":"#N/A"}},{"$error":"#DIV/0!"},{"$error":"#DIV/0!"},{"$error":"#DIV/0!"},0,0,0,0,0,0,0,0,0,0,0]
[null,0,0,0,{"$error":"#DIV/0!"},0,0,{"$error":"#DIV/0!"},{"$error":"#DIV/0!"},{"$f":"VLOOKUP(C63,Gewichtsentwicklung!P$6:R$568,3,FALSE)","v":{"$error":"#N/A"}},{"$error":"#DIV/0!"},{"$error":"#DIV/0!"},{"$error":"#DIV/0!"},0,0,0,0,0,0,0,0,0,0,0]
[null,0,0,0,{"$error":"#DIV/0!"},0,0,{"$error":"#DIV/0!"},{"$error":"#DIV/0!"},{"$f":"VLOOKUP(C64,Gewichtsentwicklung!P$6:R$568,3,FALSE)","v":{"$error":"#N/A"}},{"$error":"#DIV/0!"},{"$error":"#DIV/0!"},{"$error":"#DIV/0!"},0,0,0,0,0,0,0,0,0,0,0]
[null,0,0,0,{"$error":"#DIV/0!"},0,0,{"$error":"#DIV/0!"},{"$error":"#DIV/0!"},{"$f":"VLOOKUP(C65,Gewichtsentwicklung!P$6:R$568,3,FALSE)","v":{"$error":"#N/A"}},{"$error":"#DIV/0!"},{"$error":"#DIV/0!"},{"$error":"#DIV/0!"},0,0,0,0,0,0,0,0,0,0,0]
[null,0,0,0,{"$error":"#DIV/0!"},0,0,{"$error":"#DIV/0!"},{"$error":"#DIV/0!"},{"$f":"VLOOKUP(C66,Gewichtsentwicklung!P$6:R$568,3,FALSE)","v":{"$error":"#N/A"}},{"$error":"#DIV/0!"},{"$error":"#DIV/0!"},{"$error":"#DIV/0!"},0,0,0,0,0,0,0,0,0,0,0]
[null,0,0,0,{"$error":"#DIV/0!"},0,0,{"$error":"#DIV/0!"},{"$error":"#DIV/0!"},{"$f":"VLOOKUP(C67,Gewichtsentwicklung!P$6:R$568,3,FALSE)","v":{"$error":"#N/A"}},{"$error":"#DIV/0!"},{"$error":"#DIV/0!"},{"$error":"#DIV/0!"},0,0,0,0,0,0,0,0,0,0,0]
[null,0,0,0,{"$error":"#DIV/0!"},0,0,{"$error":"#DIV/0!"},{"$error":"#DIV/0!"},{"$f":"VLOOKUP(C68,Gewichtsentwicklung!P$6:R$568,3,FALSE)","v":{"$error":"#N/A"}},{"$error":"#DIV/0!"},{"$error":"#DIV/0!"},{"$error":"#DIV/0!"},0,0,0,0,0,0,0,0,0,0,0]
[null,0,0,0,{"$error":"#DIV/0!"},0,0,{"$error":"#DIV/0!"},{"$error":"#DIV/0!"},{"$f":"VLOOKUP(C69,Gewichtsentwicklung!P$6:R$568,3,FALSE)","v":{"$error":"#N/A"}},{"$error":"#DIV/0!"},{"$error":"#DIV/0!"},{"$error":"#DIV/0!"},0,0,0,0,0,0,0,0,0,0,0]
[null,{"$f":"A70-L$3","v":0},{"$f":"ROUND(ROUNDUP((A70-L$3)/7,1),1)","v":0},{"$f":"COUNTIF(Y70:FQ70,\">0\")","v":0},{"$f":"ROUND(AVERAGE(Y70:FQ70),0)","v":{"$error":"#DIV/0!"}},{"$f":"MIN(Y70:FQ70)","v":0},{"$f":"MAX(Y70:FQ70)","v":0},{"$f":"ROUND(STDEV(Y70:FQ70),0)","v":{"$error":"#DIV/0!"}},{"$f":"ROUND(H70/E70,4)","v":{"$error":"#DIV/0!"}},{"$f":"VLOOKUP(C70,Gewichtsentwicklung!P$6:R$568,3,FALSE)","v":{"$error":"#N/A"}},{"$f":"ROUND(E70/J70,4)","v":{"$error":"#DIV/0!"}},{"$f":"ROUND((D70-N70)/D70,4)","v":{"$error":"#DIV/0!"}},{"$f":"ROUND(COUNTIF(Y70:FQ70,\"<\"&J70*0.9)/D70,4)","v":{"$error":"#DIV/0!"}},{"$f":"COUNTIF(Y70:FQ70,\"<\"&E70*0.9)+COUNTIF(Y70:FQ70,\">\"&E70*1.1)","v":0},{"$f":"COUNTIF(Y70:FQ70,\">=\"&ROUNDDOWN($F70,-1))-COUNTIF(Y70:FQ70,\">=\"&ROUNDDOWN($F70,-1)+((ROUNDUP($G70,-1)-ROUNDDOWN($F70,-1))/10))","v":0},{"$f":"COUNTIF(Y70:FQ70,\">=\"&ROUNDDOWN($F70,-1)+((ROUNDUP($G70,-1)-ROUNDDOWN($F70,-1))/10))-COUNTIF(Y70:FQ70,\">=\"&ROUNDDOWN($F70,-1)+((ROUNDUP($G70,-1)-ROUNDDOWN($F70,-1))/10*2))","v":0},{"$f":"COUNTIF(Y70:FQ70,\">=\"&ROUNDDOWN($F70,-1)+((ROUNDUP($G70,-1)-ROUNDDOWN($F70,-1))/10*2))-COUNTIF(Y70:FQ70,\">=\"&ROUNDDOWN($F70,-1)+((ROUNDUP($G70,-1)-ROUNDDOWN($F70,-1))/10*3))","v":0},{"$f":"COUNTIF(Y70:FQ70,\">=\"&ROUNDDOWN($F70,-1)+((ROUNDUP($G70,-1)-ROUNDDOWN($F70,-1))/10*3))-COUNTIF(Y70:FQ70,\">=\"&ROUNDDOWN($F70,-1)+((ROUNDUP($G70,-1)-ROUNDDOWN($F70,-1))/10*4))","v":0},{"$f":"COUNTIF(Y70:FQ70,\">=\"&ROUNDDOWN($F70,-1)+((ROUNDUP($G70,-1)-ROUNDDOWN($F70,-1))/10*4))-COUNTIF(Y70:FQ70,\">=\"&ROUNDDOWN($F70,-1)+((ROUNDUP($G70,-1)-ROUNDDOWN($F70,-1))/10*5))","v":0},{"$f":"COUNTIF(Y70:FQ70,\">=\"&ROUNDDOWN($F70,-1)+((ROUNDUP($G70,-1)-ROUNDDOWN($F70,-1))/10*5))-COUNTIF(Y70:FQ70,\">=\"&ROUNDDOWN($F70,-1)+((ROUNDUP($G70,-1)-ROUNDDOWN($F70,-1))/10*6))","v":0},{"$f":"COUNTIF(Y70:FQ70,\">=\"&ROUNDDOWN($F70,-1)+((ROUNDUP($G70,-1)-ROUNDDOWN($F70,-1))/10*6))-COUNTIF(Y70:FQ70,\">=\"&ROUNDDOWN($F70,-1)+((ROUNDUP($G70,-1)-ROUNDDOWN($F70,-1))/10*7))","v":0},{"$f":"COUNTIF(Y70:FQ70,\">=\"&ROUNDDOWN($F70,-1)+((ROUNDUP($G70,-1)-ROUNDDOWN($F70,-1))/10*7))-COUNTIF(Y70:FQ70,\">=\"&ROUNDDOWN($F70,-1)+((ROUNDUP($G70,-1)-ROUNDDOWN($F70,-1))/10*8))","v":0},{"$f":"COUNTIF(Y70:FQ70,\">=\"&ROUNDDOWN($F70,-1)+((ROUNDUP($G70,-1)-ROUNDDOWN($F70,-1))/10*8))-COUNTIF(Y70:FQ70,\">=\"&ROUNDDOWN($F70,-1)+((ROUNDUP($G70,-1)-ROUNDDOWN($F70,-1))/10*9))","v":0},{"$f":"COUNTIF(Y70:FQ70,\">0\"&ROUNDDOWN($F70,-1)+((ROUNDUP($G70,-1)-ROUNDDOWN($F70,-1))/10*9))-COUNTIF(Y70:FQ70,\">\"&ROUNDUP($G70,-1))","v":0}]
[null,0,0,0,{"$error":"#DIV/0!"},0,0,{"$error":"#DIV/0!"},{"$error":"#DIV/0!"},{"$f":"VLOOKUP(C71,Gewichtsentwicklung!P$6:R$568,3,FALSE)","v":{"$error":"#N/A"}},{"$error":"#DIV/0!"},{"$error":"#DIV/0!"},{"$error":"#DIV/0!"},0,0,0,0,0,0,0,0,0,0,0]
[null,0,0,0,{"$error":"#DIV/0!"},0,0,{"$error":"#DIV/0!"},{"$error":"#DIV/0!"},{"$f":"VLOOKUP(C72,Gewichtsentwicklung!P$6:R$568,3,FALSE)","v":{"$error":"#N/A"}},{"$error":"#DIV/0!"},{"$error":"#DIV/0!"},{"$error":"#DIV/0!"},0,0,0,0,0,0,0,0,0,0,0]
[null,0,0,0,{"$error":"#DIV/0!"},0,0,{"$error":"#DIV/0!"},{"$error":"#DIV/0!"},{"$f":"VLOOKUP(C73,Gewichtsentwicklung!P$6:R$568,3,FALSE)","v":{"$error":"#N/A"}},{"$error":"#DIV/0!"},{"$error":"#DIV/0!"},{"$error":"#DIV/0!"},0,0,0,0,0,0,0,0,0,0,0]
[null,0,0,0,{"$error":"#DIV/0!"},0,0,{"$error":"#DIV/0!"},{"$error":"#DIV/0!"},{"$f":"VLOOKUP(C74,Gewichtsentwicklung!P$6:R$568,3,FALSE)","v":{"$error":"#N/A"}},{"$error":"#DIV/0!"},{"$error":"#DIV/0!"},{"$error":"#DIV/0!"},0,0,0,0,0,0,0,0,0,0,0]
[null,0,0,0,{"$error":"#DIV/0!"},0,0,{"$error":"#DIV/0!"},{"$error":"#DIV/0!"},{"$f":"VLOOKUP(C75,Gewichtsentwicklung!P$6:R$568,3,FALSE)","v":{"$error":"#N/A"}},{"$error":"#DIV/0!"},{"$error":"#DIV/0!"},{"$error":"#DIV/0!"},0,0,0,0,0,0,0,0,0,0,0]
[null,0,0,0,{"$error":"#DIV/0!"},0,0,{"$error":"#DIV/0!"},{"$error":"#DIV/0!"},{"$f":"VLOOKUP(C76,Gewichtsentwicklung!P$6:R$568,3,FALSE)","v":{"$error":"#N/A"}},{"$error":"#DIV/0!"},{"$error":"#DIV/0!"},{"$error":"#DIV/0!"},0,0,0,0,0,0,0,0,0,0,0]
[null,0,0,0,{"$error":"#DIV/0!"},0,0,{"$error":"#DIV/0!"},{"$error":"#DIV/0!"},{"$f":"VLOOKUP(C77,Gewichtsentwicklung!P$6:R$568,3,FALSE)","v":{"$error":"#N/A"}},{"$error":"#DIV/0!"},{"$error":"#DIV/0!"},{"$error":"#DIV/0!"},0,0,0,0,0,0,0,0,0,0,0]
[null,0,0,0,{"$error":"#DIV/0!"},0,0,{"$error":"#DIV/0!"},{"$error":"#DIV/0!"},{"$f":"VLOOKUP(C78,Gewichtsentwicklung!P$6:R$568,3,FALSE)","v":{"$error":"#N/A"}},{"$error":"#DIV/0!"},{"$error":"#DIV/0!"},{"$error":"#DIV/0!"},0,0,0,0,0,0,0,0,0,0,0]
[null,0,0,0,{"$error":"#DIV/0!"},0,0,{"$error":"#DIV/0!"},{"$error":"#DIV/0!"},{"$f":"VLOOKUP(C79,Gewichtsentwicklung!P$6:R$568,3,FALSE)","v":{"$error":"#N/A"}},{"$error":"#DIV/0!"},{"$error":"#DIV/0!"},{"$error":"#DIV/0!"},0,0,0,0,0,0,0,0,0,0,0]
[null,0,0,0,{"$error":"#DIV/0!"},0,0,{"$error":"#DIV/0!"},{"$error":"#DIV/0!"},{"$f":"VLOOKUP(C80,Gewichtsentwicklung!P$6:R$568,3,FALSE)","v":{"$error":"#N/A"}},{"$error":"#DIV/0!"},{"$error":"#DIV/0!"},{"$error":"#DIV/0!"},0,0,0,0,0,0,0,0,0,0,0]
[null,0,0,0,{"$error":"#DIV/0!"},0,0,{"$error":"#DIV/0!"},{"$error":"#DIV/0!"},{"$f":"VLOOKUP(C81,Gewichtsentwicklung!P$6:R$568,3,FALSE)","v":{"$error":"#N/A"}},{"$error":"#DIV/0!"},{"$error":"#DIV/0!"},{"$error":"#DIV/0!"},0,0,0,0,0,0,0,0,0,0,0]
[null,0,0,0,{"$error":"#DIV/0!"},0,0,{"$error":"#DIV/0!"},{"$error":"#DIV/0!"},{"$f":"VLOOKUP(C82,Gewichtsentwicklung!P$6:R$568,3,FALSE)","v":{"$error":"#N/A"}},{"$error":"#DIV/0!"},{"$error":"#DIV/0!"},{"$error":"#DIV/0!"},0,0,0,0,0,0,0,0,0,0,0]
[null,0,0,0,{"$error":"#DIV/0!"},0,0,{"$error":"#DIV/0!"},{"$error":"#DIV/0!"},{"$f":"VLOOKUP(C83,Gewichtsentwicklung!P$6:R$568,3,FALSE)","v":{"$error":"#N/A"}},{"$error":"#DIV/0!"},{"$error":"#DIV/0!"},{"$error":"#DIV/0!"},0,0,0,0,0,0,0,0,0,0,0]
[null,0,0,0,{"$error":"#DIV/0!"},0,0,{"$error":"#DIV/0!"},{"$error":"#DIV/0!"},{"$f":"VLOOKUP(C84,Gewichtsentwicklung!P$6:R$568,3,FALSE)","v":{"$error":"#N/A"}},{"$error":"#DIV/0!"},{"$error":"#DIV/0!"},{"$error":"#DIV/0!"},0,0,0,0,0,0,0,0,0,0,0]
[null,0,0,0,{"$error":"#DIV/0!"},0,0,{"$error":"#DIV/0!"},{"$error":"#DIV/0!"},{"$f":"VLOOKUP(C85,Gewichtsentwicklung!P$6:R$568,3,FALSE)","v":{"$error":"#N/A"}},{"$error":"#DIV/0!"},{"$error":"#DIV/0!"},{"$error":"#DIV/0!"},0,0,0,0,0,0,0,0,0,0,0]
[null,0,0,0,{"$error":"#DIV/0!"},0,0,{"$error":"#DIV/0!"},{"$error":"#DIV/0!"},{"$f":"VLOOKUP(C86,Gewichtsentwicklung!P$6:R$568,3,FALSE)","v":{"$error":"#N/A"}},{"$error":"#DIV/0!"},{"$error":"#DIV/0!"},{"$error":"#DIV/0!"},0,0,0,0,0,0,0,0,0,0,0]
[null,0,0,0,{"$error":"#DIV/0!"},0,0,{"$error":"#DIV/0!"},{"$error":"#DIV/0!"},{"$f":"VLOOKUP(C87,Gewichtsentwicklung!P$6:R$568,3,FALSE)","v":{"$error":"#N/A"}},{"$error":"#DIV/0!"},{"$error":"#DIV/0!"},{"$error":"#DIV/0!"},0,0,0,0,0,0,0,0,0,0,0]
[null,0,0,0,{"$error":"#DIV/0!"},0,0,{"$error":"#DIV/0!"},{"$error":"#DIV/0!"},{"$f":"VLOOKUP(C88,Gewichtsentwicklung!P$6:R$568,3,FALSE)","v":{"$error":"#N/A"}},{"$error":"#DIV/0!"},{"$error":"#DIV/0!"},{"$error":"#DIV/0!"},0,0,0,0,0,0,0,0,0,0,0]
[null,0,0,0,{"$error":"#DIV/0!"},0,0,{"$error":"#DIV/0!"},{"$error":"#DIV/0!"},{"$f":"VLOOKUP(C89,Gewichtsentwicklung!P$6:R$568,3,FALSE)","v":{"$error":"#N/A"}},{"$error":"#DIV/0!"},{"$error":"#DIV/0!"},{"$error":"#DIV/0!"},0,0,0,0,0,0,0,0,0,0,0]
[null,0,0,0,{"$error":"#DIV/0!"},0,0,{"$error":"#DIV/0!"},{"$error":"#DIV/0!"},{"$f":"VLOOKUP(C90,Gewichtsentwicklung!P$6:R$568,3,FALSE)","v":{"$error":"#N/A"}},{"$error":"#DIV/0!"},{"$error":"#DIV/0!"},{"$error":"#DIV/0!"},0,0,0,0,0,0,0,0,0,0,0]
[null,0,0,0,{"$error":"#DIV/0!"},0,0,{"$error":"#DIV/0!"},{"$error":"#DIV/0!"},{"$f":"VLOOKUP(C91,Gewichtsentwicklung!P$6:R$568,3,FALSE)","v":{"$error":"#N/A"}},{"$error":"#DIV/0!"},{"$error":"#DIV/0!"},{"$error":"#DIV/0!"},0,0,0,0,0,0,0,0,0,0,0]
[null,0,0,0,{"$error":"#DIV/0!"},0,0,{"$error":"#DIV/0!"},{"$error":"#DIV/0!"},{"$f":"VLOOKUP(C92,Gewichtsentwicklung!P$6:R$568,3,FALSE)","v":{"$error":"#N/A"}},{"$error":"#DIV/0!"},{"$error":"#DIV/0!"},{"$error":"#DIV/0!"},0,0,0,0,0,0,0,0,0,0,0]
[null,0,0,0,{"$error":"#DIV/0!"},0,0,{"$error":"#DIV/0!"},{"$error":"#DIV/0!"},{"$f":"VLOOKUP(C93,Gewichtsentwicklung!P$6:R$568,3,FALSE)","v":{"$error":"#N/A"}},{"$error":"#DIV/0!"},{"$error":"#DIV/0!"},{"$error":"#DIV/0!"},0,0,0,0,0,0,0,0,0,0,0]
[null,0,0,0,{"$error":"#DIV/0!"},0,0,{"$error":"#DIV/0!"},{"$error":"#DIV/0!"},{"$f":"VLOOKUP(C94,Gewichtsentwicklung!P$6:R$568,3,FALSE)","v":{"$error":"#N/A"}},{"$error":"#DIV/0!"},{"$error":"#DIV/0!"},{"$error":"#DIV/0!"},0,0,0,0,0,0,0,0,0,0,0]
[null,0,0,0,{"$error":"#DIV/0!"},0,0,{"$error":"#DIV/0!"},{"$error":"#DIV/0!"},{"$f":"VLOOKUP(C95,Gewichtsentwicklung!P$6:R$568,3,FALSE)","v":{"$error":"#N/A"}},{"$error":"#DIV/0!"},{"$error":"#DIV/0!"},{"$error":"#DIV/0!"},0,0,0,0,0,0,0,0,0,0,0]
[null,0,0,0,{"$error":"#DIV/0!"},0,0,{"$error":"#DIV/0!"},{"$error":"#DIV/0!"},{"$f":"VLOOKUP(C96,Gewichtsentwicklung!P$6:R$568,3,FALSE)","v":{"$error":"#N/A"}},{"$error":"#DIV/0!"},{"$error":"#DIV/0!"},{"$error":"#DIV/0!"},0,0,0,0,0,0,0,0,0,0,0]
[null,0,0,0,{"$error":"#DIV/0!"},0,0,{"$error":"#DIV/0!"},{"$error":"#DIV/0!"},{"$f":"VLOOKUP(C97,Gewichtsentwicklung!P$6:R$568,3,FALSE)","v":{"$error":"#N/A"}},{"$error":"#DIV/0!"},{"$error":"#DIV/0!"},{"$error":"#DIV/0!"},0,0,0,0,0,0,0,0,0,0,0]
[null,0,0,0,{"$error":"#DIV/0!"},0,0,{"$error":"#DIV/0!"},{"$error":"#DIV/0!"},{"$f":"VLOOKUP(C98,Gewichtsentwicklung!P$6:R$568,3,FALSE)","v":{"$error":"#N/A"}},{"$error":"#DIV/0!"},{"$error":"#DIV/0!"},{"$error":"#DIV/0!"},0,0,0,0,0,0,0,0,0,0,0]
[null,0,0,0,{"$error":"#DIV/0!"},0,0,{"$error":"#DIV/0!"},{"$error":"#DIV/0!"},{"$f":"VLOOKUP(C99,Gewichtsentwicklung!P$6:R$568,3,FALSE)","v":{"$error":"#N/A"}},{"$error":"#DIV/0!"},{"$error":"#DIV/0!"},{"$error":"#DIV/0!"},0,0,0,0,0,0,0,0,0,0,0]
[null,0,0,0,{"$error":"#DIV/0!"},0,0,{"$error":"#DIV/0!"},{"$error":"#DIV/0!"},{"$f":"VLOOKUP(C100,Gewichtsentwicklung!P$6:R$568,3,FALSE)","v":{"$error":"#N/A"}},{"$error":"#DIV/0!"},{"$error":"#DIV/0!"},{"$error":"#DIV/0!"},0,0,0,0,0,0,0,0,0,0,0]
[null,0,0,0,{"$error":"#DIV/0!"},0,0,{"$error":"#DIV/0!"},{"$error":"#DIV/0!"},{"$f":"VLOOKUP(C101,Gewichtsentwicklung!P$6:R$568,3,FALSE)","v":{"$error":"#N/A"}},{"$error":"#DIV/0!"},{"$error":"#DIV/0!"},{"$error":"#DIV/0!"},0,0,0,0,0,0,0,0,0,0,0]
[null,{"$f":"A102-L$3","v":0},{"$f":"ROUND(ROUNDUP((A102-L$3)/7,1),1)","v":0},{"$f":"COUNTIF(Y102:FQ102,\">0\")","v":0},{"$f":"ROUND(AVERAGE(Y102:FQ102),0)","v":{"$error":"#DIV/0!"}},{"$f":"MIN(Y102:FQ102)","v":0},{"$f":"MAX(Y102:FQ102)","v":0},{"$f":"ROUND(STDEV(Y102:FQ102),0)","v":{"$error":"#DIV/0!"}},{"$f":"ROUND(H102/E102,4)","v":{"$error":"#DIV/0!"}},{"$f":"VLOOKUP(C102,Gewichtsentwicklung!P$6:R$568,3,FALSE)","v":{"$error":"#N/A"}},{"$f":"ROUND(E102/J102,4)","v":{"$error":"#DIV/0!"}},{"$f":"ROUND((D102-N102)/D102,4)","v":{"$error":"#DIV/0!"}},{"$f":"ROUND(COUNTIF(Y102:FQ102,\"<\"&J102*0.9)/D102,4)","v":{"$error":"#DIV/0!"}},{"$f":"COUNTIF(Y102:FQ102,\"<\"&E102*0.9)+COUNTIF(Y102:FQ102,\">\"&E102*1.1)","v":0},{"$f":"COUNTIF(Y102:FQ102,\">=\"&ROUNDDOWN($F102,-1))-COUNTIF(Y102:FQ102,\">=\"&ROUNDDOWN($F102,-1)+((ROUNDUP($G102,-1)-ROUNDDOWN($F102,-1))/10))","v":0},{"$f":"COUNTIF(Y102:FQ102,\">=\"&ROUNDDOWN($F102,-1)+((ROUNDUP($G102,-1)-ROUNDDOWN($F102,-1))/10))-COUNTIF(Y102:FQ102,\">=\"&ROUNDDOWN($F102,-1)+((ROUNDUP($G102,-1)-ROUNDDOWN($F102,-1))/10*2))","v":0},{"$f":"COUNTIF(Y102:FQ102,\">=\"&ROUNDDOWN($F102,-1)+((ROUNDUP($G102,-1)-ROUNDDOWN($F102,-1))/10*2))-COUNTIF(Y102:FQ102,\">=\"&ROUNDDOWN($F102,-1)+((ROUNDUP($G102,-1)-ROUNDDOWN($F102,-1))/10*3))","v":0},{"$f":"COUNTIF(Y102:FQ102,\">=\"&ROUNDDOWN($F102,-1)+((ROUNDUP($G102,-1)-ROUNDDOWN($F102,-1))/10*3))-COUNTIF(Y102:FQ102,\">=\"&ROUNDDOWN($F102,-1)+((ROUNDUP($G102,-1)-ROUNDDOWN($F102,-1))/10*4))","v":0},{"$f":"COUNTIF(Y102:FQ102,\">=\"&ROUNDDOWN($F102,-1)+((ROUNDUP($G102,-1)-ROUNDDOWN($F102,-1))/10*4))-COUNTIF(Y102:FQ102,\">=\"&ROUNDDOWN($F102,-1)+((ROUNDUP($G102,-1)-ROUNDDOWN($F102,-1))/10*5))","v":0},{"$f":"COUNTIF(Y102:FQ102,\">=\"&ROUNDDOWN($F102,-1)+((ROUNDUP($G102,-1)-ROUNDDOWN($F102,-1))/10*5))-COUNTIF(Y102:FQ102,\">=\"&ROUNDDOWN($F102,-1)+((ROUNDUP($G102,-1)-ROUNDDOWN($F102,-1))/10*6))","v":0},{"$f":"COUNTIF(Y102:FQ102,\">=\"&ROUNDDOWN($F102,-1)+((ROUNDUP($G102,-1)-ROUNDDOWN($F102,-1))/10*6))-COUNTIF(Y102:FQ102,\">=\"&ROUNDDOWN($F102,-1)+((ROUNDUP($G102,-1)-ROUNDDOWN($F102,-1))/10*7))","v":0},{"$f":"COUNTIF(Y102:FQ102,\">=\"&ROUNDDOWN($F102,-1)+((ROUNDUP($G102,-1)-ROUNDDOWN($F102,-1))/10*7))-COUNTIF(Y102:FQ102,\">=\"&ROUNDDOWN($F102,-1)+((ROUNDUP($G102,-1)-ROUNDDOWN($F102,-1))/10*8))","v":0},{"$f":"COUNTIF(Y102:FQ102,\">=\"&ROUNDDOWN($F102,-1)+((ROUNDUP($G102,-1)-ROUNDDOWN($F102,-1))/10*8))-COUNTIF(Y102:FQ102,\">=\"&ROUNDDOWN($F102,-1)+((ROUNDUP($G102,-1)-ROUNDDOWN($F102,-1))/10*9))","v":0},{"$f":"COUNTIF(Y102:FQ102,\">0\"&ROUNDDOWN($F102,-1)+((ROUNDUP($G102,-1)-ROUNDDOWN($F102,-1))/10*9))-COUNTIF(Y102:FQ102,\">\"&ROUNDUP($G102,-1))","v":0}]
[null,0,0,0,{"$error":"#DIV/0!"},0,0,{"$error":"#DIV/0!"},{"$error":"#DIV/0!"},{"$f":"VLOOKUP(C103,Gewichtsentwicklung!P$6:R$568,3,FALSE)","v":{"$error":"#N/A"}},{"$error":"#DIV/0!"},{"$error":"#DIV/0!"},{"$error":"#DIV/0!"},0,0,0,0,0,0,0,0,0,0,0]
[null,0,0,0,{"$error":"#DIV/0!"},0,0,{"$error":"#DIV/0!"},{"$error":"#DIV/0!"},{"$f":"VLOOKUP(C104,Gewichtsentwicklung!P$6:R$568,3,FALSE)","v":{"$error":"#N/A"}},{"$error":"#DIV/0!"},{"$error":"#DIV/0!"},{"$error":"#DIV/0!"},0,0,0,0,0,0,0,0,0,0,0]
[null,0,0,0,{"$error":"#DIV/0!"},0,0,{"$error":"#DIV/0!"},{"$error":"#DIV/0!"},{"$f":"VLOOKUP(C105,Gewichtsentwicklung!P$6:R$568,3,FALSE)","v":{"$error":"#N/A"}},{"$error":"#DIV/0!"},{"$error":"#DIV/0!"},{"$error":"#DIV/0!"},0,0,0,0,0,0,0,0,0,0,0]
[null,0,0,0,{"$error":"#DIV/0!"},0,0,{"$error":"#DIV/0!"},{"$error":"#DIV/0!"},{"$f":"VLOOKUP(C106,Gewichtsentwicklung!P$6:R$568,3,FALSE)","v":{"$error":"#N/A"}},{"$error":"#DIV/0!"},{"$error":"#DIV/0!"},{"$error":"#DIV/0!"},0,0,0,0,0,0,0,0,0,0,0]
[null,0,0,0,{"$error":"#DIV/0!"},0,0,{"$error":"#DIV/0!"},{"$error":"#DIV/0!"},{"$f":"VLOOKUP(C107,Gewichtsentwicklung!P$6:R$568,3,FALSE)","v":{"$error":"#N/A"}},{"$error":"#DIV/0!"},{"$error":"#DIV/0!"},{"$error":"#DIV/0!"},0,0,0,0,0,0,0,0,0,0,0]
[null,0,0,0,{"$error":"#DIV/0!"},0,0,{"$error":"#DIV/0!"},{"$error":"#DIV/0!"},{"$f":"VLOOKUP(C108,Gewichtsentwicklung!P$6:R$568,3,FALSE)","v":{"$error":"#N/A"}},{"$error":"#DIV/0!"},{"$error":"#DIV/0!"},{"$error":"#DIV/0!"},0,0,0,0,0,0,0,0,0,0,0]
[null,0,0,0,{"$error":"#DIV/0!"},0,0,{"$error":"#DIV/0!"},{"$error":"#DIV/0!"},{"$f":"VLOOKUP(C109,Gewichtsentwicklung!P$6:R$568,3,FALSE)","v":{"$error":"#N/A"}},{"$error":"#DIV/0!"},{"$error":"#DIV/0!"},{"$error":"#DIV/0!"},0,0,0,0,0,0,0,0,0,0,0]
[null,0,0,0,{"$error":"#DIV/0!"},0,0,{"$error":"#DIV/0!"},{"$error":"#DIV/0!"},{"$f":"VLOOKUP(C110,Gewichtsentwicklung!P$6:R$568,3,FALSE)","v":{"$error":"#N/A"}},{"$error":"#DIV/0!"},{"$error":"#DIV/0!"},{"$error":"#DIV/0!"},0,0,0,0,0,0,0,0,0,0,0]
[null,0,0,0,{"$error":"#DIV/0!"},0,0,{"$error":"#DIV/0!"},{"$error":"#DIV/0!"},{"$f":"VLOOKUP(C111,Gewichtsentwicklung!P$6:R$568,3,FALSE)","v":{"$error":"#N/A"}},{"$error":"#DIV/0!"},{"$error":"#DIV/0!"},{"$error":"#DIV/0!"},0,0,0,0,0,0,0,0,0,0,0]
[null,0,0,0,{"$error":"#DIV/0!"},0,0,{"$error":"#DIV/0!"},{"$error":"#DIV/0!"},{"$f":"VLOOKUP(C112,Gewichtsentwicklung!P$6:R$568,3,FALSE)","v":{"$error":"#N/A"}},{"$error":"#DIV/0!"},{"$error":"#DIV/0!"},{"$error":"#DIV/0!"},0,0,0,0,0,0,0,0,0,0,0]
[null,0,0,0,{"$error":"#DIV/0!"},0,0,{"$error":"#DIV/0!"},{"$error":"#DIV/0!"},{"$f":"VLOOKUP(C113,Gewichtsentwicklung!P$6:R$568,3,FALSE)","v":{"$error":"#N/A"}},{"$error":"#DIV/0!"},{"$error":"#DIV/0!"},{"$error":"#DIV/0!"},0,0,0,0,0,0,0,0,0,0,0]
[null,0,0,0,{"$error":"#DIV/0!"},0,0,{"$error":"#DIV/0!"},{"$error":"#DIV/0!"},{"$f":"VLOOKUP(C114,Gewichtsentwicklung!P$6:R$568,3,FALSE)","v":{"$error":"#N/A"}},{"$error":"#DIV/0!"},{"$error":"#DIV/0!"},{"$error":"#DIV/0!"},0,0,0,0,0,0,0,0,0,0,0]
[null,0,0,0,{"$error":"#DIV/0!"},0,0,{"$error":"#DIV/0!"},{"$error":"#DIV/0!"},{"$f":"VLOOKUP(C115,Gewichtsentwicklung!P$6:R$568,3,FALSE)","v":{"$error":"#N/A"}},{"$error":"#DIV/0!"},{"$error":"#DIV/0!"},{"$error":"#DIV/0!"},0,0,0,0,0,0,0,0,0,0,0]

{"sheet":"Uniformitätsentwicklung","index":3,"n_rows":4,"n_cols":11,"rows_kept":4,"cut":false,"hidden":false,"merged":[[1,2,1,11],[2,2,2,3],[2,4,2,5],[2,6,2,7],[2,8,2,9],[2,10,2,11],[3,2,3,3],[3,4,3,5],[3,6,3,7],[3,8,3,9],[3,10,3,11]]}
[]
[null,null,"Herden- / Tiergruppendaten:"]
[null,null,"Betriebskennung:  ",null,"Stall / Abteil:  ",null,"Tieranzahl: ",null,"Herkunft: ",null,"Schlupfdatum: "]
[null,null,{"$f":"Menü!F23","v":0},null,{"$f":"Menü!F24","v":0},null,{"$f":"Menü!H23","v":0},null,{"$f":"Menü!H24","v":0},null,{"$f":"Menü!J23","v":"00:00:00"}]

{"sheet":"Gewichtsentwicklung","index":4,"n_rows":566,"n_cols":27,"rows_kept":566,"cut":false,"hidden":false,"merged":[[1,2,1,11],[2,2,2,3],[2,4,2,5],[2,6,2,7],[2,8,2,9],[2,10,2,11],[3,2,3,3],[3,4,3,5],[3,6,3,7],[3,8,3,9],[3,10,3,11]]}
[]
[null,null,"Herden- / Tiergruppendaten:",null,null,null,null,null,null,null,null,null,null,null,null,null,null,145,null,{"$f":"MAX(Daten!C6:C115)","v":0}]
[null,null,"Betriebskennung:  ",null,"Stall / Abteil:  ",null,"Tieranzahl: ",null,"Herkunft: ",null,"Schlupfdatum: "]
[null,null,{"$f":"Menü!F23","v":0},null,{"$f":"Menü!F24","v":0},null,{"$f":"Menü!H23","v":0},null,{"$f":"Menü!H24","v":0},null,{"$f":"Menü!J23","v":"00:00:00"}]
[]
[null,null,null,null,null,null,null,null,null,null,null,null,null,null,null,{"$f":"ROUND(Q6,1)","v":0},0,{"$f":"VLOOKUP(Menü!H$24,Sollgewichte!A$4:CD$13,Q6+2,FALSE)","v":{"$error":"#N/A"}},{"$f":"R6*0.95","v":{"$error":"#N/A"}},{"$f":"R6","v":{"$error":"#N/A"}},{"$f":"VLOOKUP(P6,Daten!C$6:E$115,3,FALSE)","v":{"$error":"#DIV/0!"}},{"$f":"VLOOKUP(P6,Daten!C$6:L$115,10,FALSE)","v":{"$error":"#DIV/0!"}},{"$f":"VLOOKUP(P6,Daten!C$6:M$115,11,FALSE)","v":{"$error":"#DIV/0!"}},0.05,0.1,0.8,0.85]
[null,null,null,null,null,null,null,null,null,null,null,null,null,null,null,{"$f":"ROUND(Q7,1)","v":0.2},{"$f":"Q6+0.2","v":0.2},{"$f":"ROUND(R6+(R13-R6)/7,0)","v":{"$error":"#N/A"}},{"$f":"R7*0.95","v":{"$error":"#N/A"}},{"$f":"R7","v":{"$error":"#N/A"}},{"$f":"VLOOKUP(P7,Daten!C$6:E$115,3,FALSE)","v":{"$error":"#N/A"}},{"$f":"VLOOKUP(P7,Daten!C$6:L$115,10,FALSE)","v":{"$error":"#N/A"}},{"$f":"VLOOKUP(P7,Daten!C$6:M$115,11,FALSE)","v":{"$error":"#N/A"}},0.05,0.1,0.8,0.85]
[null,null,null,null,null,null,null,null,null,null,null,null,null,null,null,0.3,{"$f":"Q7+0.1","v":0.30000000000000004},{"$f":"ROUND(R6+(R13-R6)/7*2,0)","v":{"$error":"#N/A"}},{"$error":"#N/A"},{"$error":"#N/A"},{"$f":"VLOOKUP(P8,Daten!C$6:E$115,3,FALSE)","v":{"$error":"#N/A"}},{"$f":"VLOOKUP(P8,Daten!C$6:L$115,10,FALSE)","v":{"$error":"#N/A"}},{"$f":"VLOOKUP(P8,Daten!C$6:M$115,11,FALSE)","v":{"$error":"#N/A"}},0.05,0.1,0.8,0.85]
[null,null,null,null,null,null,null,null,null,null,null,null,null,null,null,0.5,{"$f":"Q8+0.2","v":0.5},{"$f":"ROUND(R6+(R13-R6)/7*3,0)","v":{"$error":"#N/A"}},{"$error":"#N/A"},{"$error":"#N/A"},{"$f":"VLOOKUP(P9,Daten!C$6:E$115,3,FALSE)","v":{"$error":"#N/A"}},{"$f":"VLOOKUP(P9,Daten!C$6:L$115,10,FALSE)","v":{"$error":"#N/A"}},{"$f":"VLOOKUP(P9,Daten!C$6:M$115,11,FALSE)","v":{"$error":"#N/A"}},0.05,0.1,0.8,0.85]
[null,null,null,null,null,null,null,null,null,null,null,null,null,null,null,0.6,{"$f":"Q9+0.1","v":0.6},{"$f":"ROUND(R6+(R13-R6)/7*4,0)","v":{"$error":"#N/A"}},{"$error":"#N/A"},{"$error":"#N/A"},{"$f":"VLOOKUP(P10,Daten!C$6:E$115,3,FALSE)","v":{"$error":"#N/A"}},{"$f":"VLOOKUP(P10,Daten!C$6:L$115,10,FALSE)","v":{"$error":"#N/A"}},{"$f":"VLOOKUP(P10,Daten!C$6:M$115,11,FALSE)","v":{"$error":"#N/A"}},0.05,0.1,0.8,0.85]
[null,null,null,null,null,null,null,null,null,null,null,null,null,null,null,0.8,{"$f":"Q10+0.2","v":0.8},{"$f":"ROUND(R6+(R13-R6)/7*5,0)","v":{"$error":"#N/A"}},{"$error":"#N/A"},{"$error":"#N/A"},{"$f":"VLOOKUP(P11,Daten!C$6:E$115,3,FALSE)","v":{"$error":"#N/A"}},{"$f":"VLOOKUP(P11,Daten!C$6:L$115,10,FALSE)","v":{"$error":"#N/A"}},{"$f":"VLOOKUP(P11,Daten!C$6:M$115,11,FALSE)","v":{"$error":"#N/A"}},0.05,0.1,0.8,0.85]
[null,null,null,null,null,null,null,null,null,null,null,null,null,null,null,0.9,{"$f":"Q11+0.1","v":0.9},{"$f":"ROUND(R6+(R13-R6)/7*6,0)","v":{"$error":"#N/A"}},{"$error":"#N/A"},{"$error":"#N/A"},{"$f":"VLOOKUP(P12,Daten!C$6:E$115,3,FALSE)","v":{"$error":"#N/A"}},{"$f":"VLOOKUP(P12,Daten!C$6:L$115,10,FALSE)","v":{"$error":"#N/A"}},{"$f":"VLOOKUP(P12,Daten!C$6:M$115,11,FALSE)","v":{"$error":"#N/A"}},0.05,0.1,0.8,0.85]
[null,null,null,null,null,null,null,null,null,null,null,null,null,null,null,1,{"$f":"Q12+0.1","v":1},{"$f":"VLOOKUP(Menü!H$24,Sollgewichte!A$4:CD$13,Q13+2,FALSE)","v":{"$error":"#N/A"}},{"$error":"#N/A"},{"$error":"#N/A"},{"$f":"VLOOKUP(P13,Daten!C$6:E$115,3,FALSE)","v":{"$error":"#N/A"}},{"$f":"VLOOKUP(P13,Daten!C$6:L$115,10,FALSE)","v":{"$error":"#N/A"}},{"$f":"VLOOKUP(P13,Daten!C$6:M$115,11,FALSE)","v":{"$error":"#N/A"}},0.05,0.1,0.8,0.85]
[null,null,null,null,null,null,null,null,null,null,null,null,null,null,null,1.2,{"$f":"Q13+0.2","v":1.2},{"$f":"ROUND(R13+(R20-R13)/7,0)","v":{"$error":"#N/A"}},{"$error":"#N/A"},{"$error":"#N/A"},{"$f":"VLOOKUP(P14,Daten!C$6:E$115,3,FALSE)","v":{"$error":"#N/A"}},{"$f":"VLOOKUP(P14,Daten!C$6:L$115,10,FALSE)","v":{"$error":"#N/A"}},{"$f":"VLOOKUP(P14,Daten!C$6:M$115,11,FALSE)","v":{"$error":"#N/A"}},0.05,0.1,0.8,0.85]
[null,null,null,null,null,null,null,null,null,null,null,null,null,null,null,1.3,{"$f":"Q14+0.1","v":1.3},{"$f":"ROUND(R13+(R20-R13)/7*2,0)","v":{"$error":"#N/A"}},{"$error":"#N/A"},{"$error":"#N/A"},{"$f":"VLOOKUP(P15,Daten!C$6:E$115,3,FALSE)","v":{"$error":"#N/A"}},{"$f":"VLOOKUP(P15,Daten!C$6:L$115,10,FALSE)","v":{"$error":"#N/A"}},{"$f":"VLOOKUP(P15,Daten!C$6:M$115,11,FALSE)","v":{"$error":"#N/A"}},0.05,0.1,0.8,0.85]
[null,null,null,null,null,null,null,null,null,null,null,null,null,null,null,1.5,{"$f":"Q15+0.2","v":1.5},{"$f":"ROUND(R13+(R20-R13)/7*3,0)","v":{"$error":"#N/A"}},{"$error":"#N/A"},{"$error":"#N/A"},{"$f":"VLOOKUP(P16,Daten!C$6:E$115,3,FALSE)","v":{"$error":"#N/A"}},{"$f":"VLOOKUP(P16,Daten!C$6:L$115,10,FALSE)","v":{"$error":"#N/A"}},{"$f":"VLOOKUP(P16,Daten!C$6:M$115,11,FALSE)","v":{"$error":"#N/A"}},0.05,0.1,0.8,0.85]
[null,null,null,null,null,null,null,null,null,null,null,null,null,null,null,1.6,{"$f":"Q16+0.1","v":1.6},{"$f":"ROUND(R13+(R20-R13)/7*4,0)","v":{"$error":"#N/A"}},{"$error":"#N/A"},{"$error":"#N/A"},{"$f":"VLOOKUP(P17,Daten!C$6:E$115,3,FALSE)","v":{"$error":"#N/A"}},{"$f":"VLOOKUP(P17,Daten!C$6:L$115,10,FALSE)","v":{"$error":"#N/A"}},{"$f":"VLOOKUP(P17,Daten!C$6:M$115,11,FALSE)","v":{"$error":"#N/A"}},0.05,0.1,0.8,0.85]
[null,null,null,null,null,null,null,null,null,null,null,null,null,null,null,1.8,{"$f":"Q17+0.2","v":1.8},{"$f":"ROUND(R13+(R20-R13)/7*5,0)","v":{"$error":"#N/A"}},{"$error":"#N/A"},{"$error":"#N/A"},{"$f":"VLOOKUP(P18,Daten!C$6:E$115,3,FALSE)","v":{"$error":"#N/A"}},{"$f":"VLOOKUP(P18,Daten!C$6:L$115,10,FALSE)","v":{"$error":"#N/A"}},{"$f":"VLOOKUP(P18,Daten!C$6:M$115,11,FALSE)","v":{"$error":"#N/A"}},0.05,0.1,0.8,0.85]
[null,null,null,null,null,null,null,null,null,null,null,null,null,null,null,1.9,{"$f":"Q18+0.1","v":1.9000000000000001},{"$f":"ROUND(R13+(R20-R13)/7*6,0)","v":{"$error":"#N/A"}},{"$error":"#N/A"},{"$error":"#N/A"},{"$f":"VLOOKUP(P19,Daten!C$6:E$115,3,FALSE)","v":{"$error":"#N/A"}},{"$f":"VLOOKUP(P19,Daten!C$6:L$115,10,FALSE)","v":{"$error":"#N/A"}},{"$f":"VLOOKUP(P19,Daten!C$6:M$115,11,FALSE)","v":{"$error":"#N/A"}},0.05,0.1,0.8,0.85]
[null,null,null,null,null,null,null,null,null,null,null,null,null,null,null,2,{"$f":"Q19+0.1","v":2},{"$f":"VLOOKUP(Menü!H$24,Sollgewichte!A$4:CD$13,Q20+2,FALSE)","v":{"$error":"#N/A"}},{"$error":"#N/A"},{"$error":"#N/A"},{"$f":"VLOOKUP(P20,Daten!C$6:E$115,3,FALSE)","v":{"$error":"#N/A"}},{"$f":"VLOOKUP(P20,Daten!C$6:L$115,10,FALSE)","v":{"$error":"#N/A"}},{"$f":"VLOOKUP(P20,Daten!C$6:M$115,11,FALSE)","v":{"$error":"#N/A"}},0.05,0.1,0.8,0.85]
[null,null,null,null,null,null,null,null,null,null,null,null,null,null,null,2.2000000000000002,{"$f":"Q20+0.2","v":2.2000000000000002},{"$f":"ROUND(R20+(R27-R20)/7,0)","v":{"$error":"#N/A"}},{"$error":"#N/A"},{"$error":"#N/A"},{"$f":"VLOOKUP(P21,Daten!C$6:E$115,3,FALSE)","v":{"$error":"#N/A"}},{"$f":"VLOOKUP(P21,Daten!C$6:L$115,10,FALSE)","v":{"$error":"#N/A"}},{"$f":"VLOOKUP(P21,Daten!C$6:M$115,11,FALSE)","v":{"$error":"#N/A"}},0.05,0.1,0.8,0.85]
[null,null,null,null,null,null,null,null,null,null,null,null,null,null,null,2.2999999999999998,{"$f":"Q21+0.1","v":2.3000000000000003},{"$f":"ROUND(R20+(R27-R20)/7*2,0)","v":{"$error":"#N/A"}},{"$error":"#N/A"},{"$error":"#N/A"},{"$f":"VLOOKUP(P22,Daten!C$6:E$115,3,FALSE)","v":{"$error":"#N/A"}},{"$f":"VLOOKUP(P22,Daten!C$6:L$115,10,FALSE)","v":{"$error":"#N/A"}},{"$f":"VLOOKUP(P22,Daten!C$6:M$115,11,FALSE)","v":{"$error":"#N/A"}},0.05,0.1,0.8,0.85]
[null,".ab 1. Woche",null,"bis 20. Woche ",null,null,"bis 40.Woche ",null,null,"bis 60. Woche ",null,null,"bis 80. Woche ",null,null,2.5,{"$f":"Q22+0.2","v":2.5000000000000004},{"$f":"ROUND(R20+(R27-R20)/7*3,0)","v":{"$error":"#N/A"}},{"$error":"#N/A"},{"$error":"#N/A"},{"$f":"VLOOKUP(P23,Daten!C$6:E$115,3,FALSE)","v":{"$error":"#N/A"}},{"$f":"VLOOKUP(P23,Daten!C$6:L$115,10,FALSE)","v":{"$error":"#N/A"}},{"$f":"VLOOKUP(P23,Daten!C$6:M$115,11,FALSE)","v":{"$error":"#N/A"}},0.05,0.1,0.8,0.85]
[null,null,null,null,null,null,null,null,null,null,null,null,null,null,null,2.6,{"$f":"Q23+0.1","v":2.6000000000000005},{"$f":"ROUND(R20+(R27-R20)/7*4,0)","v":{"$error":"#N/A"}},{"$error":"#N/A"},{"$error":"#N/A"},{"$f":"VLOOKUP(P24,Daten!C$6:E$115,3,FALSE)","v":{"$error":"#N/A"}},{"$f":"VLOOKUP(P24,Daten!C$6:L$115,10,FALSE)","v":{"$error":"#N/A"}},{"$f":"VLOOKUP(P24,Daten!C$6:M$115,11,FALSE)","v":{"$error":"#N/A"}},0.05,0.1,0.8,0.85]
[null,null,null,null,null,null,null,null,null,null,null,null,null,null,null,2.8,{"$f":"Q24+0.2","v":2.8000000000000007},{"$f":"ROUND(R20+(R27-R20)/7*5,0)","v":{"$error":"#N/A"}},{"$error":"#N/A"},{"$error":"#N/A"},{"$f":"VLOOKUP(P25,Daten!C$6:E$115,3,FALSE)","v":{"$error":"#N/A"}},{"$f":"VLOOKUP(P25,Daten!C$6:L$115,10,FALSE)","v":{"$error":"#N/A"}},{"$f":"VLOOKUP(P25,Daten!C$6:M$115,11,FALSE)","v":{"$error":"#N/A"}},0.05,0.1,0.8,0.85]
[null,null,null,null,null,null,null,null,null,null,null,null,null,null,null,2.9,{"$f":"Q25+0.1","v":2.9000000000000008},{"$f":"ROUND(R20+(R27-R20)/7*6,0)","v":{"$error":"#N/A"}},{"$error":"#N/A"},{"$error":"#N/A"},{"$f":"VLOOKUP(P26,Daten!C$6:E$115,3,FALSE)","v":{"$error":"#N/A"}},{"$f":"VLOOKUP(P26,Daten!C$6:L$115,10,FALSE)","v":{"$error":"#N/A"}},{"$f":"VLOOKUP(P26,Daten!C$6:M$115,11,FALSE)","v":{"$error":"#N/A"}},0.05,0.1,0.8,0.85]
[null,null,null,null,null,null,null,null,null,null,null,null,null,null,null,3,{"$f":"Q26+0.1","v":3.0000000000000009},{"$f":"VLOOKUP(Menü!H$24,Sollgewichte!A$4:CD$13,Q27+2,FALSE)","v":{"$error":"#N/A"}},{"$error":"#N/A"},{"$error":"#N/A"},{"$f":"VLOOKUP(P27,Daten!C$6:E$115,3,FALSE)","v":{"$error":"#N/A"}},{"$f":"VLOOKUP(P27,Daten!C$6:L$115,10,FALSE)","v":{"$error":"#N/A"}},{"$f":"VLOOKUP(P27,Daten!C$6:M$115,11,FALSE)","v":{"$error":"#N/A"}},0.05,0.1,0.8,0.85]
[null,null,null,null,null,null,null,null,null,null,null,null,null,null,null,3.2,{"$f":"Q27+0.2","v":3.2000000000000011},{"$f":"ROUND(R27+(R34-R27)/7,0)","v":{"$error":"#N/A"}},{"$error":"#N/A"},{"$error":"#N/A"},{"$f":"VLOOKUP(P28,Daten!C$6:E$115,3,FALSE)","v":{"$error":"#N/A"}},{"$f":"VLOOKUP(P28,Daten!C$6:L$115,10,FALSE)","v":{"$error":"#N/A"}},{"$f":"VLOOKUP(P28,Daten!C$6:M$115,11,FALSE)","v":{"$error":"#N/A"}},0.05,0.1,0.8,0.85]
[null,null,null,null,null,null,null,null,null,null,null,null,null,null,null,3.3,{"$f":"Q28+0.1","v":3.3000000000000012},{"$f":"ROUND(R27+(R34-R27)/7*2,0)","v":{"$error":"#N/A"}},{"$error":"#N/A"},{"$error":"#N/A"},{"$f":"VLOOKUP(P29,Daten!C$6:E$115,3,FALSE)","v":{"$error":"#N/A"}},{"$f":"VLOOKUP(P29,Daten!C$6:L$115,10,FALSE)","v":{"$error":"#N/A"}},{"$f":"VLOOKUP(P29,Daten!C$6:M$115,11,FALSE)","v":{"$error":"#N/A"}},0.05,0.1,0.8,0.85]
[null,null,null,null,null,null,null,null,null,null,null,null,null,null,null,3.5,{"$f":"Q29+0.2","v":3.5000000000000013},{"$f":"ROUND(R27+(R34-R27)/7*3,0)","v":{"$error":"#N/A"}},{"$error":"#N/A"},{"$error":"#N/A"},{"$f":"VLOOKUP(P30,Daten!C$6:E$115,3,FALSE)","v":{"$error":"#N/A"}},{"$f":"VLOOKUP(P30,Daten!C$6:L$115,10,FALSE)","v":{"$error":"#N/A"}},{"$f":"VLOOKUP(P30,Daten!C$6:M$115,11,FALSE)","v":{"$error":"#N/A"}},0.05,0.1,0.8,0.85]
[null,null,null,null,null,null,null,null,null,null,null,null,null,null,null,3.6,{"$f":"Q30+0.1","v":3.6000000000000014},{"$f":"ROUND(R27+(R34-R27)/7*4,0)","v":{"$error":"#N/A"}},{"$error":"#N/A"},{"$error":"#N/A"},{"$f":"VLOOKUP(P31,Daten!C$6:E$115,3,FALSE)","v":{"$error":"#N/A"}},{"$f":"VLOOKUP(P31,Daten!C$6:L$115,10,FALSE)","v":{"$error":"#N/A"}},{"$f":"VLOOKUP(P31,Daten!C$6:M$115,11,FALSE)","v":{"$error":"#N/A"}},0.05,0.1,0.8,0.85]
[null,null,null,null,null,null,null,null,null,null,null,null,null,null,null,3.8,{"$f":"Q31+0.2","v":3.8000000000000016},{"$f":"ROUND(R27+(R34-R27)/7*5,0)","v":{"$error":"#N/A"}},{"$error":"#N/A"},{"$error":"#N/A"},{"$f":"VLOOKUP(P32,Daten!C$6:E$115,3,FALSE)","v":{"$error":"#N/A"}},{"$f":"VLOOKUP(P32,Daten!C$6:L$115,10,FALSE)","v":{"$error":"#N/A"}},{"$f":"VLOOKUP(P32,Daten!C$6:M$115,11,FALSE)","v":{"$error":"#N/A"}},0.05,0.1,0.8,0.85]
[null,null,null,null,null,null,null,null,null,null,null,null,null,null,null,3.9,{"$f":"Q32+0.1","v":3.9000000000000017},{"$f":"ROUND(R27+(R34-R27)/7*6,0)","v":{"$error":"#N/A"}},{"$error":"#N/A"},{"$error":"#N/A"},{"$f":"VLOOKUP(P33,Daten!C$6:E$115,3,FALSE)","v":{"$error":"#N/A"}},{"$f":"VLOOKUP(P33,Daten!C$6:L$115,10,FALSE)","v":{"$error":"#N/A"}},{"$f":"VLOOKUP(P33,Daten!C$6:M$115,11,FALSE)","v":{"$error":"#N/A"}},0.05,0.1,0.8,0.85]
[null,null,null,null,null,null,null,null,null,null,null,null,null,null,null,4,{"$f":"Q33+0.1","v":4.0000000000000018},{"$f":"VLOOKUP(Menü!H$24,Sollgewichte!A$4:CD$13,Q34+2,FALSE)","v":{"$error":"#N/A"}},{"$error":"#N/A"},{"$error":"#N/A"},{"$f":"VLOOKUP(P34,Daten!C$6:E$115,3,FALSE)","v":{"$error":"#N/A"}},{"$f":"VLOOKUP(P34,Daten!C$6:L$115,10,FALSE)","v":{"$error":"#N/A"}},{"$f":"VLOOKUP(P34,Daten!C$6:M$115,11,FALSE)","v":{"$error":"#N/A"}},0.05,0.1,0.8,0.85]
[null,null,null,null,null,null,null,null,null,null,null,null,null,null,null,4.2,{"$f":"Q34+0.2","v":4.200000000000002},{"$f":"ROUND(R34+(R41-R34)/7,0)","v":{"$error":"#N/A"}},{"$error":"#N/A"},{"$error":"#N/A"},{"$f":"VLOOKUP(P35,Daten!C$6:E$115,3,FALSE)","v":{"$error":"#N/A"}},{"$f":"VLOOKUP(P35,Daten!C$6:L$115,10,FALSE)","v":{"$error":"#N/A"}},{"$f":"VLOOKUP(P35,Daten!C$6:M$115,11,FALSE)","v":{"$error":"#N/A"}},0.05,0.1,0.8,0.85]
[null,null,null,null,null,null,null,null,null,null,null,null,null,null,null,4.3,{"$f":"Q35+0.1","v":4.3000000000000016},{"$f":"ROUND(R34+(R41-R34)/7*2,0)","v":{"$error":"#N/A"}},{"$error":"#N/A"},{"$error":"#N/A"},{"$f":"VLOOKUP(P36,Daten!C$6:E$115,3,FALSE)","v":{"$error":"#N/A"}},{"$f":"VLOOKUP(P36,Daten!C$6:L$115,10,FALSE)","v":{"$error":"#N/A"}},{"$f":"VLOOKUP(P36,Daten!C$6:M$115,11,FALSE)","v":{"$error":"#N/A"}},0.05,0.1,0.8,0.85]
[null,null,null,null,null,null,null,null,null,null,null,null,null,null,null,4.5,{"$f":"Q36+0.2","v":4.5000000000000018},{"$f":"ROUND(R34+(R41-R34)/7*3,0)","v":{"$error":"#N/A"}},{"$error":"#N/A"},{"$error":"#N/A"},{"$f":"VLOOKUP(P37,Daten!C$6:E$115,3,FALSE)","v":{"$error":"#N/A"}},{"$f":"VLOOKUP(P37,Daten!C$6:L$115,10,FALSE)","v":{"$error":"#N/A"}},{"$f":"VLOOKUP(P37,Daten!C$6:M$115,11,FALSE)","v":{"$error":"#N/A"}},0.05,0.1,0.8,0.85]
[null,null,null,null,null,null,null,null,null,null,null,null,null,null,null,4.5999999999999996,{"$f":"Q37+0.1","v":4.6000000000000014},{"$f":"ROUND(R34+(R41-R34)/7*4,0)","v":{"$error":"#N/A"}},{"$error":"#N/A"},{"$error":"#N/A"},{"$f":"VLOOKUP(P38,Daten!C$6:E$115,3,FALSE)","v":{"$error":"#N/A"}},{"$f":"VLOOKUP(P38,Daten!C$6:L$115,10,FALSE)","v":{"$error":"#N/A"}},{"$f":"VLOOKUP(P38,Daten!C$6:M$115,11,FALSE)","v":{"$error":"#N/A"}},0.05,0.1,0.8,0.85]
[null,null,null,null,null,null,null,null,null,null,null,null,null,null,null,4.8,{"$f":"Q38+0.2","v":4.8000000000000016},{"$f":"ROUND(R34+(R41-R34)/7*5,0)","v":{"$error":"#N/A"}},{"$error":"#N/A"},{"$error":"#N/A"},{"$f":"VLOOKUP(P39,Daten!C$6:E$115,3,FALSE)","v":{"$error":"#N/A"}},{"$f":"VLOOKUP(P39,Daten!C$6:L$115,10,FALSE)","v":{"$error":"#N/A"}},{"$f":"VLOOKUP(P39,Daten!C$6:M$115,11,FALSE)","v":{"$error":"#N/A"}},0.05,0.1,0.8,0.85]
[null,null,null,null,null,null,null,null,null,null,null,null,null,null,null,4.9000000000000004,{"$f":"Q39+0.1","v":4.9000000000000012},{"$f":"ROUND(R34+(R41-R34)/7*6,0)","v":{"$error":"#N/A"}},{"$error":"#N/A"},{"$error":"#N/A"},{"$f":"VLOOKUP(P40,Daten!C$6:E$115,3,FALSE)","v":{"$error":"#N/A"}},{"$f":"VLOOKUP(P40,Daten!C$6:L$115,10,FALSE)","v":{"$error":"#N/A"}},{"$f":"VLOOKUP(P40,Daten!C$6:M$115,11,FALSE)","v":{"$error":"#N/A"}},0.05,0.1,0.8,0.85]
[null,null,null,null,null,null,null,null,null,null,null,null,null,null,null,5,{"$f":"Q40+0.1","v":5.0000000000000009},{"$f":"VLOOKUP(Menü!H$24,Sollgewichte!A$4:CD$13,Q41+2,FALSE)","v":{"$error":"#N/A"}},{"$error":"#N/A"},{"$error":"#N/A"},{"$f":"VLOOKUP(P41,Daten!C$6:E$115,3,FALSE)","v":{"$error":"#N/A"}},{"$f":"VLOOKUP(P41,Daten!C$6:L$115,10,FALSE)","v":{"$error":"#N/A"}},{"$f":"VLOOKUP(P41,Daten!C$6:M$115,11,FALSE)","v":{"$error":"#N/A"}},0.05,0.1,0.8,0.85]
[null,null,null,null,null,null,null,null,null,null,null,null,null,null,null,5.2,{"$f":"Q41+0.2","v":5.2000000000000011},{"$f":"ROUND(R41+(R48-R41)/7,0)","v":{"$error":"#N/A"}},{"$error":"#N/A"},{"$error":"#N/A"},{"$f":"VLOOKUP(P42,Daten!C$6:E$115,3,FALSE)","v":{"$error":"#N/A"}},{"$f":"VLOOKUP(P42,Daten!C$6:L$115,10,FALSE)","v":{"$error":"#N/A"}},{"$f":"VLOOKUP(P42,Daten!C$6:M$115,11,FALSE)","v":{"$error":"#N/A"}},0.05,0.1,0.8,0.85]
[null,null,null,null,null,null,null,null,null,null,null,null,null,null,null,5.3,{"$f":"Q42+0.1","v":5.3000000000000007},{"$f":"ROUND(R41+(R48-R41)/7*2,0)","v":{"$error":"#N/A"}},{"$error":"#N/A"},{"$error":"#N/A"},{"$f":"VLOOKUP(P43,Daten!C$6:E$115,3,FALSE)","v":{"$error":"#N/A"}},{"$f":"VLOOKUP(P43,Daten!C$6:L$115,10,FALSE)","v":{"$error":"#N/A"}},{"$f":"VLOOKUP(P43,Daten!C$6:M$115,11,FALSE)","v":{"$error":"#N/A"}},0.05,0.1,0.8,0.85]
[null,null,null,null,null,null,null,null,null,null,null,null,null,null,null,5.5,{"$f":"Q43+0.2","v":5.5000000000000009},{"$f":"ROUND(R41+(R48-R41)/7*3,0)","v":{"$error":"#N/A"}},{"$error":"#N/A"},{"$error":"#N/A"},{"$f":"VLOOKUP(P44,Daten!C$6:E$115,3,FALSE)","v":{"$error":"#N/A"}},{"$f":"VLOOKUP(P44,Daten!C$6:L$115,10,FALSE)","v":{"$error":"#N/A"}},{"$f":"VLOOKUP(P44,Daten!C$6:M$115,11,FALSE)","v":{"$error":"#N/A"}},0.05,0.1,0.8,0.85]
[null,null,null,null,null,null,null,null,null,null,null,null,null,null,null,5.6,{"$f":"Q44+0.1","v":5.6000000000000005},{"$f":"ROUND(R41+(R48-R41)/7*4,0)","v":{"$error":"#N/A"}},{"$error":"#N/A"},{"$error":"#N/A"},{"$f":"VLOOKUP(P45,Daten!C$6:E$115,3,FALSE)","v":{"$error":"#N/A"}},{"$f":"VLOOKUP(P45,Daten!C$6:L$115,10,FALSE)","v":{"$error":"#N/A"}},{"$f":"VLOOKUP(P45,Daten!C$6:M$115,11,FALSE)","v":{"$error":"#N/A"}},0.05,0.1,0.8,0.85]
[null,null,null,null,null,null,null,null,null,null,null,null,null,null,null,5.8,{"$f":"Q45+0.2","v":5.8000000000000007},{"$f":"ROUND(R41+(R48-R41)/7*5,0)","v":{"$error":"#N/A"}},{"$error":"#N/A"},{"$error":"#N/A"},{"$f":"VLOOKUP(P46,Daten!C$6:E$115,3,FALSE)","v":{"$error":"#N/A"}},{"$f":"VLOOKUP(P46,Daten!C$6:L$115,10,FALSE)","v":{"$error":"#N/A"}},{"$f":"VLOOKUP(P46,Daten!C$6:M$115,11,FALSE)","v":{"$error":"#N/A"}},0.05,0.1,0.8,0.85]
[null,null,null,null,null,null,null,null,null,null,null,null,null,null,null,5.9,{"$f":"Q46+0.1","v":5.9},{"$f":"ROUND(R41+(R48-R41)/7*6,0)","v":{"$error":"#N/A"}},{"$error":"#N/A"},{"$error":"#N/A"},{"$f":"VLOOKUP(P47,Daten!C$6:E$115,3,FALSE)","v":{"$error":"#N/A"}},{"$f":"VLOOKUP(P47,Daten!C$6:L$115,10,FALSE)","v":{"$error":"#N/A"}},{"$f":"VLOOKUP(P47,Daten!C$6:M$115,11,FALSE)","v":{"$error":"#N/A"}},0.05,0.1,0.8,0.85]
[null,null,null,null,null,null,null,null,null,null,null,null,null,null,null,6,{"$f":"Q47+0.1","v":6},{"$f":"VLOOKUP(Menü!H$24,Sollgewichte!A$4:CD$13,Q48+2,FALSE)","v":{"$error":"#N/A"}},{"$error":"#N/A"},{"$error":"#N/A"},{"$f":"VLOOKUP(P48,Daten!C$6:E$115,3,FALSE)","v":{"$error":"#N/A"}},{"$f":"VLOOKUP(P48,Daten!C$6:L$115,10,FALSE)","v":{"$error":"#N/A"}},{"$f":"VLOOKUP(P48,Daten!C$6:M$115,11,FALSE)","v":{"$error":"#N/A"}},0.05,0.1,0.8,0.85]
[null,null,null,null,null,null,null,null,null,null,null,null,null,null,null,6.2,{"$f":"Q48+0.2","v":6.2},{"$f":"ROUND(R48+(R55-R48)/7,0)","v":{"$error":"#N/A"}},{"$error":"#N/A"},{"$error":"#N/A"},{"$f":"VLOOKUP(P49,Daten!C$6:E$115,3,FALSE)","v":{"$error":"#N/A"}},{"$f":"VLOOKUP(P49,Daten!C$6:L$115,10,FALSE)","v":{"$error":"#N/A"}},{"$f":"VLOOKUP(P49,Daten!C$6:M$115,11,FALSE)","v":{"$error":"#N/A"}},0.05,0.1,0.8,0.85]
[null,null,null,null,null,null,null,null,null,null,null,null,null,null,null,6.3,{"$f":"Q49+0.1","v":6.3},{"$f":"ROUND(R48+(R55-R48)/7*2,0)","v":{"$error":"#N/A"}},{"$error":"#N/A"},{"$error":"#N/A"},{"$f":"VLOOKUP(P50,Daten!C$6:E$115,3,FALSE)","v":{"$error":"#N/A"}},{"$f":"VLOOKUP(P50,Daten!C$6:L$115,10,FALSE)","v":{"$error":"#N/A"}},{"$f":"VLOOKUP(P50,Daten!C$6:M$115,11,FALSE)","v":{"$error":"#N/A"}},0.05,0.1,0.8,0.85]
[null,null,null,null,null,null,null,null,null,null,null,null,null,null,null,6.5,{"$f":"Q50+0.2","v":6.5},{"$f":"ROUND(R48+(R55-R48)/7*3,0)","v":{"$error":"#N/A"}},{"$error":"#N/A"},{"$error":"#N/A"},{"$f":"VLOOKUP(P51,Daten!C$6:E$115,3,FALSE)","v":{"$error":"#N/A"}},{"$f":"VLOOKUP(P51,Daten!C$6:L$115,10,FALSE)","v":{"$error":"#N/A"}},{"$f":"VLOOKUP(P51,Daten!C$6:M$115,11,FALSE)","v":{"$error":"#N/A"}},0.05,0.1,0.8,0.85]
[null,null,null,null,null,null,null,null,null,null,null,null,null,null,null,6.6,{"$f":"Q51+0.1","v":6.6},{"$f":"ROUND(R48+(R55-R48)/7*4,0)","v":{"$error":"#N/A"}},{"$error":"#N/A"},{"$error":"#N/A"},{"$f":"VLOOKUP(P52,Daten!C$6:E$115,3,FALSE)","v":{"$error":"#N/A"}},{"$f":"VLOOKUP(P52,Daten!C$6:L$115,10,FALSE)","v":{"$error":"#N/A"}},{"$f":"VLOOKUP(P52,Daten!C$6:M$115,11,FALSE)","v":{"$error":"#N/A"}},0.05,0.1,0.8,0.85]
[null,null,null,null,null,null,null,null,null,null,null,null,null,null,null,6.8,{"$f":"Q52+0.2","v":6.8},{"$f":"ROUND(R48+(R55-R48)/7*5,0)","v":{"$error":"#N/A"}},{"$error":"#N/A"},{"$error":"#N/A"},{"$f":"VLOOKUP(P53,Daten!C$6:E$115,3,FALSE)","v":{"$error":"#N/A"}},{"$f":"VLOOKUP(P53,Daten!C$6:L$115,10,FALSE)","v":{"$error":"#N/A"}},{"$f":"VLOOKUP(P53,Daten!C$6:M$115,11,FALSE)","v":{"$error":"#N/A"}},0.05,0.1,0.8,0.85]
[null,null,null,null,null,null,null,null,null,null,null,null,null,null,null,6.9,{"$f":"Q53+0.1","v":6.8999999999999995},{"$f":"ROUND(R48+(R55-R48)/7*6,0)","v":{"$error":"#N/A"}},{"$error":"#N/A"},{"$error":"#N/A"},{"$f":"VLOOKUP(P54,Daten!C$6:E$115,3,FALSE)","v":{"$error":"#N/A"}},{"$f":"VLOOKUP(P54,Daten!C$6:L$115,10,FALSE)","v":{"$error":"#N/A"}},{"$f":"VLOOKUP(P54,Daten!C$6:M$115,11,FALSE)","v":{"$error":"#N/A"}},0.05,0.1,0.8,0.85]
[null,null,null,null,null,null,null,null,null,null,null,null,null,null,null,7,{"$f":"Q54+0.1","v":6.9999999999999991},{"$f":"VLOOKUP(Menü!H$24,Sollgewichte!A$4:CD$13,Q55+2,FALSE)","v":{"$error":"#N/A"}},{"$error":"#N/A"},{"$error":"#N/A"},{"$f":"VLOOKUP(P55,Daten!C$6:E$115,3,FALSE)","v":{"$error":"#N/A"}},{"$f":"VLOOKUP(P55,Daten!C$6:L$115,10,FALSE)","v":{"$error":"#N/A"}},{"$f":"VLOOKUP(P55,Daten!C$6:M$115,11,FALSE)","v":{"$error":"#N/A"}},0.05,0.1,0.8,0.85]
[null,null,null,null,null,null,null,null,null,null,null,null,null,null,null,7.2,{"$f":"Q55+0.2","v":7.1999999999999993},{"$f":"ROUND(R55+(R62-R55)/7,0)","v":{"$error":"#N/A"}},{"$error":"#N/A"},{"$error":"#N/A"},{"$f":"VLOOKUP(P56,Daten!C$6:E$115,3,FALSE)","v":{"$error":"#N/A"}},{"$f":"VLOOKUP(P56,Daten!C$6:L$115,10,FALSE)","v":{"$error":"#N/A"}},{"$f":"VLOOKUP(P56,Daten!C$6:M$115,11,FALSE)","v":{"$error":"#N/A"}},0.05,0.1,0.8,0.85]
[null,null,null,null,null,null,null,null,null,null,null,null,null,null,null,7.3,{"$f":"Q56+0.1","v":7.2999999999999989},{"$f":"ROUND(R55+(R62-R55)/7*2,0)","v":{"$error":"#N/A"}},{"$error":"#N/A"},{"$error":"#N/A"},{"$f":"VLOOKUP(P57,Daten!C$6:E$115,3,FALSE)","v":{"$error":"#N/A"}},{"$f":"VLOOKUP(P57,Daten!C$6:L$115,10,FALSE)","v":{"$error":"#N/A"}},{"$f":"VLOOKUP(P57,Daten!C$6:M$115,11,FALSE)","v":{"$error":"#N/A"}},0.05,0.1,0.8,0.85]
[null,null,null,null,null,null,null,null,null,null,null,null,null,null,null,7.5,{"$f":"Q57+0.2","v":7.4999999999999991},{"$f":"ROUND(R55+(R62-R55)/7*3,0)","v":{"$error":"#N/A"}},{"$error":"#N/A"},{"$error":"#N/A"},{"$f":"VLOOKUP(P58,Daten!C$6:E$115,3,FALSE)","v":{"$error":"#N/A"}},{"$f":"VLOOKUP(P58,Daten!C$6:L$115,10,FALSE)","v":{"$error":"#N/A"}},{"$f":"VLOOKUP(P58,Daten!C$6:M$115,11,FALSE)","v":{"$error":"#N/A"}},0.05,0.1,0.8,0.85]
[null,null,null,null,null,null,null,null,null,null,null,null,null,null,null,7.6,{"$f":"Q58+0.1","v":7.5999999999999988},{"$f":"ROUND(R55+(R62-R55)/7*4,0)","v":{"$error":"#N/A"}},{"$error":"#N/A"},{"$error":"#N/A"},{"$f":"VLOOKUP(P59,Daten!C$6:E$115,3,FALSE)","v":{"$error":"#N/A"}},{"$f":"VLOOKUP(P59,Daten!C$6:L$115,10,FALSE)","v":{"$error":"#N/A"}},{"$f":"VLOOKUP(P59,Daten!C$6:M$115,11,FALSE)","v":{"$error":"#N/A"}},0.05,0.1,0.8,0.85]
[null,null,null,null,null,null,null,null,null,null,null,null,null,null,null,7.8,{"$f":"Q59+0.2","v":7.7999999999999989},{"$f":"ROUND(R55+(R62-R55)/7*5,0)","v":{"$error":"#N/A"}},{"$error":"#N/A"},{"$error":"#N/A"},{"$f":"VLOOKUP(P60,Daten!C$6:E$115,3,FALSE)","v":{"$error":"#N/A"}},{"$f":"VLOOKUP(P60,Daten!C$6:L$115,10,FALSE)","v":{"$error":"#N/A"}},{"$f":"VLOOKUP(P60,Daten!C$6:M$115,11,FALSE)","v":{"$error":"#N/A"}},0.05,0.1,0.8,0.85]
[null,null,null,null,null,null,null,null,null,null,null,null,null,null,null,7.9,{"$f":"Q60+0.1","v":7.8999999999999986},{"$f":"ROUND(R55+(R62-R55)/7*6,0)","v":{"$error":"#N/A"}},{"$error":"#N/A"},{"$error":"#N/A"},{"$f":"VLOOKUP(P61,Daten!C$6:E$115,3,FALSE)","v":{"$error":"#N/A"}},{"$f":"VLOOKUP(P61,Daten!C$6:L$115,10,FALSE)","v":{"$error":"#N/A"}},{"$f":"VLOOKUP(P61,Daten!C$6:M$115,11,FALSE)","v":{"$error":"#N/A"}},0.05,0.1,0.8,0.85]
[null,null,null,null,null,null,null,null,null,null,null,null,null,null,null,8,{"$f":"Q61+0.1","v":7.9999999999999982},{"$f":"VLOOKUP(Menü!H$24,Sollgewichte!A$4:CD$13,Q62+2,FALSE)","v":{"$error":"#N/A"}},{"$error":"#N/A"},{"$error":"#N/A"},{"$f":"VLOOKUP(P62,Daten!C$6:E$115,3,FALSE)","v":{"$error":"#N/A"}},{"$f":"VLOOKUP(P62,Daten!C$6:L$115,10,FALSE)","v":{"$error":"#N/A"}},{"$f":"VLOOKUP(P62,Daten!C$6:M$115,11,FALSE)","v":{"$error":"#N/A"}},0.05,0.1,0.8,0.85]
[null,null,null,null,null,null,null,null,null,null,null,null,null,null,null,8.1999999999999993,{"$f":"Q62+0.2","v":8.1999999999999975},{"$f":"ROUND(R62+(R69-R62)/7,0)","v":{"$error":"#N/A"}},{"$error":"#N/A"},{"$error":"#N/A"},{"$f":"VLOOKUP(P63,Daten!C$6:E$115,3,FALSE)","v":{"$error":"#N/A"}},{"$f":"VLOOKUP(P63,Daten!C$6:L$115,10,FALSE)","v":{"$error":"#N/A"}},{"$f":"VLOOKUP(P63,Daten!C$6:M$115,11,FALSE)","v":{"$error":"#N/A"}},0.05,0.1,0.8,0.85]
[null,null,null,null,null,null,null,null,null,null,null,null,null,null,null,8.3000000000000007,{"$f":"Q63+0.1","v":8.2999999999999972},{"$f":"ROUND(R62+(R69-R62)/7*2,0)","v":{"$error":"#N/A"}},{"$error":"#N/A"},{"$error":"#N/A"},{"$f":"VLOOKUP(P64,Daten!C$6:E$115,3,FALSE)","v":{"$error":"#N/A"}},{"$f":"VLOOKUP(P64,Daten!C$6:L$115,10,FALSE)","v":{"$error":"#N/A"}},{"$f":"VLOOKUP(P64,Daten!C$6:M$115,11,FALSE)","v":{"$error":"#N/A"}},0.05,0.1,0.8,0.85]
[null,null,null,null,null,null,null,null,null,null,null,null,null,null,null,8.5,{"$f":"Q64+0.2","v":8.4999999999999964},{"$f":"ROUND(R62+(R69-R62)/7*3,0)","v":{"$error":"#N/A"}},{"$error":"#N/A"},{"$error":"#N/A"},{"$f":"VLOOKUP(P65,Daten!C$6:E$115,3,FALSE)","v":{"$error":"#N/A"}},{"$f":"VLOOKUP(P65,Daten!C$6:L$115,10,FALSE)","v":{"$error":"#N/A"}},{"$f":"VLOOKUP(P65,Daten!C$6:M$115,11,FALSE)","v":{"$error":"#N/A"}},0.05,0.1,0.8,0.85]
[null,null,null,null,null,null,null,null,null,null,null,null,null,null,null,8.6,{"$f":"Q65+0.1","v":8.5999999999999961},{"$f":"ROUND(R62+(R69-R62)/7*4,0)","v":{"$error":"#N/A"}},{"$error":"#N/A"},{"$error":"#N/A"},{"$f":"VLOOKUP(P66,Daten!C$6:E$115,3,FALSE)","v":{"$error":"#N/A"}},{"$f":"VLOOKUP(P66,Daten!C$6:L$115,10,FALSE)","v":{"$error":"#N/A"}},{"$f":"VLOOKUP(P66,Daten!C$6:M$115,11,FALSE)","v":{"$error":"#N/A"}},0.05,0.1,0.8,0.85]
[null,null,null,null,null,null,null,null,null,null,null,null,null,null,null,8.8000000000000007,{"$f":"Q66+0.2","v":8.7999999999999954},{"$f":"ROUND(R62+(R69-R62)/7*5,0)","v":{"$error":"#N/A"}},{"$error":"#N/A"},{"$error":"#N/A"},{"$f":"VLOOKUP(P67,Daten!C$6:E$115,3,FALSE)","v":{"$error":"#N/A"}},{"$f":"VLOOKUP(P67,Daten!C$6:L$115,10,FALSE)","v":{"$error":"#N/A"}},{"$f":"VLOOKUP(P67,Daten!C$6:M$115,11,FALSE)","v":{"$error":"#N/A"}},0.05,0.1,0.8,0.85]
[null,null,null,null,null,null,null,null,null,null,null,null,null,null,null,8.9,{"$f":"Q67+0.1","v":8.899999999999995},{"$f":"ROUND(R62+(R69-R62)/7*6,0)","v":{"$error":"#N/A"}},{"$error":"#N/A"},{"$error":"#N/A"},{"$f":"VLOOKUP(P68,Daten!C$6:E$115,3,FALSE)","v":{"$error":"#N/A"}},{"$f":"VLOOKUP(P68,Daten!C$6:L$115,10,FALSE)","v":{"$error":"#N/A"}},{"$f":"VLOOKUP(P68,Daten!C$6:M$115,11,FALSE)","v":{"$error":"#N/A"}},0.05,0.1,0.8,0.85]
[null,null,null,null,null,null,null,null,null,null,null,null,null,null,null,9,{"$f":"Q68+0.1","v":8.9999999999999947},{"$f":"VLOOKUP(Menü!H$24,Sollgewichte!A$4:CD$13,Q69+2,FALSE)","v":{"$error":"#N/A"}},{"$error":"#N/A"},{"$error":"#N/A"},{"$f":"VLOOKUP(P69,Daten!C$6:E$115,3,FALSE)","v":{"$error":"#N/A"}},{"$f":"VLOOKUP(P69,Daten!C$6:L$115,10,FALSE)","v":{"$error":"#N/A"}},{"$f":"VLOOKUP(P69,Daten!C$6:M$115,11,FALSE)","v":{"$error":"#N/A"}},0.05,0.1,0.8,0.85]
[null,null,null,null,null,null,null,null,null,null,null,null,null,null,null,9.1999999999999993,{"$f":"Q69+0.2","v":9.199999999999994},{"$f":"ROUND(R69+(R76-R69)/7,0)","v":{"$error":"#N/A"}},{"$error":"#N/A"},{"$error":"#N/A"},{"$f":"VLOOKUP(P70,Daten!C$6:E$115,3,FALSE)","v":{"$error":"#N/A"}},{"$f":"VLOOKUP(P70,Daten!C$6:L$115,10,FALSE)","v":{"$error":"#N/A"}},{"$f":"VLOOKUP(P70,Daten!C$6:M$115,11,FALSE)","v":{"$error":"#N/A"}},0.05,0.1,0.8,0.85]
[null,null,null,null,null,null,null,null,null,null,null,null,null,null,null,{"$f":"ROUND(Q71,1)","v":9.3000000000000007},{"$f":"Q70+0.1","v":9.2999999999999936},{"$f":"ROUND(R69+(R76-R69)/7*2,0)","v":{"$error":"#N/A"}},{"$f":"R71*0.95","v":{"$error":"#N/A"}},{"$f":"R71","v":{"$error":"#N/A"}},{"$f":"VLOOKUP(P71,Daten!C$6:E$115,3,FALSE)","v":{"$error":"#N/A"}},{"$f":"VLOOKUP(P71,Daten!C$6:L$115,10,FALSE)","v":{"$error":"#N/A"}},{"$f":"VLOOKUP(P71,Daten!C$6:M$115,11,FALSE)","v":{"$error":"#N/A"}},0.05,0.1,0.8,0.85]
[null,null,null,null,null,null,null,null,null,null,null,null,null,null,null,9.5,{"$f":"Q71+0.2","v":9.4999999999999929},{"$f":"ROUND(R69+(R76-R69)/7*3,0)","v":{"$error":"#N/A"}},{"$error":"#N/A"},{"$error":"#N/A"},{"$f":"VLOOKUP(P72,Daten!C$6:E$115,3,FALSE)","v":{"$error":"#N/A"}},{"$f":"VLOOKUP(P72,Daten!C$6:L$115,10,FALSE)","v":{"$error":"#N/A"}},{"$f":"VLOOKUP(P72,Daten!C$6:M$115,11,FALSE)","v":{"$error":"#N/A"}},0.05,0.1,0.8,0.85]
[null,null,null,null,null,null,null,null,null,null,null,null,null,null,null,9.6,{"$f":"Q72+0.1","v":9.5999999999999925},{"$f":"ROUND(R69+(R76-R69)/7*4,0)","v":{"$error":"#N/A"}},{"$error":"#N/A"},{"$error":"#N/A"},{"$f":"VLOOKUP(P73,Daten!C$6:E$115,3,FALSE)","v":{"$error":"#N/A"}},{"$f":"VLOOKUP(P73,Daten!C$6:L$115,10,FALSE)","v":{"$error":"#N/A"}},{"$f":"VLOOKUP(P73,Daten!C$6:M$115,11,FALSE)","v":{"$error":"#N/A"}},0.05,0.1,0.8,0.85]
[null,null,null,null,null,null,null,null,null,null,null,null,null,null,null,9.8000000000000007,{"$f":"Q73+0.2","v":9.7999999999999918},{"$f":"ROUND(R69+(R76-R69)/7*5,0)","v":{"$error":"#N/A"}},{"$error":"#N/A"},{"$error":"#N/A"},{"$f":"VLOOKUP(P74,Daten!C$6:E$115,3,FALSE)","v":{"$error":"#N/A"}},{"$f":"VLOOKUP(P74,Daten!C$6:L$115,10,FALSE)","v":{"$error":"#N/A"}},{"$f":"VLOOKUP(P74,Daten!C$6:M$115,11,FALSE)","v":{"$error":"#N/A"}},0.05,0.1,0.8,0.85]
[null,null,null,null,null,null,null,null,null,null,null,null,null,null,null,9.9,{"$f":"Q74+0.1","v":9.8999999999999915},{"$f":"ROUND(R69+(R76-R69)/7*6,0)","v":{"$error":"#N/A"}},{"$error":"#N/A"},{"$error":"#N/A"},{"$f":"VLOOKUP(P75,Daten!C$6:E$115,3,FALSE)","v":{"$error":"#N/A"}},{"$f":"VLOOKUP(P75,Daten!C$6:L$115,10,FALSE)","v":{"$error":"#N/A"}},{"$f":"VLOOKUP(P75,Daten!C$6:M$115,11,FALSE)","v":{"$error":"#N/A"}},0.05,0.1,0.8,0.85]
[null,null,null,null,null,null,null,null,null,null,null,null,null,null,null,10,{"$f":"Q75+0.1","v":9.9999999999999911},{"$f":"VLOOKUP(Menü!H$24,Sollgewichte!A$4:CD$13,Q76+2,FALSE)","v":{"$error":"#N/A"}},{"$error":"#N/A"},{"$error":"#N/A"},{"$f":"VLOOKUP(P76,Daten!C$6:E$115,3,FALSE)","v":{"$error":"#N/A"}},{"$f":"VLOOKUP(P76,Daten!C$6:L$115,10,FALSE)","v":{"$error":"#N/A"}},{"$f":"VLOOKUP(P76,Daten!C$6:M$115,11,FALSE)","v":{"$error":"#N/A"}},0.05,0.1,0.8,0.85]
[null,null,null,null,null,null,null,null,null,null,null,null,null,null,null,10.199999999999999,{"$f":"Q76+0.2","v":10.19999999999999},{"$f":"ROUND(R76+(R83-R76)/7,0)","v":{"$error":"#N/A"}},{"$error":"#N/A"},{"$error":"#N/A"},{"$f":"VLOOKUP(P77,Daten!C$6:E$115,3,FALSE)","v":{"$error":"#N/A"}},{"$f":"VLOOKUP(P77,Daten!C$6:L$115,10,FALSE)","v":{"$error":"#N/A"}},{"$f":"VLOOKUP(P77,Daten!C$6:M$115,11,FALSE)","v":{"$error":"#N/A"}},0.05,0.1,0.8,0.85]
[null,null,null,null,null,null,null,null,null,null,null,null,null,null,null,10.3,{"$f":"Q77+0.1","v":10.29999999999999},{"$f":"ROUND(R76+(R83-R76)/7*2,0)","v":{"$error":"#N/A"}},{"$error":"#N/A"},{"$error":"#N/A"},{"$f":"VLOOKUP(P78,Daten!C$6:E$115,3,FALSE)","v":{"$error":"#N/A"}},{"$f":"VLOOKUP(P78,Daten!C$6:L$115,10,FALSE)","v":{"$error":"#N/A"}},{"$f":"VLOOKUP(P78,Daten!C$6:M$115,11,FALSE)","v":{"$error":"#N/A"}},0.05,0.1,0.8,0.85]
[null,null,null,null,null,null,null,null,null,null,null,null,null,null,null,10.5,{"$f":"Q78+0.2","v":10.499999999999989},{"$f":"ROUND(R76+(R83-R76)/7*3,0)","v":{"$error":"#N/A"}},{"$error":"#N/A"},{"$error":"#N/A"},{"$f":"VLOOKUP(P79,Daten!C$6:E$115,3,FALSE)","v":{"$error":"#N/A"}},{"$f":"VLOOKUP(P79,Daten!C$6:L$115,10,FALSE)","v":{"$error":"#N/A"}},{"$f":"VLOOKUP(P79,Daten!C$6:M$115,11,FALSE)","v":{"$error":"#N/A"}},0.05,0.1,0.8,0.85]
[null,null,null,null,null,null,null,null,null,null,null,null,null,null,null,10.6,{"$f":"Q79+0.1","v":10.599999999999989},{"$f":"ROUND(R76+(R83-R76)/7*4,0)","v":{"$error":"#N/A"}},{"$error":"#N/A"},{"$error":"#N/A"},{"$f":"VLOOKUP(P80,Daten!C$6:E$115,3,FALSE)","v":{"$error":"#N/A"}},{"$f":"VLOOKUP(P80,Daten!C$6:L$115,10,FALSE)","v":{"$error":"#N/A"}},{"$f":"VLOOKUP(P80,Daten!C$6:M$115,11,FALSE)","v":{"$error":"#N/A"}},0.05,0.1,0.8,0.85]
[null,null,null,null,null,null,null,null,null,null,null,null,null,null,null,10.8,{"$f":"Q80+0.2","v":10.799999999999988},{"$f":"ROUND(R76+(R83-R76)/7*5,0)","v":{"$error":"#N/A"}},{"$error":"#N/A"},{"$error":"#N/A"},{"$f":"VLOOKUP(P81,Daten!C$6:E$115,3,FALSE)","v":{"$error":"#N/A"}},{"$f":"VLOOKUP(P81,Daten!C$6:L$115,10,FALSE)","v":{"$error":"#N/A"}},{"$f":"VLOOKUP(P81,Daten!C$6:M$115,11,FALSE)","v":{"$error":"#N/A"}},0.05,0.1,0.8,0.85]
[null,null,null,null,null,null,null,null,null,null,null,null,null,null,null,10.9,{"$f":"Q81+0.1","v":10.899999999999988},{"$f":"ROUND(R76+(R83-R76)/7*6,0)","v":{"$error":"#N/A"}},{"$error":"#N/A"},{"$error":"#N/A"},{"$f":"VLOOKUP(P82,Daten!C$6:E$115,3,FALSE)","v":{"$error":"#N/A"}},{"$f":"VLOOKUP(P82,Daten!C$6:L$115,10,FALSE)","v":{"$error":"#N/A"}},{"$f":"VLOOKUP(P82,Daten!C$6:M$115,11,FALSE)","v":{"$error":"#N/A"}},0.05,0.1,0.8,0.85]
[null,null,null,null,null,null,null,null,null,null,null,null,null,null,null,11,{"$f":"Q82+0.1","v":10.999999999999988},{"$f":"VLOOKUP(Menü!H$24,Sollgewichte!A$4:CD$13,Q83+2,FALSE)","v":{"$error":"#N/A"}},{"$error":"#N/A"},{"$error":"#N/A"},{"$f":"VLOOKUP(P83,Daten!C$6:E$115,3,FALSE)","v":{"$error":"#N/A"}},{"$f":"VLOOKUP(P83,Daten!C$6:L$115,10,FALSE)","v":{"$error":"#N/A"}},{"$f":"VLOOKUP(P83,Daten!C$6:M$115,11,FALSE)","v":{"$error":"#N/A"}},0.05,0.1,0.8,0.85]
[null,null,null,null,null,null,null,null,null,null,null,null,null,null,null,11.2,{"$f":"Q83+0.2","v":11.199999999999987},{"$f":"ROUND(R83+(R90-R83)/7,0)","v":{"$error":"#N/A"}},{"$error":"#N/A"},{"$error":"#N/A"},{"$f":"VLOOKUP(P84,Daten!C$6:E$115,3,FALSE)","v":{"$error":"#N/A"}},{"$f":"VLOOKUP(P84,Daten!C$6:L$115,10,FALSE)","v":{"$error":"#N/A"}},{"$f":"VLOOKUP(P84,Daten!C$6:M$115,11,FALSE)","v":{"$error":"#N/A"}},0.05,0.1,0.8,0.85]
[null,null,null,null,null,null,null,null,null,null,null,null,null,null,null,11.3,{"$f":"Q84+0.1","v":11.299999999999986},{"$f":"ROUND(R83+(R90-R83)/7*2,0)","v":{"$error":"#N/A"}},{"$error":"#N/A"},{"$error":"#N/A"},{"$f":"VLOOKUP(P85,Daten!C$6:E$115,3,FALSE)","v":{"$error":"#N/A"}},{"$f":"VLOOKUP(P85,Daten!C$6:L$115,10,FALSE)","v":{"$error":"#N/A"}},{"$f":"VLOOKUP(P85,Daten!C$6:M$115,11,FALSE)","v":{"$error":"#N/A"}},0.05,0.1,0.8,0.85]
[null,null,null,null,null,null,null,null,null,null,null,null,null,null,null,11.5,{"$f":"Q85+0.2","v":11.499999999999986},{"$f":"ROUND(R83+(R90-R83)/7*3,0)","v":{"$error":"#N/A"}},{"$error":"#N/A"},{"$error":"#N/A"},{"$f":"VLOOKUP(P86,Daten!C$6:E$115,3,FALSE)","v":{"$error":"#N/A"}},{"$f":"VLOOKUP(P86,Daten!C$6:L$115,10,FALSE)","v":{"$error":"#N/A"}},{"$f":"VLOOKUP(P86,Daten!C$6:M$115,11,FALSE)","v":{"$error":"#N/A"}},0.05,0.1,0.8,0.85]
[null,null,null,null,null,null,null,null,null,null,null,null,null,null,null,11.6,{"$f":"Q86+0.1","v":11.599999999999985},{"$f":"ROUND(R83+(R90-R83)/7*4,0)","v":{"$error":"#N/A"}},{"$error":"#N/A"},{"$error":"#N/A"},{"$f":"VLOOKUP(P87,Daten!C$6:E$115,3,FALSE)","v":{"$error":"#N/A"}},{"$f":"VLOOKUP(P87,Daten!C$6:L$115,10,FALSE)","v":{"$error":"#N/A"}},{"$f":"VLOOKUP(P87,Daten!C$6:M$115,11,FALSE)","v":{"$error":"#N/A"}},0.05,0.1,0.8,0.85]
[null,null,null,null,null,null,null,null,null,null,null,null,null,null,null,11.8,{"$f":"Q87+0.2","v":11.799999999999985},{"$f":"ROUND(R83+(R90-R83)/7*5,0)","v":{"$error":"#N/A"}},{"$error":"#N/A"},{"$error":"#N/A"},{"$f":"VLOOKUP(P88,Daten!C$6:E$115,3,FALSE)","v":{"$error":"#N/A"}},{"$f":"VLOOKUP(P88,Daten!C$6:L$115,10,FALSE)","v":{"$error":"#N/A"}},{"$f":"VLOOKUP(P88,Daten!C$6:M$115,11,FALSE)","v":{"$error":"#N/A"}},0.05,0.1,0.8,0.85]
[null,null,null,null,null,null,null,null,null,null,null,null,null,null,null,11.9,{"$f":"Q88+0.1","v":11.899999999999984},{"$f":"ROUND(R83+(R90-R83)/7*6,0)","v":{"$error":"#N/A"}},{"$error":"#N/A"},{"$error":"#N/A"},{"$f":"VLOOKUP(P89,Daten!C$6:E$115,3,FALSE)","v":{"$error":"#N/A"}},{"$f":"VLOOKUP(P89,Daten!C$6:L$115,10,FALSE)","v":{"$error":"#N/A"}},{"$f":"VLOOKUP(P89,Daten!C$6:M$115,11,FALSE)","v":{"$error":"#N/A"}},0.05,0.1,0.8,0.85]
[null,null,null,null,null,null,null,null,null,null,null,null,null,null,null,12,{"$f":"Q89+0.1","v":11.999999999999984},{"$f":"VLOOKUP(Menü!H$24,Sollgewichte!A$4:CD$13,Q90+2,FALSE)","v":{"$error":"#N/A"}},{"$error":"#N/A"},{"$error":"#N/A"},{"$f":"VLOOKUP(P90,Daten!C$6:E$115,3,FALSE)","v":{"$error":"#N/A"}},{"$f":"VLOOKUP(P90,Daten!C$6:L$115,10,FALSE)","v":{"$error":"#N/A"}},{"$f":"VLOOKUP(P90,Daten!C$6:M$115,11,FALSE)","v":{"$error":"#N/A"}},0.05,0.1,0.8,0.85]
[null,null,null,null,null,null,null,null,null,null,null,null,null,null,null,12.2,{"$f":"Q90+0.2","v":12.199999999999983},{"$f":"ROUND(R90+(R97-R90)/7,0)","v":{"$error":"#N/A"}},{"$error":"#N/A"},{"$error":"#N/A"},{"$f":"VLOOKUP(P91,Daten!C$6:E$115,3,FALSE)","v":{"$error":"#N/A"}},{"$f":"VLOOKUP(P91,Daten!C$6:L$115,10,FALSE)","v":{"$error":"#N/A"}},{"$f":"VLOOKUP(P91,Daten!C$6:M$115,11,FALSE)","v":{"$error":"#N/A"}},0.05,0.1,0.8,0.85]
[null,null,null,null,null,null,null,null,null,null,null,null,null,null,null,12.3,{"$f":"Q91+0.1","v":12.299999999999983},{"$f":"ROUND(R90+(R97-R90)/7*2,0)","v":{"$error":"#N/A"}},{"$error":"#N/A"},{"$error":"#N/A"},{"$f":"VLOOKUP(P92,Daten!C$6:E$115,3,FALSE)","v":{"$error":"#N/A"}},{"$f":"VLOOKUP(P92,Daten!C$6:L$115,10,FALSE)","v":{"$error":"#N/A"}},{"$f":"VLOOKUP(P92,Daten!C$6:M$115,11,FALSE)","v":{"$error":"#N/A"}},0.05,0.1,0.8,0.85]
[null,null,null,null,null,null,null,null,null,null,null,null,null,null,null,12.5,{"$f":"Q92+0.2","v":12.499999999999982},{"$f":"ROUND(R90+(R97-R90)/7*3,0)","v":{"$error":"#N/A"}},{"$error":"#N/A"},{"$error":"#N/A"},{"$f":"VLOOKUP(P93,Daten!C$6:E$115,3,FALSE)","v":{"$error":"#N/A"}},{"$f":"VLOOKUP(P93,Daten!C$6:L$115,10,FALSE)","v":{"$error":"#N/A"}},{"$f":"VLOOKUP(P93,Daten!C$6:M$115,11,FALSE)","v":{"$error":"#N/A"}},0.05,0.1,0.8,0.85]
[null,null,null,null,null,null,null,null,null,null,null,null,null,null,null,12.6,{"$f":"Q93+0.1","v":12.599999999999982},{"$f":"ROUND(R90+(R97-R90)/7*4,0)","v":{"$error":"#N/A"}},{"$error":"#N/A"},{"$error":"#N/A"},{"$f":"VLOOKUP(P94,Daten!C$6:E$115,3,FALSE)","v":{"$error":"#N/A"}},{"$f":"VLOOKUP(P94,Daten!C$6:L$115,10,FALSE)","v":{"$error":"#N/A"}},{"$f":"VLOOKUP(P94,Daten!C$6:M$115,11,FALSE)","v":{"$error":"#N/A"}},0.05,0.1,0.8,0.85]
[null,null,null,null,null,null,null,null,null,null,null,null,null,null,null,12.8,{"$f":"Q94+0.2","v":12.799999999999981},{"$f":"ROUND(R90+(R97-R90)/7*5,0)","v":{"$error":"#N/A"}},{"$error":"#N/A"},{"$error":"#N/A"},{"$f":"VLOOKUP(P95,Daten!C$6:E$115,3,FALSE)","v":{"$error":"#N/A"}},{"$f":"VLOOKUP(P95,Daten!C$6:L$115,10,FALSE)","v":{"$error":"#N/A"}},{"$f":"VLOOKUP(P95,Daten!C$6:M$115,11,FALSE)","v":{"$error":"#N/A"}},0.05,0.1,0.8,0.85]
[null,null,null,null,null,null,null,null,null,null,null,null,null,null,null,12.9,{"$f":"Q95+0.1","v":12.899999999999981},{"$f":"ROUND(R90+(R97-R90)/7*6,0)","v":{"$error":"#N/A"}},{"$error":"#N/A"},{"$error":"#N/A"},{"$f":"VLOOKUP(P96,Daten!C$6:E$115,3,FALSE)","v":{"$error":"#N/A"}},{"$f":"VLOOKUP(P96,Daten!C$6:L$115,10,FALSE)","v":{"$error":"#N/A"}},{"$f":"VLOOKUP(P96,Daten!C$6:M$115,11,FALSE)","v":{"$error":"#N/A"}},0.05,0.1,0.8,0.85]
[null,null,null,null,null,null,null,null,null,null,null,null,null,null,null,13,{"$f":"Q96+0.1","v":12.99999999999998},{"$f":"VLOOKUP(Menü!H$24,Sollgewichte!A$4:CD$13,Q97+2,FALSE)","v":{"$error":"#N/A"}},{"$error":"#N/A"},{"$error":"#N/A"},{"$f":"VLOOKUP(P97,Daten!C$6:E$115,3,FALSE)","v":{"$error":"#N/A"}},{"$f":"VLOOKUP(P97,Daten!C$6:L$115,10,FALSE)","v":{"$error":"#N/A"}},{"$f":"VLOOKUP(P97,Daten!C$6:M$115,11,FALSE)","v":{"$error":"#N/A"}},0.05,0.1,0.8,0.85]
[null,null,null,null,null,null,null,null,null,null,null,null,null,null,null,13.2,{"$f":"Q97+0.2","v":13.19999999999998},{"$f":"ROUND(R97+(R104-R97)/7,0)","v":{"$error":"#N/A"}},{"$error":"#N/A"},{"$error":"#N/A"},{"$f":"VLOOKUP(P98,Daten!C$6:E$115,3,FALSE)","v":{"$error":"#N/A"}},{"$f":"VLOOKUP(P98,Daten!C$6:L$115,10,FALSE)","v":{"$error":"#N/A"}},{"$f":"VLOOKUP(P98,Daten!C$6:M$115,11,FALSE)","v":{"$error":"#N/A"}},0.05,0.1,0.8,0.85]
[null,null,null,null,null,null,null,null,null,null,null,null,null,null,null,13.3,{"$f":"Q98+0.1","v":13.299999999999979},{"$f":"ROUND(R97+(R104-R97)/7*2,0)","v":{"$error":"#N/A"}},{"$error":"#N/A"},{"$error":"#N/A"},{"$f":"VLOOKUP(P99,Daten!C$6:E$115,3,FALSE)","v":{"$error":"#N/A"}},{"$f":"VLOOKUP(P99,Daten!C$6:L$115,10,FALSE)","v":{"$error":"#N/A"}},{"$f":"VLOOKUP(P99,Daten!C$6:M$115,11,FALSE)","v":{"$error":"#N/A"}},0.05,0.1,0.8,0.85]
[null,null,null,null,null,null,null,null,null,null,null,null,null,null,null,13.5,{"$f":"Q99+0.2","v":13.499999999999979},{"$f":"ROUND(R97+(R104-R97)/7*3,0)","v":{"$error":"#N/A"}},{"$error":"#N/A"},{"$error":"#N/A"},{"$f":"VLOOKUP(P100,Daten!C$6:E$115,3,FALSE)","v":{"$error":"#N/A"}},{"$f":"VLOOKUP(P100,Daten!C$6:L$115,10,FALSE)","v":{"$error":"#N/A"}},{"$f":"VLOOKUP(P100,Daten!C$6:M$115,11,FALSE)","v":{"$error":"#N/A"}},0.05,0.1,0.8,0.85]
[null,null,null,null,null,null,null,null,null,null,null,null,null,null,null,13.6,{"$f":"Q100+0.1","v":13.599999999999978},{"$f":"ROUND(R97+(R104-R97)/7*4,0)","v":{"$error":"#N/A"}},{"$error":"#N/A"},{"$error":"#N/A"},{"$f":"VLOOKUP(P101,Daten!C$6:E$115,3,FALSE)","v":{"$error":"#N/A"}},{"$f":"VLOOKUP(P101,Daten!C$6:L$115,10,FALSE)","v":{"$error":"#N/A"}},{"$f":"VLOOKUP(P101,Daten!C$6:M$115,11,FALSE)","v":{"$error":"#N/A"}},0.05,0.1,0.8,0.85]
[null,null,null,null,null,null,null,null,null,null,null,null,null,null,null,13.8,{"$f":"Q101+0.2","v":13.799999999999978},{"$f":"ROUND(R97+(R104-R97)/7*5,0)","v":{"$error":"#N/A"}},{"$error":"#N/A"},{"$error":"#N/A"},{"$f":"VLOOKUP(P102,Daten!C$6:E$115,3,FALSE)","v":{"$error":"#N/A"}},{"$f":"VLOOKUP(P102,Daten!C$6:L$115,10,FALSE)","v":{"$error":"#N/A"}},{"$f":"VLOOKUP(P102,Daten!C$6:M$115,11,FALSE)","v":{"$error":"#N/A"}},0.05,0.1,0.8,0.85]
[null,null,null,null,null,null,null,null,null,null,null,null,null,null,null,13.9,{"$f":"Q102+0.1","v":13.899999999999977},{"$f":"ROUND(R97+(R104-R97)/7*6,0)","v":{"$error":"#N/A"}},{"$error":"#N/A"},{"$error":"#N/A"},{"$f":"VLOOKUP(P103,Daten!C$6:E$115,3,FALSE)","v":{"$error":"#N/A"}},{"$f":"VLOOKUP(P103,Daten!C$6:L$115,10,FALSE)","v":{"$error":"#N/A"}},{"$f":"VLOOKUP(P103,Daten!C$6:M$115,11,FALSE)","v":{"$error":"#N/A"}},0.05,0.1,0.8,0.85]
[null,null,null,null,null,null,null,null,null,null,null,null,null,null,null,14,{"$f":"Q103+0.1","v":13.999999999999977},{"$f":"VLOOKUP(Menü!H$24,Sollgewichte!A$4:CD$13,Q104+2,FALSE)","v":{"$error":"#N/A"}},{"$error":"#N/A"},{"$error":"#N/A"},{"$f":"VLOOKUP(P104,Daten!C$6:E$115,3,FALSE)","v":{"$error":"#N/A"}},{"$f":"VLOOKUP(P104,Daten!C$6:L$115,10,FALSE)","v":{"$error":"#N/A"}},{"$f":"VLOOKUP(P104,Daten!C$6:M$115,11,FALSE)","v":{"$error":"#N/A"}},0.05,0.1,0.8,0.85]
[null,null,null,null,null,null,null,null,null,null,null,null,null,null,null,14.2,{"$f":"Q104+0.2","v":14.199999999999976},{"$f":"ROUND(R104+(R111-R104)/7,0)","v":{"$error":"#N/A"}},{"$error":"#N/A"},{"$error":"#N/A"},{"$f":"VLOOKUP(P105,Daten!C$6:E$115,3,FALSE)","v":{"$error":"#N/A"}},{"$f":"VLOOKUP(P105,Daten!C$6:L$115,10,FALSE)","v":{"$error":"#N/A"}},{"$f":"VLOOKUP(P105,Daten!C$6:M$115,11,FALSE)","v":{"$error":"#N/A"}},0.05,0.1,0.8,0.85]
[null,null,null,null,null,null,null,null,null,null,null,null,null,null,null,14.3,{"$f":"Q105+0.1","v":14.299999999999976},{"$f":"ROUND(R104+(R111-R104)/7*2,0)","v":{"$error":"#N/A"}},{"$error":"#N/A"},{"$error":"#N/A"},{"$f":"VLOOKUP(P106,Daten!C$6:E$115,3,FALSE)","v":{"$error":"#N/A"}},{"$f":"VLOOKUP(P106,Daten!C$6:L$115,10,FALSE)","v":{"$error":"#N/A"}},{"$f":"VLOOKUP(P106,Daten!C$6:M$115,11,FALSE)","v":{"$error":"#N/A"}},0.05,0.1,0.8,0.85]
[null,null,null,null,null,null,null,null,null,null,null,null,null,null,null,14.5,{"$f":"Q106+0.2","v":14.499999999999975},{"$f":"ROUND(R104+(R111-R104)/7*3,0)","v":{"$error":"#N/A"}},{"$error":"#N/A"},{"$error":"#N/A"},{"$f":"VLOOKUP(P107,Daten!C$6:E$115,3,FALSE)","v":{"$error":"#N/A"}},{"$f":"VLOOKUP(P107,Daten!C$6:L$115,10,FALSE)","v":{"$error":"#N/A"}},{"$f":"VLOOKUP(P107,Daten!C$6:M$115,11,FALSE)","v":{"$error":"#N/A"}},0.05,0.1,0.8,0.85]
[null,null,null,null,null,null,null,null,null,null,null,null,null,null,null,14.6,{"$f":"Q107+0.1","v":14.599999999999975},{"$f":"ROUND(R104+(R111-R104)/7*4,0)","v":{"$error":"#N/A"}},{"$error":"#N/A"},{"$error":"#N/A"},{"$f":"VLOOKUP(P108,Daten!C$6:E$115,3,FALSE)","v":{"$error":"#N/A"}},{"$f":"VLOOKUP(P108,Daten!C$6:L$115,10,FALSE)","v":{"$error":"#N/A"}},{"$f":"VLOOKUP(P108,Daten!C$6:M$115,11,FALSE)","v":{"$error":"#N/A"}},0.05,0.1,0.8,0.85]
[null,null,null,null,null,null,null,null,null,null,null,null,null,null,null,14.8,{"$f":"Q108+0.2","v":14.799999999999974},{"$f":"ROUND(R104+(R111-R104)/7*5,0)","v":{"$error":"#N/A"}},{"$error":"#N/A"},{"$error":"#N/A"},{"$f":"VLOOKUP(P109,Daten!C$6:E$115,3,FALSE)","v":{"$error":"#N/A"}},{"$f":"VLOOKUP(P109,Daten!C$6:L$115,10,FALSE)","v":{"$error":"#N/A"}},{"$f":"VLOOKUP(P109,Daten!C$6:M$115,11,FALSE)","v":{"$error":"#N/A"}},0.05,0.1,0.8,0.85]
[null,null,null,null,null,null,null,null,null,null,null,null,null,null,null,14.9,{"$f":"Q109+0.1","v":14.899999999999974},{"$f":"ROUND(R104+(R111-R104)/7*6,0)","v":{"$error":"#N/A"}},{"$error":"#N/A"},{"$error":"#N/A"},{"$f":"VLOOKUP(P110,Daten!C$6:E$115,3,FALSE)","v":{"$error":"#N/A"}},{"$f":"VLOOKUP(P110,Daten!C$6:L$115,10,FALSE)","v":{"$error":"#N/A"}},{"$f":"VLOOKUP(P110,Daten!C$6:M$115,11,FALSE)","v":{"$error":"#N/A"}},0.05,0.1,0.8,0.85]
[null,null,null,null,null,null,null,null,null,null,null,null,null,null,null,15,{"$f":"Q110+0.1","v":14.999999999999973},{"$f":"VLOOKUP(Menü!H$24,Sollgewichte!A$4:CD$13,Q111+2,FALSE)","v":{"$error":"#N/A"}},{"$error":"#N/A"},{"$error":"#N/A"},{"$f":"VLOOKUP(P111,Daten!C$6:E$115,3,FALSE)","v":{"$error":"#N/A"}},{"$f":"VLOOKUP(P111,Daten!C$6:L$115,10,FALSE)","v":{"$error":"#N/A"}},{"$f":"VLOOKUP(P111,Daten!C$6:M$115,11,FALSE)","v":{"$error":"#N/A"}},0.05,0.1,0.8,0.85]
[null,null,null,null,null,null,null,null,null,null,null,null,null,null,null,15.2,{"$f":"Q111+0.2","v":15.199999999999973},{"$f":"ROUND(R111+(R118-R111)/7,0)","v":{"$error":"#N/A"}},{"$error":"#N/A"},{"$error":"#N/A"},{"$f":"VLOOKUP(P112,Daten!C$6:E$115,3,FALSE)","v":{"$error":"#N/A"}},{"$f":"VLOOKUP(P112,Daten!C$6:L$115,10,FALSE)","v":{"$error":"#N/A"}},{"$f":"VLOOKUP(P112,Daten!C$6:M$115,11,FALSE)","v":{"$error":"#N/A"}},0.05,0.1,0.8,0.85]
[null,null,null,null,null,null,null,null,null,null,null,null,null,null,null,15.3,{"$f":"Q112+0.1","v":15.299999999999972},{"$f":"ROUND(R111+(R118-R111)/7*2,0)","v":{"$error":"#N/A"}},{"$error":"#N/A"},{"$error":"#N/A"},{"$f":"VLOOKUP(P113,Daten!C$6:E$115,3,FALSE)","v":{"$error":"#N/A"}},{"$f":"VLOOKUP(P113,Daten!C$6:L$115,10,FALSE)","v":{"$error":"#N/A"}},{"$f":"VLOOKUP(P113,Daten!C$6:M$115,11,FALSE)","v":{"$error":"#N/A"}},0.05,0.1,0.8,0.85]
[null,null,null,null,null,null,null,null,null,null,null,null,null,null,null,15.5,{"$f":"Q113+0.2","v":15.499999999999972},{"$f":"ROUND(R111+(R118-R111)/7*3,0)","v":{"$error":"#N/A"}},{"$error":"#N/A"},{"$error":"#N/A"},{"$f":"VLOOKUP(P114,Daten!C$6:E$115,3,FALSE)","v":{"$error":"#N/A"}},{"$f":"VLOOKUP(P114,Daten!C$6:L$115,10,FALSE)","v":{"$error":"#N/A"}},{"$f":"VLOOKUP(P114,Daten!C$6:M$115,11,FALSE)","v":{"$error":"#N/A"}},0.05,0.1,0.8,0.85]
[null,null,null,null,null,null,null,null,null,null,null,null,null,null,null,15.6,{"$f":"Q114+0.1","v":15.599999999999971},{"$f":"ROUND(R111+(R118-R111)/7*4,0)","v":{"$error":"#N/A"}},{"$error":"#N/A"},{"$error":"#N/A"},{"$f":"VLOOKUP(P115,Daten!C$6:E$115,3,FALSE)","v":{"$error":"#N/A"}},{"$f":"VLOOKUP(P115,Daten!C$6:L$115,10,FALSE)","v":{"$error":"#N/A"}},{"$f":"VLOOKUP(P115,Daten!C$6:M$115,11,FALSE)","v":{"$error":"#N/A"}},0.05,0.1,0.8,0.85]
[null,null,null,null,null,null,null,null,null,null,null,null,null,null,null,15.8,{"$f":"Q115+0.2","v":15.799999999999971},{"$f":"ROUND(R111+(R118-R111)/7*5,0)","v":{"$error":"#N/A"}},{"$error":"#N/A"},{"$error":"#N/A"},{"$f":"VLOOKUP(P116,Daten!C$6:E$115,3,FALSE)","v":{"$error":"#N/A"}},{"$f":"VLOOKUP(P116,Daten!C$6:L$115,10,FALSE)","v":{"$error":"#N/A"}},{"$f":"VLOOKUP(P116,Daten!C$6:M$115,11,FALSE)","v":{"$error":"#N/A"}},0.05,0.1,0.8,0.85]
[null,null,null,null,null,null,null,null,null,null,null,null,null,null,null,15.9,{"$f":"Q116+0.1","v":15.89999999999997},{"$f":"ROUND(R111+(R118-R111)/7*6,0)","v":{"$error":"#N/A"}},{"$error":"#N/A"},{"$error":"#N/A"},{"$f":"VLOOKUP(P117,Daten!C$6:E$115,3,FALSE)","v":{"$error":"#N/A"}},{"$f":"VLOOKUP(P117,Daten!C$6:L$115,10,FALSE)","v":{"$error":"#N/A"}},{"$f":"VLOOKUP(P117,Daten!C$6:M$115,11,FALSE)","v":{"$error":"#N/A"}},0.05,0.1,0.8,0.85]
[null,null,null,null,null,null,null,null,null,null,null,null,null,null,null,16,{"$f":"Q117+0.1","v":15.99999999999997},{"$f":"VLOOKUP(Menü!H$24,Sollgewichte!A$4:CD$13,Q118+2,FALSE)","v":{"$error":"#N/A"}},{"$error":"#N/A"},{"$error":"#N/A"},{"$f":"VLOOKUP(P118,Daten!C$6:E$115,3,FALSE)","v":{"$error":"#N/A"}},{"$f":"VLOOKUP(P118,Daten!C$6:L$115,10,FALSE)","v":{"$error":"#N/A"}},{"$f":"VLOOKUP(P118,Daten!C$6:M$115,11,FALSE)","v":{"$error":"#N/A"}},0.05,0.1,0.8,0.85]
[null,null,null,null,null,null,null,null,null,null,null,null,null,null,null,16.2,{"$f":"Q118+0.2","v":16.199999999999971},{"$f":"ROUND(R118+(R125-R118)/7,0)","v":{"$error":"#N/A"}},{"$error":"#N/A"},{"$error":"#N/A"},{"$f":"VLOOKUP(P119,Daten!C$6:E$115,3,FALSE)","v":{"$error":"#N/A"}},{"$f":"VLOOKUP(P119,Daten!C$6:L$115,10,FALSE)","v":{"$error":"#N/A"}},{"$f":"VLOOKUP(P119,Daten!C$6:M$115,11,FALSE)","v":{"$error":"#N/A"}},0.05,0.1,0.8,0.85]
[null,null,null,null,null,null,null,null,null,null,null,null,null,null,null,16.3,{"$f":"Q119+0.1","v":16.299999999999972},{"$f":"ROUND(R118+(R125-R118)/7*2,0)","v":{"$error":"#N/A"}},{"$error":"#N/A"},{"$error":"#N/A"},{"$f":"VLOOKUP(P120,Daten!C$6:E$115,3,FALSE)","v":{"$error":"#N/A"}},{"$f":"VLOOKUP(P120,Daten!C$6:L$115,10,FALSE)","v":{"$error":"#N/A"}},{"$f":"VLOOKUP(P120,Daten!C$6:M$115,11,FALSE)","v":{"$error":"#N/A"}},0.05,0.1,0.8,0.85]
[null,null,null,null,null,null,null,null,null,null,null,null,null,null,null,16.5,{"$f":"Q120+0.2","v":16.499999999999972},{"$f":"ROUND(R118+(R125-R118)/7*3,0)","v":{"$error":"#N/A"}},{"$error":"#N/A"},{"$error":"#N/A"},{"$f":"VLOOKUP(P121,Daten!C$6:E$115,3,FALSE)","v":{"$error":"#N/A"}},{"$f":"VLOOKUP(P121,Daten!C$6:L$115,10,FALSE)","v":{"$error":"#N/A"}},{"$f":"VLOOKUP(P121,Daten!C$6:M$115,11,FALSE)","v":{"$error":"#N/A"}},0.05,0.1,0.8,0.85]
[null,null,null,null,null,null,null,null,null,null,null,null,null,null,null,16.600000000000001,{"$f":"Q121+0.1","v":16.599999999999973},{"$f":"ROUND(R118+(R125-R118)/7*4,0)","v":{"$error":"#N/A"}},{"$error":"#N/A"},{"$error":"#N/A"},{"$f":"VLOOKUP(P122,Daten!C$6:E$115,3,FALSE)","v":{"$error":"#N/A"}},{"$f":"VLOOKUP(P122,Daten!C$6:L$115,10,FALSE)","v":{"$error":"#N/A"}},{"$f":"VLOOKUP(P122,Daten!C$6:M$115,11,FALSE)","v":{"$error":"#N/A"}},0.05,0.1,0.8,0.85]
[null,null,null,null,null,null,null,null,null,null,null,null,null,null,null,16.8,{"$f":"Q122+0.2","v":16.799999999999972},{"$f":"ROUND(R118+(R125-R118)/7*5,0)","v":{"$error":"#N/A"}},{"$error":"#N/A"},{"$error":"#N/A"},{"$f":"VLOOKUP(P123,Daten!C$6:E$115,3,FALSE)","v":{"$error":"#N/A"}},{"$f":"VLOOKUP(P123,Daten!C$6:L$115,10,FALSE)","v":{"$error":"#N/A"}},{"$f":"VLOOKUP(P123,Daten!C$6:M$115,11,FALSE)","v":{"$error":"#N/A"}},0.05,0.1,0.8,0.85]
[null,null,null,null,null,null,null,null,null,null,null,null,null,null,null,16.899999999999999,{"$f":"Q123+0.1","v":16.899999999999974},{"$f":"ROUND(R118+(R125-R118)/7*6,0)","v":{"$error":"#N/A"}},{"$error":"#N/A"},{"$error":"#N/A"},{"$f":"VLOOKUP(P124,Daten!C$6:E$115,3,FALSE)","v":{"$error":"#N/A"}},{"$f":"VLOOKUP(P124,Daten!C$6:L$115,10,FALSE)","v":{"$error":"#N/A"}},{"$f":"VLOOKUP(P124,Daten!C$6:M$115,11,FALSE)","v":{"$error":"#N/A"}},0.05,0.1,0.8,0.85]
[null,null,null,null,null,null,null,null,null,null,null,null,null,null,null,17,{"$f":"Q124+0.1","v":16.999999999999975},{"$f":"VLOOKUP(Menü!H$24,Sollgewichte!A$4:CD$13,Q125+2,FALSE)","v":{"$error":"#N/A"}},{"$error":"#N/A"},{"$error":"#N/A"},{"$f":"VLOOKUP(P125,Daten!C$6:E$115,3,FALSE)","v":{"$error":"#N/A"}},{"$f":"VLOOKUP(P125,Daten!C$6:L$115,10,FALSE)","v":{"$error":"#N/A"}},{"$f":"VLOOKUP(P125,Daten!C$6:M$115,11,FALSE)","v":{"$error":"#N/A"}},0.05,0.1,0.8,0.85]
[null,null,null,null,null,null,null,null,null,null,null,null,null,null,null,17.2,{"$f":"Q125+0.2","v":17.199999999999974},{"$f":"ROUND(R125+(R132-R125)/7,0)","v":{"$error":"#N/A"}},{"$error":"#N/A"},{"$error":"#N/A"},{"$f":"VLOOKUP(P126,Daten!C$6:E$115,3,FALSE)","v":{"$error":"#N/A"}},{"$f":"VLOOKUP(P126,Daten!C$6:L$115,10,FALSE)","v":{"$error":"#N/A"}},{"$f":"VLOOKUP(P126,Daten!C$6:M$115,11,FALSE)","v":{"$error":"#N/A"}},0.05,0.1,0.8,0.85]
[null,null,null,null,null,null,null,null,null,null,null,null,null,null,null,17.3,{"$f":"Q126+0.1","v":17.299999999999976},{"$f":"ROUND(R125+(R132-R125)/7*2,0)","v":{"$error":"#N/A"}},{"$error":"#N/A"},{"$error":"#N/A"},{"$f":"VLOOKUP(P127,Daten!C$6:E$115,3,FALSE)","v":{"$error":"#N/A"}},{"$f":"VLOOKUP(P127,Daten!C$6:L$115,10,FALSE)","v":{"$error":"#N/A"}},{"$f":"VLOOKUP(P127,Daten!C$6:M$115,11,FALSE)","v":{"$error":"#N/A"}},0.05,0.1,0.8,0.85]
[null,null,null,null,null,null,null,null,null,null,null,null,null,null,null,17.5,{"$f":"Q127+0.2","v":17.499999999999975},{"$f":"ROUND(R125+(R132-R125)/7*3,0)","v":{"$error":"#N/A"}},{"$error":"#N/A"},{"$error":"#N/A"},{"$f":"VLOOKUP(P128,Daten!C$6:E$115,3,FALSE)","v":{"$error":"#N/A"}},{"$f":"VLOOKUP(P128,Daten!C$6:L$115,10,FALSE)","v":{"$error":"#N/A"}},{"$f":"VLOOKUP(P128,Daten!C$6:M$115,11,FALSE)","v":{"$error":"#N/A"}},0.05,0.1,0.8,0.85]
[null,null,null,null,null,null,null,null,null,null,null,null,null,null,null,17.600000000000001,{"$f":"Q128+0.1","v":17.599999999999977},{"$f":"ROUND(R125+(R132-R125)/7*4,0)","v":{"$error":"#N/A"}},{"$error":"#N/A"},{"$error":"#N/A"},{"$f":"VLOOKUP(P129,Daten!C$6:E$115,3,FALSE)","v":{"$error":"#N/A"}},{"$f":"VLOOKUP(P129,Daten!C$6:L$115,10,FALSE)","v":{"$error":"#N/A"}},{"$f":"VLOOKUP(P129,Daten!C$6:M$115,11,FALSE)","v":{"$error":"#N/A"}},0.05,0.1,0.8,0.85]
[null,null,null,null,null,null,null,null,null,null,null,null,null,null,null,17.8,{"$f":"Q129+0.2","v":17.799999999999976},{"$f":"ROUND(R125+(R132-R125)/7*5,0)","v":{"$error":"#N/A"}},{"$error":"#N/A"},{"$error":"#N/A"},{"$f":"VLOOKUP(P130,Daten!C$6:E$115,3,FALSE)","v":{"$error":"#N/A"}},{"$f":"VLOOKUP(P130,Daten!C$6:L$115,10,FALSE)","v":{"$error":"#N/A"}},{"$f":"VLOOKUP(P130,Daten!C$6:M$115,11,FALSE)","v":{"$error":"#N/A"}},0.05,0.1,0.8,0.85]
[null,null,null,null,null,null,null,null,null,null,null,null,null,null,null,17.899999999999999,{"$f":"Q130+0.1","v":17.899999999999977},{"$f":"ROUND(R125+(R132-R125)/7*6,0)","v":{"$error":"#N/A"}},{"$error":"#N/A"},{"$error":"#N/A"},{"$f":"VLOOKUP(P131,Daten!C$6:E$115,3,FALSE)","v":{"$error":"#N/A"}},{"$f":"VLOOKUP(P131,Daten!C$6:L$115,10,FALSE)","v":{"$error":"#N/A"}},{"$f":"VLOOKUP(P131,Daten!C$6:M$115,11,FALSE)","v":{"$error":"#N/A"}},0.05,0.1,0.8,0.85]
[null,null,null,null,null,null,null,null,null,null,null,null,null,null,null,18,{"$f":"Q131+0.1","v":17.999999999999979},{"$f":"VLOOKUP(Menü!H$24,Sollgewichte!A$4:CD$13,Q132+2,FALSE)","v":{"$error":"#N/A"}},{"$error":"#N/A"},{"$error":"#N/A"},{"$f":"VLOOKUP(P132,Daten!C$6:E$115,3,FALSE)","v":{"$error":"#N/A"}},{"$f":"VLOOKUP(P132,Daten!C$6:L$115,10,FALSE)","v":{"$error":"#N/A"}},{"$f":"VLOOKUP(P132,Daten!C$6:M$115,11,FALSE)","v":{"$error":"#N/A"}},0.05,0.1,0.8,0.85]
[null,null,null,null,null,null,null,null,null,null,null,null,null,null,null,18.2,{"$f":"Q132+0.2","v":18.199999999999978},{"$f":"ROUND(R132+(R139-R132)/7,0)","v":{"$error":"#N/A"}},{"$error":"#N/A"},{"$error":"#N/A"},{"$f":"VLOOKUP(P133,Daten!C$6:E$115,3,FALSE)","v":{"$error":"#N/A"}},{"$f":"VLOOKUP(P133,Daten!C$6:L$115,10,FALSE)","v":{"$error":"#N/A"}},{"$f":"VLOOKUP(P133,Daten!C$6:M$115,11,FALSE)","v":{"$error":"#N/A"}},0.05,0.1,0.8,0.85]
[null,null,null,null,null,null,null,null,null,null,null,null,null,null,null,18.3,{"$f":"Q133+0.1","v":18.299999999999979},{"$f":"ROUND(R132+(R139-R132)/7*2,0)","v":{"$error":"#N/A"}},{"$error":"#N/A"},{"$error":"#N/A"},{"$f":"VLOOKUP(P134,Daten!C$6:E$115,3,FALSE)","v":{"$error":"#N/A"}},{"$f":"VLOOKUP(P134,Daten!C$6:L$115,10,FALSE)","v":{"$error":"#N/A"}},{"$f":"VLOOKUP(P134,Daten!C$6:M$115,11,FALSE)","v":{"$error":"#N/A"}},0.05,0.1,0.8,0.85]
[null,null,null,null,null,null,null,null,null,null,null,null,null,null,null,{"$f":"ROUND(Q135,1)","v":18.5},{"$f":"Q134+0.2","v":18.499999999999979},{"$f":"ROUND(R132+(R139-R132)/7*3,0)","v":{"$error":"#N/A"}},{"$f":"R135*0.95","v":{"$error":"#N/A"}},{"$f":"R135","v":{"$error":"#N/A"}},{"$f":"VLOOKUP(P135,Daten!C$6:E$115,3,FALSE)","v":{"$error":"#N/A"}},{"$f":"VLOOKUP(P135,Daten!C$6:L$115,10,FALSE)","v":{"$error":"#N/A"}},{"$f":"VLOOKUP(P135,Daten!C$6:M$115,11,FALSE)","v":{"$error":"#N/A"}},0.05,0.1,0.8,0.85]
[null,null,null,null,null,null,null,null,null,null,null,null,null,null,null,18.600000000000001,{"$f":"Q135+0.1","v":18.59999999999998},{"$f":"ROUND(R132+(R139-R132)/7*4,0)","v":{"$error":"#N/A"}},{"$error":"#N/A"},{"$error":"#N/A"},{"$f":"VLOOKUP(P136,Daten!C$6:E$115,3,FALSE)","v":{"$error":"#N/A"}},{"$f":"VLOOKUP(P136,Daten!C$6:L$115,10,FALSE)","v":{"$error":"#N/A"}},{"$f":"VLOOKUP(P136,Daten!C$6:M$115,11,FALSE)","v":{"$error":"#N/A"}},0.05,0.1,0.8,0.85]
[null,null,null,null,null,null,null,null,null,null,null,null,null,null,null,18.8,{"$f":"Q136+0.2","v":18.799999999999979},{"$f":"ROUND(R132+(R139-R132)/7*5,0)","v":{"$error":"#N/A"}},{"$error":"#N/A"},{"$error":"#N/A"},{"$f":"VLOOKUP(P137,Daten!C$6:E$115,3,FALSE)","v":{"$error":"#N/A"}},{"$f":"VLOOKUP(P137,Daten!C$6:L$115,10,FALSE)","v":{"$error":"#N/A"}},{"$f":"VLOOKUP(P137,Daten!C$6:M$115,11,FALSE)","v":{"$error":"#N/A"}},0.05,0.1,0.8,0.85]
[null,null,null,null,null,null,null,null,null,null,null,null,null,null,null,18.899999999999999,{"$f":"Q137+0.1","v":18.899999999999981},{"$f":"ROUND(R132+(R139-R132)/7*6,0)","v":{"$error":"#N/A"}},{"$error":"#N/A"},{"$error":"#N/A"},{"$f":"VLOOKUP(P138,Daten!C$6:E$115,3,FALSE)","v":{"$error":"#N/A"}},{"$f":"VLOOKUP(P138,Daten!C$6:L$115,10,FALSE)","v":{"$error":"#N/A"}},{"$f":"VLOOKUP(P138,Daten!C$6:M$115,11,FALSE)","v":{"$error":"#N/A"}},0.05,0.1,0.8,0.85]
[null,null,null,null,null,null,null,null,null,null,null,null,null,null,null,19,{"$f":"Q138+0.1","v":18.999999999999982},{"$f":"VLOOKUP(Menü!H$24,Sollgewichte!A$4:CD$13,Q139+2,FALSE)","v":{"$error":"#N/A"}},{"$error":"#N/A"},{"$error":"#N/A"},{"$f":"VLOOKUP(P139,Daten!C$6:E$115,3,FALSE)","v":{"$error":"#N/A"}},{"$f":"VLOOKUP(P139,Daten!C$6:L$115,10,FALSE)","v":{"$error":"#N/A"}},{"$f":"VLOOKUP(P139,Daten!C$6:M$115,11,FALSE)","v":{"$error":"#N/A"}},0.05,0.1,0.8,0.85]
[null,null,null,null,null,null,null,null,null,null,null,null,null,null,null,19.2,{"$f":"Q139+0.2","v":19.199999999999982},{"$f":"ROUND(R139+(R146-R139)/7,0)","v":{"$error":"#N/A"}},{"$error":"#N/A"},{"$error":"#N/A"},{"$f":"VLOOKUP(P140,Daten!C$6:E$115,3,FALSE)","v":{"$error":"#N/A"}},{"$f":"VLOOKUP(P140,Daten!C$6:L$115,10,FALSE)","v":{"$error":"#N/A"}},{"$f":"VLOOKUP(P140,Daten!C$6:M$115,11,FALSE)","v":{"$error":"#N/A"}},0.05,0.1,0.8,0.85]
[null,null,null,null,null,null,null,null,null,null,null,null,null,null,null,19.3,{"$f":"Q140+0.1","v":19.299999999999983},{"$f":"ROUND(R139+(R146-R139)/7*2,0)","v":{"$error":"#N/A"}},{"$error":"#N/A"},{"$error":"#N/A"},{"$f":"VLOOKUP(P141,Daten!C$6:E$115,3,FALSE)","v":{"$error":"#N/A"}},{"$f":"VLOOKUP(P141,Daten!C$6:L$115,10,FALSE)","v":{"$error":"#N/A"}},{"$f":"VLOOKUP(P141,Daten!C$6:M$115,11,FALSE)","v":{"$error":"#N/A"}},0.05,0.1,0.8,0.85]
[null,null,null,null,null,null,null,null,null,null,null,null,null,null,null,19.5,{"$f":"Q141+0.2","v":19.499999999999982},{"$f":"ROUND(R139+(R146-R139)/7*3,0)","v":{"$error":"#N/A"}},{"$error":"#N/A"},{"$error":"#N/A"},{"$f":"VLOOKUP(P142,Daten!C$6:E$115,3,FALSE)","v":{"$error":"#N/A"}},{"$f":"VLOOKUP(P142,Daten!C$6:L$115,10,FALSE)","v":{"$error":"#N/A"}},{"$f":"VLOOKUP(P142,Daten!C$6:M$115,11,FALSE)","v":{"$error":"#N/A"}},0.05,0.1,0.8,0.85]
[null,null,null,null,null,null,null,null,null,null,null,null,null,null,null,19.600000000000001,{"$f":"Q142+0.1","v":19.599999999999984},{"$f":"ROUND(R139+(R146-R139)/7*4,0)","v":{"$error":"#N/A"}},{"$error":"#N/A"},{"$error":"#N/A"},{"$f":"VLOOKUP(P143,Daten!C$6:E$115,3,FALSE)","v":{"$error":"#N/A"}},{"$f":"VLOOKUP(P143,Daten!C$6:L$115,10,FALSE)","v":{"$error":"#N/A"}},{"$f":"VLOOKUP(P143,Daten!C$6:M$115,11,FALSE)","v":{"$error":"#N/A"}},0.05,0.1,0.8,0.85]
[null,null,null,null,null,null,null,null,null,null,null,null,null,null,null,19.8,{"$f":"Q143+0.2","v":19.799999999999983},{"$f":"ROUND(R139+(R146-R139)/7*5,0)","v":{"$error":"#N/A"}},{"$error":"#N/A"},{"$error":"#N/A"},{"$f":"VLOOKUP(P144,Daten!C$6:E$115,3,FALSE)","v":{"$error":"#N/A"}},{"$f":"VLOOKUP(P144,Daten!C$6:L$115,10,FALSE)","v":{"$error":"#N/A"}},{"$f":"VLOOKUP(P144,Daten!C$6:M$115,11,FALSE)","v":{"$error":"#N/A"}},0.05,0.1,0.8,0.85]
[null,null,null,null,null,null,null,null,null,null,null,null,null,null,null,19.899999999999999,{"$f":"Q144+0.1","v":19.899999999999984},{"$f":"ROUND(R139+(R146-R139)/7*6,0)","v":{"$error":"#N/A"}},{"$error":"#N/A"},{"$error":"#N/A"},{"$f":"VLOOKUP(P145,Daten!C$6:E$115,3,FALSE)","v":{"$error":"#N/A"}},{"$f":"VLOOKUP(P145,Daten!C$6:L$115,10,FALSE)","v":{"$error":"#N/A"}},{"$f":"VLOOKUP(P145,Daten!C$6:M$115,11,FALSE)","v":{"$error":"#N/A"}},0.05,0.1,0.8,0.85]
[null,null,null,null,null,null,null,null,null,null,null,null,null,null,null,20,{"$f":"Q145+0.1","v":19.999999999999986},{"$f":"VLOOKUP(Menü!H$24,Sollgewichte!A$4:CD$13,Q146+2,FALSE)","v":{"$error":"#N/A"}},{"$error":"#N/A"},{"$error":"#N/A"},{"$f":"VLOOKUP(P146,Daten!C$6:E$115,3,FALSE)","v":{"$error":"#N/A"}},{"$f":"VLOOKUP(P146,Daten!C$6:L$115,10,FALSE)","v":{"$error":"#N/A"}},{"$f":"VLOOKUP(P146,Daten!C$6:M$115,11,FALSE)","v":{"$error":"#N/A"}},0.05,0.1,0.8,0.85]
[null,null,null,null,null,null,null,null,null,null,null,null,null,null,null,20.2,{"$f":"Q146+0.2","v":20.199999999999985},{"$f":"ROUND(R146+(R153-R146)/7,0)","v":{"$error":"#N/A"}},{"$error":"#N/A"},{"$error":"#N/A"},{"$f":"VLOOKUP(P147,Daten!C$6:E$115,3,FALSE)","v":{"$error":"#N/A"}},{"$f":"VLOOKUP(P147,Daten!C$6:L$115,10,FALSE)","v":{"$error":"#N/A"}},{"$f":"VLOOKUP(P147,Daten!C$6:M$115,11,FALSE)","v":{"$error":"#N/A"}},0.05,0.1,0.8,0.85]
[null,null,null,null,null,null,null,null,null,null,null,null,null,null,null,20.3,{"$f":"Q147+0.1","v":20.299999999999986},{"$f":"ROUND(R146+(R153-R146)/7*2,0)","v":{"$error":"#N/A"}},{"$error":"#N/A"},{"$error":"#N/A"},{"$f":"VLOOKUP(P148,Daten!C$6:E$115,3,FALSE)","v":{"$error":"#N/A"}},{"$f":"VLOOKUP(P148,Daten!C$6:L$115,10,FALSE)","v":{"$error":"#N/A"}},{"$f":"VLOOKUP(P148,Daten!C$6:M$115,11,FALSE)","v":{"$error":"#N/A"}},0.05,0.1,0.8,0.85]
[null,null,null,null,null,null,null,null,null,null,null,null,null,null,null,20.5,{"$f":"Q148+0.2","v":20.499999999999986},{"$f":"ROUND(R146+(R153-R146)/7*3,0)","v":{"$error":"#N/A"}},{"$error":"#N/A"},{"$error":"#N/A"},{"$f":"VLOOKUP(P149,Daten!C$6:E$115,3,FALSE)","v":{"$error":"#N/A"}},{"$f":"VLOOKUP(P149,Daten!C$6:L$115,10,FALSE)","v":{"$error":"#N/A"}},{"$f":"VLOOKUP(P149,Daten!C$6:M$115,11,FALSE)","v":{"$error":"#N/A"}},0.05,0.1,0.8,0.85]
[null,null,null,null,null,null,null,null,null,null,null,null,null,null,null,20.6,{"$f":"Q149+0.1","v":20.599999999999987},{"$f":"ROUND(R146+(R153-R146)/7*4,0)","v":{"$error":"#N/A"}},{"$error":"#N/A"},{"$error":"#N/A"},{"$f":"VLOOKUP(P150,Daten!C$6:E$115,3,FALSE)","v":{"$error":"#N/A"}},{"$f":"VLOOKUP(P150,Daten!C$6:L$115,10,FALSE)","v":{"$error":"#N/A"}},{"$f":"VLOOKUP(P150,Daten!C$6:M$115,11,FALSE)","v":{"$error":"#N/A"}},0.05,0.1,0.8,0.85]
[null,null,null,null,null,null,null,null,null,null,null,null,null,null,null,20.8,{"$f":"Q150+0.2","v":20.799999999999986},{"$f":"ROUND(R146+(R153-R146)/7*5,0)","v":{"$error":"#N/A"}},{"$error":"#N/A"},{"$error":"#N/A"},{"$f":"VLOOKUP(P151,Daten!C$6:E$115,3,FALSE)","v":{"$error":"#N/A"}},{"$f":"VLOOKUP(P151,Daten!C$6:L$115,10,FALSE)","v":{"$error":"#N/A"}},{"$f":"VLOOKUP(P151,Daten!C$6:M$115,11,FALSE)","v":{"$error":"#N/A"}},0.05,0.1,0.8,0.85]
[null,null,null,null,null,null,null,null,null,null,null,null,null,null,null,20.9,{"$f":"Q151+0.1","v":20.899999999999988},{"$f":"ROUND(R146+(R153-R146)/7*6,0)","v":{"$error":"#N/A"}},{"$error":"#N/A"},{"$error":"#N/A"},{"$f":"VLOOKUP(P152,Daten!C$6:E$115,3,FALSE)","v":{"$error":"#N/A"}},{"$f":"VLOOKUP(P152,Daten!C$6:L$115,10,FALSE)","v":{"$error":"#N/A"}},{"$f":"VLOOKUP(P152,Daten!C$6:M$115,11,FALSE)","v":{"$error":"#N/A"}},0.05,0.1,0.8,0.85]
[null,null,null,null,null,null,null,null,null,null,null,null,null,null,null,21,{"$f":"Q152+0.1","v":20.999999999999989},{"$f":"VLOOKUP(Menü!H$24,Sollgewichte!A$4:CD$13,Q153+2,FALSE)","v":{"$error":"#N/A"}},{"$error":"#N/A"},{"$error":"#N/A"},{"$f":"VLOOKUP(P153,Daten!C$6:E$115,3,FALSE)","v":{"$error":"#N/A"}},{"$f":"VLOOKUP(P153,Daten!C$6:L$115,10,FALSE)","v":{"$error":"#N/A"}},{"$f":"VLOOKUP(P153,Daten!C$6:M$115,11,FALSE)","v":{"$error":"#N/A"}},0.05,0.1,0.8,0.85]
[null,null,null,null,null,null,null,null,null,null,null,null,null,null,null,21.2,{"$f":"Q153+0.2","v":21.199999999999989},{"$f":"ROUND(R153+(R160-R153)/7,0)","v":{"$error":"#N/A"}},{"$error":"#N/A"},{"$error":"#N/A"},{"$f":"VLOOKUP(P154,Daten!C$6:E$115,3,FALSE)","v":{"$error":"#N/A"}},{"$f":"VLOOKUP(P154,Daten!C$6:L$115,10,FALSE)","v":{"$error":"#N/A"}},{"$f":"VLOOKUP(P154,Daten!C$6:M$115,11,FALSE)","v":{"$error":"#N/A"}},0.05,0.1,0.8,0.85]
[null,null,null,null,null,null,null,null,null,null,null,null,null,null,null,21.3,{"$f":"Q154+0.1","v":21.29999999999999},{"$f":"ROUND(R153+(R160-R153)/7*2,0)","v":{"$error":"#N/A"}},{"$error":"#N/A"},{"$error":"#N/A"},{"$f":"VLOOKUP(P155,Daten!C$6:E$115,3,FALSE)","v":{"$error":"#N/A"}},{"$f":"VLOOKUP(P155,Daten!C$6:L$115,10,FALSE)","v":{"$error":"#N/A"}},{"$f":"VLOOKUP(P155,Daten!C$6:M$115,11,FALSE)","v":{"$error":"#N/A"}},0.05,0.1,0.8,0.85]
[null,null,null,null,null,null,null,null,null,null,null,null,null,null,null,21.5,{"$f":"Q155+0.2","v":21.499999999999989},{"$f":"ROUND(R153+(R160-R153)/7*3,0)","v":{"$error":"#N/A"}},{"$error":"#N/A"},{"$error":"#N/A"},{"$f":"VLOOKUP(P156,Daten!C$6:E$115,3,FALSE)","v":{"$error":"#N/A"}},{"$f":"VLOOKUP(P156,Daten!C$6:L$115,10,FALSE)","v":{"$error":"#N/A"}},{"$f":"VLOOKUP(P156,Daten!C$6:M$115,11,FALSE)","v":{"$error":"#N/A"}},0.05,0.1,0.8,0.85]
[null,null,null,null,null,null,null,null,null,null,null,null,null,null,null,21.6,{"$f":"Q156+0.1","v":21.599999999999991},{"$f":"ROUND(R153+(R160-R153)/7*4,0)","v":{"$error":"#N/A"}},{"$error":"#N/A"},{"$error":"#N/A"},{"$f":"VLOOKUP(P157,Daten!C$6:E$115,3,FALSE)","v":{"$error":"#N/A"}},{"$f":"VLOOKUP(P157,Daten!C$6:L$115,10,FALSE)","v":{"$error":"#N/A"}},{"$f":"VLOOKUP(P157,Daten!C$6:M$115,11,FALSE)","v":{"$error":"#N/A"}},0.05,0.1,0.8,0.85]
[null,null,null,null,null,null,null,null,null,null,null,null,null,null,null,21.8,{"$f":"Q157+0.2","v":21.79999999999999},{"$f":"ROUND(R153+(R160-R153)/7*5,0)","v":{"$error":"#N/A"}},{"$error":"#N/A"},{"$error":"#N/A"},{"$f":"VLOOKUP(P158,Daten!C$6:E$115,3,FALSE)","v":{"$error":"#N/A"}},{"$f":"VLOOKUP(P158,Daten!C$6:L$115,10,FALSE)","v":{"$error":"#N/A"}},{"$f":"VLOOKUP(P158,Daten!C$6:M$115,11,FALSE)","v":{"$error":"#N/A"}},0.05,0.1,0.8,0.85]
[null,null,null,null,null,null,null,null,null,null,null,null,null,null,null,21.9,{"$f":"Q158+0.1","v":21.899999999999991},{"$f":"ROUND(R153+(R160-R153)/7*6,0)","v":{"$error":"#N/A"}},{"$error":"#N/A"},{"$error":"#N/A"},{"$f":"VLOOKUP(P159,Daten!C$6:E$115,3,FALSE)","v":{"$error":"#N/A"}},{"$f":"VLOOKUP(P159,Daten!C$6:L$115,10,FALSE)","v":{"$error":"#N/A"}},{"$f":"VLOOKUP(P159,Daten!C$6:M$115,11,FALSE)","v":{"$error":"#N/A"}},0.05,0.1,0.8,0.85]
[null,null,null,null,null,null,null,null,null,null,null,null,null,null,null,22,{"$f":"Q159+0.1","v":21.999999999999993},{"$f":"VLOOKUP(Menü!H$24,Sollgewichte!A$4:CD$13,Q160+2,FALSE)","v":{"$error":"#N/A"}},{"$error":"#N/A"},{"$error":"#N/A"},{"$f":"VLOOKUP(P160,Daten!C$6:E$115,3,FALSE)","v":{"$error":"#N/A"}},{"$f":"VLOOKUP(P160,Daten!C$6:L$115,10,FALSE)","v":{"$error":"#N/A"}},{"$f":"VLOOKUP(P160,Daten!C$6:M$115,11,FALSE)","v":{"$error":"#N/A"}},0.05,0.1,0.8,0.85]
[null,null,null,null,null,null,null,null,null,null,null,null,null,null,null,22.2,{"$f":"Q160+0.2","v":22.199999999999992},{"$f":"ROUND(R160+(R167-R160)/7,0)","v":{"$error":"#N/A"}},{"$error":"#N/A"},{"$error":"#N/A"},{"$f":"VLOOKUP(P161,Daten!C$6:E$115,3,FALSE)","v":{"$error":"#N/A"}},{"$f":"VLOOKUP(P161,Daten!C$6:L$115,10,FALSE)","v":{"$error":"#N/A"}},{"$f":"VLOOKUP(P161,Daten!C$6:M$115,11,FALSE)","v":{"$error":"#N/A"}},0.05,0.1,0.8,0.85]
[null,null,null,null,null,null,null,null,null,null,null,null,null,null,null,22.3,{"$f":"Q161+0.1","v":22.299999999999994},{"$f":"ROUND(R160+(R167-R160)/7*2,0)","v":{"$error":"#N/A"}},{"$error":"#N/A"},{"$error":"#N/A"},{"$f":"VLOOKUP(P162,Daten!C$6:E$115,3,FALSE)","v":{"$error":"#N/A"}},{"$f":"VLOOKUP(P162,Daten!C$6:L$115,10,FALSE)","v":{"$error":"#N/A"}},{"$f":"VLOOKUP(P162,Daten!C$6:M$115,11,FALSE)","v":{"$error":"#N/A"}},0.05,0.1,0.8,0.85]
[null,null,null,null,null,null,null,null,null,null,null,null,null,null,null,22.5,{"$f":"Q162+0.2","v":22.499999999999993},{"$f":"ROUND(R160+(R167-R160)/7*3,0)","v":{"$error":"#N/A"}},{"$error":"#N/A"},{"$error":"#N/A"},{"$f":"VLOOKUP(P163,Daten!C$6:E$115,3,FALSE)","v":{"$error":"#N/A"}},{"$f":"VLOOKUP(P163,Daten!C$6:L$115,10,FALSE)","v":{"$error":"#N/A"}},{"$f":"VLOOKUP(P163,Daten!C$6:M$115,11,FALSE)","v":{"$error":"#N/A"}},0.05,0.1,0.8,0.85]
[null,null,null,null,null,null,null,null,null,null,null,null,null,null,null,22.6,{"$f":"Q163+0.1","v":22.599999999999994},{"$f":"ROUND(R160+(R167-R160)/7*4,0)","v":{"$error":"#N/A"}},{"$error":"#N/A"},{"$error":"#N/A"},{"$f":"VLOOKUP(P164,Daten!C$6:E$115,3,FALSE)","v":{"$error":"#N/A"}},{"$f":"VLOOKUP(P164,Daten!C$6:L$115,10,FALSE)","v":{"$error":"#N/A"}},{"$f":"VLOOKUP(P164,Daten!C$6:M$115,11,FALSE)","v":{"$error":"#N/A"}},0.05,0.1,0.8,0.85]
[null,null,null,null,null,null,null,null,null,null,null,null,null,null,null,22.8,{"$f":"Q164+0.2","v":22.799999999999994},{"$f":"ROUND(R160+(R167-R160)/7*5,0)","v":{"$error":"#N/A"}},{"$error":"#N/A"},{"$error":"#N/A"},{"$f":"VLOOKUP(P165,Daten!C$6:E$115,3,FALSE)","v":{"$error":"#N/A"}},{"$f":"VLOOKUP(P165,Daten!C$6:L$115,10,FALSE)","v":{"$error":"#N/A"}},{"$f":"VLOOKUP(P165,Daten!C$6:M$115,11,FALSE)","v":{"$error":"#N/A"}},0.05,0.1,0.8,0.85]
[null,null,null,null,null,null,null,null,null,null,null,null,null,null,null,22.9,{"$f":"Q165+0.1","v":22.899999999999995},{"$f":"ROUND(R160+(R167-R160)/7*6,0)","v":{"$error":"#N/A"}},{"$error":"#N/A"},{"$error":"#N/A"},{"$f":"VLOOKUP(P166,Daten!C$6:E$115,3,FALSE)","v":{"$error":"#N/A"}},{"$f":"VLOOKUP(P166,Daten!C$6:L$115,10,FALSE)","v":{"$error":"#N/A"}},{"$f":"VLOOKUP(P166,Daten!C$6:M$115,11,FALSE)","v":{"$error":"#N/A"}},0.05,0.1,0.8,0.85]
[null,null,null,null,null,null,null,null,null,null,null,null,null,null,null,23,{"$f":"Q166+0.1","v":22.999999999999996},{"$f":"VLOOKUP(Menü!H$24,Sollgewichte!A$4:CD$13,Q167+2,FALSE)","v":{"$error":"#N/A"}},{"$error":"#N/A"},{"$error":"#N/A"},{"$f":"VLOOKUP(P167,Daten!C$6:E$115,3,FALSE)","v":{"$error":"#N/A"}},{"$f":"VLOOKUP(P167,Daten!C$6:L$115,10,FALSE)","v":{"$error":"#N/A"}},{"$f":"VLOOKUP(P167,Daten!C$6:M$115,11,FALSE)","v":{"$error":"#N/A"}},0.05,0.1,0.8,0.85]
[null,null,null,null,null,null,null,null,null,null,null,null,null,null,null,23.2,{"$f":"Q167+0.2","v":23.199999999999996},{"$f":"ROUND(R167+(R174-R167)/7,0)","v":{"$error":"#N/A"}},{"$error":"#N/A"},{"$error":"#N/A"},{"$f":"VLOOKUP(P168,Daten!C$6:E$115,3,FALSE)","v":{"$error":"#N/A"}},{"$f":"VLOOKUP(P168,Daten!C$6:L$115,10,FALSE)","v":{"$error":"#N/A"}},{"$f":"VLOOKUP(P168,Daten!C$6:M$115,11,FALSE)","v":{"$error":"#N/A"}},0.05,0.1,0.8,0.85]
[null,null,null,null,null,null,null,null,null,null,null,null,null,null,null,23.3,{"$f":"Q168+0.1","v":23.299999999999997},{"$f":"ROUND(R167+(R174-R167)/7*2,0)","v":{"$error":"#N/A"}},{"$error":"#N/A"},{"$error":"#N/A"},{"$f":"VLOOKUP(P169,Daten!C$6:E$115,3,FALSE)","v":{"$error":"#N/A"}},{"$f":"VLOOKUP(P169,Daten!C$6:L$115,10,FALSE)","v":{"$error":"#N/A"}},{"$f":"VLOOKUP(P169,Daten!C$6:M$115,11,FALSE)","v":{"$error":"#N/A"}},0.05,0.1,0.8,0.85]
[null,null,null,null,null,null,null,null,null,null,null,null,null,null,null,23.5,{"$f":"Q169+0.2","v":23.499999999999996},{"$f":"ROUND(R167+(R174-R167)/7*3,0)","v":{"$error":"#N/A"}},{"$error":"#N/A"},{"$error":"#N/A"},{"$f":"VLOOKUP(P170,Daten!C$6:E$115,3,FALSE)","v":{"$error":"#N/A"}},{"$f":"VLOOKUP(P170,Daten!C$6:L$115,10,FALSE)","v":{"$error":"#N/A"}},{"$f":"VLOOKUP(P170,Daten!C$6:M$115,11,FALSE)","v":{"$error":"#N/A"}},0.05,0.1,0.8,0.85]
[null,null,null,null,null,null,null,null,null,null,null,null,null,null,null,23.6,{"$f":"Q170+0.1","v":23.599999999999998},{"$f":"ROUND(R167+(R174-R167)/7*4,0)","v":{"$error":"#N/A"}},{"$error":"#N/A"},{"$error":"#N/A"},{"$f":"VLOOKUP(P171,Daten!C$6:E$115,3,FALSE)","v":{"$error":"#N/A"}},{"$f":"VLOOKUP(P171,Daten!C$6:L$115,10,FALSE)","v":{"$error":"#N/A"}},{"$f":"VLOOKUP(P171,Daten!C$6:M$115,11,FALSE)","v":{"$error":"#N/A"}},0.05,0.1,0.8,0.85]
[null,null,null,null,null,null,null,null,null,null,null,null,null,null,null,23.8,{"$f":"Q171+0.2","v":23.799999999999997},{"$f":"ROUND(R167+(R174-R167)/7*5,0)","v":{"$error":"#N/A"}},{"$error":"#N/A"},{"$error":"#N/A"},{"$f":"VLOOKUP(P172,Daten!C$6:E$115,3,FALSE)","v":{"$error":"#N/A"}},{"$f":"VLOOKUP(P172,Daten!C$6:L$115,10,FALSE)","v":{"$error":"#N/A"}},{"$f":"VLOOKUP(P172,Daten!C$6:M$115,11,FALSE)","v":{"$error":"#N/A"}},0.05,0.1,0.8,0.85]
[null,null,null,null,null,null,null,null,null,null,null,null,null,null,null,23.9,{"$f":"Q172+0.1","v":23.9},{"$f":"ROUND(R167+(R174-R167)/7*6,0)","v":{"$error":"#N/A"}},{"$error":"#N/A"},{"$error":"#N/A"},{"$f":"VLOOKUP(P173,Daten!C$6:E$115,3,FALSE)","v":{"$error":"#N/A"}},{"$f":"VLOOKUP(P173,Daten!C$6:L$115,10,FALSE)","v":{"$error":"#N/A"}},{"$f":"VLOOKUP(P173,Daten!C$6:M$115,11,FALSE)","v":{"$error":"#N/A"}},0.05,0.1,0.8,0.85]
[null,null,null,null,null,null,null,null,null,null,null,null,null,null,null,24,{"$f":"Q173+0.1","v":24},{"$f":"VLOOKUP(Menü!H$24,Sollgewichte!A$4:CD$13,Q174+2,FALSE)","v":{"$error":"#N/A"}},{"$error":"#N/A"},{"$error":"#N/A"},{"$f":"VLOOKUP(P174,Daten!C$6:E$115,3,FALSE)","v":{"$error":"#N/A"}},{"$f":"VLOOKUP(P174,Daten!C$6:L$115,10,FALSE)","v":{"$error":"#N/A"}},{"$f":"VLOOKUP(P174,Daten!C$6:M$115,11,FALSE)","v":{"$error":"#N/A"}},0.05,0.1,0.8,0.85]
[null,null,null,null,null,null,null,null,null,null,null,null,null,null,null,24.2,{"$f":"Q174+0.2","v":24.2},{"$f":"ROUND(R174+(R181-R174)/7,0)","v":{"$error":"#N/A"}},{"$error":"#N/A"},{"$error":"#N/A"},{"$f":"VLOOKUP(P175,Daten!C$6:E$115,3,FALSE)","v":{"$error":"#N/A"}},{"$f":"VLOOKUP(P175,Daten!C$6:L$115,10,FALSE)","v":{"$error":"#N/A"}},{"$f":"VLOOKUP(P175,Daten!C$6:M$115,11,FALSE)","v":{"$error":"#N/A"}},0.05,0.1,0.8,0.85]
[null,null,null,null,null,null,null,null,null,null,null,null,null,null,null,24.3,{"$f":"Q175+0.1","v":24.3},{"$f":"ROUND(R174+(R181-R174)/7*2,0)","v":{"$error":"#N/A"}},{"$error":"#N/A"},{"$error":"#N/A"},{"$f":"VLOOKUP(P176,Daten!C$6:E$115,3,FALSE)","v":{"$error":"#N/A"}},{"$f":"VLOOKUP(P176,Daten!C$6:L$115,10,FALSE)","v":{"$error":"#N/A"}},{"$f":"VLOOKUP(P176,Daten!C$6:M$115,11,FALSE)","v":{"$error":"#N/A"}},0.05,0.1,0.8,0.85]
[null,null,null,null,null,null,null,null,null,null,null,null,null,null,null,24.5,{"$f":"Q176+0.2","v":24.5},{"$f":"ROUND(R174+(R181-R174)/7*3,0)","v":{"$error":"#N/A"}},{"$error":"#N/A"},{"$error":"#N/A"},{"$f":"VLOOKUP(P177,Daten!C$6:E$115,3,FALSE)","v":{"$error":"#N/A"}},{"$f":"VLOOKUP(P177,Daten!C$6:L$115,10,FALSE)","v":{"$error":"#N/A"}},{"$f":"VLOOKUP(P177,Daten!C$6:M$115,11,FALSE)","v":{"$error":"#N/A"}},0.05,0.1,0.8,0.85]
[null,null,null,null,null,null,null,null,null,null,null,null,null,null,null,24.6,{"$f":"Q177+0.1","v":24.6},{"$f":"ROUND(R174+(R181-R174)/7*4,0)","v":{"$error":"#N/A"}},{"$error":"#N/A"},{"$error":"#N/A"},{"$f":"VLOOKUP(P178,Daten!C$6:E$115,3,FALSE)","v":{"$error":"#N/A"}},{"$f":"VLOOKUP(P178,Daten!C$6:L$115,10,FALSE)","v":{"$error":"#N/A"}},{"$f":"VLOOKUP(P178,Daten!C$6:M$115,11,FALSE)","v":{"$error":"#N/A"}},0.05,0.1,0.8,0.85]
[null,null,null,null,null,null,null,null,null,null,null,null,null,null,null,24.8,{"$f":"Q178+0.2","v":24.8},{"$f":"ROUND(R174+(R181-R174)/7*5,0)","v":{"$error":"#N/A"}},{"$error":"#N/A"},{"$error":"#N/A"},{"$f":"VLOOKUP(P179,Daten!C$6:E$115,3,FALSE)","v":{"$error":"#N/A"}},{"$f":"VLOOKUP(P179,Daten!C$6:L$115,10,FALSE)","v":{"$error":"#N/A"}},{"$f":"VLOOKUP(P179,Daten!C$6:M$115,11,FALSE)","v":{"$error":"#N/A"}},0.05,0.1,0.8,0.85]
[null,null,null,null,null,null,null,null,null,null,null,null,null,null,null,24.9,{"$f":"Q179+0.1","v":24.900000000000002},{"$f":"ROUND(R174+(R181-R174)/7*6,0)","v":{"$error":"#N/A"}},{"$error":"#N/A"},{"$error":"#N/A"},{"$f":"VLOOKUP(P180,Daten!C$6:E$115,3,FALSE)","v":{"$error":"#N/A"}},{"$f":"VLOOKUP(P180,Daten!C$6:L$115,10,FALSE)","v":{"$error":"#N/A"}},{"$f":"VLOOKUP(P180,Daten!C$6:M$115,11,FALSE)","v":{"$error":"#N/A"}},0.05,0.1,0.8,0.85]
[null,null,null,null,null,null,null,null,null,null,null,null,null,null,null,25,{"$f":"Q180+0.1","v":25.000000000000004},{"$f":"VLOOKUP(Menü!H$24,Sollgewichte!A$4:CD$13,Q181+2,FALSE)","v":{"$error":"#N/A"}},{"$error":"#N/A"},{"$error":"#N/A"},{"$f":"VLOOKUP(P181,Daten!C$6:E$115,3,FALSE)","v":{"$error":"#N/A"}},{"$f":"VLOOKUP(P181,Daten!C$6:L$115,10,FALSE)","v":{"$error":"#N/A"}},{"$f":"VLOOKUP(P181,Daten!C$6:M$115,11,FALSE)","v":{"$error":"#N/A"}},0.05,0.1,0.8,0.85]
[null,null,null,null,null,null,null,null,null,null,null,null,null,null,null,25.2,{"$f":"Q181+0.2","v":25.200000000000003},{"$f":"ROUND(R181+(R188-R181)/7,0)","v":{"$error":"#N/A"}},{"$error":"#N/A"},{"$error":"#N/A"},{"$f":"VLOOKUP(P182,Daten!C$6:E$115,3,FALSE)","v":{"$error":"#N/A"}},{"$f":"VLOOKUP(P182,Daten!C$6:L$115,10,FALSE)","v":{"$error":"#N/A"}},{"$f":"VLOOKUP(P182,Daten!C$6:M$115,11,FALSE)","v":{"$error":"#N/A"}},0.05,0.1,0.8,0.85]
[null,null,null,null,null,null,null,null,null,null,null,null,null,null,null,25.3,{"$f":"Q182+0.1","v":25.300000000000004},{"$f":"ROUND(R181+(R188-R181)/7*2,0)","v":{"$error":"#N/A"}},{"$error":"#N/A"},{"$error":"#N/A"},{"$f":"VLOOKUP(P183,Daten!C$6:E$115,3,FALSE)","v":{"$error":"#N/A"}},{"$f":"VLOOKUP(P183,Daten!C$6:L$115,10,FALSE)","v":{"$error":"#N/A"}},{"$f":"VLOOKUP(P183,Daten!C$6:M$115,11,FALSE)","v":{"$error":"#N/A"}},0.05,0.1,0.8,0.85]
[null,null,null,null,null,null,null,null,null,null,null,null,null,null,null,25.5,{"$f":"Q183+0.2","v":25.500000000000004},{"$f":"ROUND(R181+(R188-R181)/7*3,0)","v":{"$error":"#N/A"}},{"$error":"#N/A"},{"$error":"#N/A"},{"$f":"VLOOKUP(P184,Daten!C$6:E$115,3,FALSE)","v":{"$error":"#N/A"}},{"$f":"VLOOKUP(P184,Daten!C$6:L$115,10,FALSE)","v":{"$error":"#N/A"}},{"$f":"VLOOKUP(P184,Daten!C$6:M$115,11,FALSE)","v":{"$error":"#N/A"}},0.05,0.1,0.8,0.85]
[null,null,null,null,null,null,null,null,null,null,null,null,null,null,null,25.6,{"$f":"Q184+0.1","v":25.600000000000005},{"$f":"ROUND(R181+(R188-R181)/7*4,0)","v":{"$error":"#N/A"}},{"$error":"#N/A"},{"$error":"#N/A"},{"$f":"VLOOKUP(P185,Daten!C$6:E$115,3,FALSE)","v":{"$error":"#N/A"}},{"$f":"VLOOKUP(P185,Daten!C$6:L$115,10,FALSE)","v":{"$error":"#N/A"}},{"$f":"VLOOKUP(P185,Daten!C$6:M$115,11,FALSE)","v":{"$error":"#N/A"}},0.05,0.1,0.8,0.85]
[null,null,null,null,null,null,null,null,null,null,null,null,null,null,null,25.8,{"$f":"Q185+0.2","v":25.800000000000004},{"$f":"ROUND(R181+(R188-R181)/7*5,0)","v":{"$error":"#N/A"}},{"$error":"#N/A"},{"$error":"#N/A"},{"$f":"VLOOKUP(P186,Daten!C$6:E$115,3,FALSE)","v":{"$error":"#N/A"}},{"$f":"VLOOKUP(P186,Daten!C$6:L$115,10,FALSE)","v":{"$error":"#N/A"}},{"$f":"VLOOKUP(P186,Daten!C$6:M$115,11,FALSE)","v":{"$error":"#N/A"}},0.05,0.1,0.8,0.85]
[null,null,null,null,null,null,null,null,null,null,null,null,null,null,null,25.9,{"$f":"Q186+0.1","v":25.900000000000006},{"$f":"ROUND(R181+(R188-R181)/7*6,0)","v":{"$error":"#N/A"}},{"$error":"#N/A"},{"$error":"#N/A"},{"$f":"VLOOKUP(P187,Daten!C$6:E$115,3,FALSE)","v":{"$error":"#N/A"}},{"$f":"VLOOKUP(P187,Daten!C$6:L$115,10,FALSE)","v":{"$error":"#N/A"}},{"$f":"VLOOKUP(P187,Daten!C$6:M$115,11,FALSE)","v":{"$error":"#N/A"}},0.05,0.1,0.8,0.85]
[null,null,null,null,null,null,null,null,null,null,null,null,null,null,null,26,{"$f":"Q187+0.1","v":26.000000000000007},{"$f":"VLOOKUP(Menü!H$24,Sollgewichte!A$4:CD$13,Q188+2,FALSE)","v":{"$error":"#N/A"}},{"$error":"#N/A"},{"$error":"#N/A"},{"$f":"VLOOKUP(P188,Daten!C$6:E$115,3,FALSE)","v":{"$error":"#N/A"}},{"$f":"VLOOKUP(P188,Daten!C$6:L$115,10,FALSE)","v":{"$error":"#N/A"}},{"$f":"VLOOKUP(P188,Daten!C$6:M$115,11,FALSE)","v":{"$error":"#N/A"}},0.05,0.1,0.8,0.85]
[null,null,null,null,null,null,null,null,null,null,null,null,null,null,null,26.2,{"$f":"Q188+0.2","v":26.200000000000006},{"$f":"ROUND(R188+(R195-R188)/7,0)","v":{"$error":"#N/A"}},{"$error":"#N/A"},{"$error":"#N/A"},{"$f":"VLOOKUP(P189,Daten!C$6:E$115,3,FALSE)","v":{"$error":"#N/A"}},{"$f":"VLOOKUP(P189,Daten!C$6:L$115,10,FALSE)","v":{"$error":"#N/A"}},{"$f":"VLOOKUP(P189,Daten!C$6:M$115,11,FALSE)","v":{"$error":"#N/A"}},0.05,0.1,0.8,0.85]
[null,null,null,null,null,null,null,null,null,null,null,null,null,null,null,26.3,{"$f":"Q189+0.1","v":26.300000000000008},{"$f":"ROUND(R188+(R195-R188)/7*2,0)","v":{"$error":"#N/A"}},{"$error":"#N/A"},{"$error":"#N/A"},{"$f":"VLOOKUP(P190,Daten!C$6:E$115,3,FALSE)","v":{"$error":"#N/A"}},{"$f":"VLOOKUP(P190,Daten!C$6:L$115,10,FALSE)","v":{"$error":"#N/A"}},{"$f":"VLOOKUP(P190,Daten!C$6:M$115,11,FALSE)","v":{"$error":"#N/A"}},0.05,0.1,0.8,0.85]
[null,null,null,null,null,null,null,null,null,null,null,null,null,null,null,26.5,{"$f":"Q190+0.2","v":26.500000000000007},{"$f":"ROUND(R188+(R195-R188)/7*3,0)","v":{"$error":"#N/A"}},{"$error":"#N/A"},{"$error":"#N/A"},{"$f":"VLOOKUP(P191,Daten!C$6:E$115,3,FALSE)","v":{"$error":"#N/A"}},{"$f":"VLOOKUP(P191,Daten!C$6:L$115,10,FALSE)","v":{"$error":"#N/A"}},{"$f":"VLOOKUP(P191,Daten!C$6:M$115,11,FALSE)","v":{"$error":"#N/A"}},0.05,0.1,0.8,0.85]
[null,null,null,null,null,null,null,null,null,null,null,null,null,null,null,26.6,{"$f":"Q191+0.1","v":26.600000000000009},{"$f":"ROUND(R188+(R195-R188)/7*4,0)","v":{"$error":"#N/A"}},{"$error":"#N/A"},{"$error":"#N/A"},{"$f":"VLOOKUP(P192,Daten!C$6:E$115,3,FALSE)","v":{"$error":"#N/A"}},{"$f":"VLOOKUP(P192,Daten!C$6:L$115,10,FALSE)","v":{"$error":"#N/A"}},{"$f":"VLOOKUP(P192,Daten!C$6:M$115,11,FALSE)","v":{"$error":"#N/A"}},0.05,0.1,0.8,0.85]
[null,null,null,null,null,null,null,null,null,null,null,null,null,null,null,26.8,{"$f":"Q192+0.2","v":26.800000000000008},{"$f":"ROUND(R188+(R195-R188)/7*5,0)","v":{"$error":"#N/A"}},{"$error":"#N/A"},{"$error":"#N/A"},{"$f":"VLOOKUP(P193,Daten!C$6:E$115,3,FALSE)","v":{"$error":"#N/A"}},{"$f":"VLOOKUP(P193,Daten!C$6:L$115,10,FALSE)","v":{"$error":"#N/A"}},{"$f":"VLOOKUP(P193,Daten!C$6:M$115,11,FALSE)","v":{"$error":"#N/A"}},0.05,0.1,0.8,0.85]
[null,null,null,null,null,null,null,null,null,null,null,null,null,null,null,26.9,{"$f":"Q193+0.1","v":26.900000000000009},{"$f":"ROUND(R188+(R195-R188)/7*6,0)","v":{"$error":"#N/A"}},{"$error":"#N/A"},{"$error":"#N/A"},{"$f":"VLOOKUP(P194,Daten!C$6:E$115,3,FALSE)","v":{"$error":"#N/A"}},{"$f":"VLOOKUP(P194,Daten!C$6:L$115,10,FALSE)","v":{"$error":"#N/A"}},{"$f":"VLOOKUP(P194,Daten!C$6:M$115,11,FALSE)","v":{"$error":"#N/A"}},0.05,0.1,0.8,0.85]
[null,null,null,null,null,null,null,null,null,null,null,null,null,null,null,27,{"$f":"Q194+0.1","v":27.000000000000011},{"$f":"VLOOKUP(Menü!H$24,Sollgewichte!A$4:CD$13,Q195+2,FALSE)","v":{"$error":"#N/A"}},{"$error":"#N/A"},{"$error":"#N/A"},{"$f":"VLOOKUP(P195,Daten!C$6:E$115,3,FALSE)","v":{"$error":"#N/A"}},{"$f":"VLOOKUP(P195,Daten!C$6:L$115,10,FALSE)","v":{"$error":"#N/A"}},{"$f":"VLOOKUP(P195,Daten!C$6:M$115,11,FALSE)","v":{"$error":"#N/A"}},0.05,0.1,0.8,0.85]
[null,null,null,null,null,null,null,null,null,null,null,null,null,null,null,27.2,{"$f":"Q195+0.2","v":27.20000000000001},{"$f":"ROUND(R195+(R202-R195)/7,0)","v":{"$error":"#N/A"}},{"$error":"#N/A"},{"$error":"#N/A"},{"$f":"VLOOKUP(P196,Daten!C$6:E$115,3,FALSE)","v":{"$error":"#N/A"}},{"$f":"VLOOKUP(P196,Daten!C$6:L$115,10,FALSE)","v":{"$error":"#N/A"}},{"$f":"VLOOKUP(P196,Daten!C$6:M$115,11,FALSE)","v":{"$error":"#N/A"}},0.05,0.1,0.8,0.85]
[null,null,null,null,null,null,null,null,null,null,null,null,null,null,null,27.3,{"$f":"Q196+0.1","v":27.300000000000011},{"$f":"ROUND(R195+(R202-R195)/7*2,0)","v":{"$error":"#N/A"}},{"$error":"#N/A"},{"$error":"#N/A"},{"$f":"VLOOKUP(P197,Daten!C$6:E$115,3,FALSE)","v":{"$error":"#N/A"}},{"$f":"VLOOKUP(P197,Daten!C$6:L$115,10,FALSE)","v":{"$error":"#N/A"}},{"$f":"VLOOKUP(P197,Daten!C$6:M$115,11,FALSE)","v":{"$error":"#N/A"}},0.05,0.1,0.8,0.85]
[null,null,null,null,null,null,null,null,null,null,null,null,null,null,null,27.5,{"$f":"Q197+0.2","v":27.500000000000011},{"$f":"ROUND(R195+(R202-R195)/7*3,0)","v":{"$error":"#N/A"}},{"$error":"#N/A"},{"$error":"#N/A"},{"$f":"VLOOKUP(P198,Daten!C$6:E$115,3,FALSE)","v":{"$error":"#N/A"}},{"$f":"VLOOKUP(P198,Daten!C$6:L$115,10,FALSE)","v":{"$error":"#N/A"}},{"$f":"VLOOKUP(P198,Daten!C$6:M$115,11,FALSE)","v":{"$error":"#N/A"}},0.05,0.1,0.8,0.85]
[null,null,null,null,null,null,null,null,null,null,null,null,null,null,null,{"$f":"ROUND(Q199,1)","v":27.6},{"$f":"Q198+0.1","v":27.600000000000012},{"$f":"ROUND(R195+(R202-R195)/7*4,0)","v":{"$error":"#N/A"}},{"$f":"R199*0.95","v":{"$error":"#N/A"}},{"$f":"R199","v":{"$error":"#N/A"}},{"$f":"VLOOKUP(P199,Daten!C$6:E$115,3,FALSE)","v":{"$error":"#N/A"}},{"$f":"VLOOKUP(P199,Daten!C$6:L$115,10,FALSE)","v":{"$error":"#N/A"}},{"$f":"VLOOKUP(P199,Daten!C$6:M$115,11,FALSE)","v":{"$error":"#N/A"}},0.05,0.1,0.8,0.85]
[null,null,null,null,null,null,null,null,null,null,null,null,null,null,null,27.8,{"$f":"Q199+0.2","v":27.800000000000011},{"$f":"ROUND(R195+(R202-R195)/7*5,0)","v":{"$error":"#N/A"}},{"$error":"#N/A"},{"$error":"#N/A"},{"$f":"VLOOKUP(P200,Daten!C$6:E$115,3,FALSE)","v":{"$error":"#N/A"}},{"$f":"VLOOKUP(P200,Daten!C$6:L$115,10,FALSE)","v":{"$error":"#N/A"}},{"$f":"VLOOKUP(P200,Daten!C$6:M$115,11,FALSE)","v":{"$error":"#N/A"}},0.05,0.1,0.8,0.85]
[null,null,null,null,null,null,null,null,null,null,null,null,null,null,null,27.9,{"$f":"Q200+0.1","v":27.900000000000013},{"$f":"ROUND(R195+(R202-R195)/7*6,0)","v":{"$error":"#N/A"}},{"$error":"#N/A"},{"$error":"#N/A"},{"$f":"VLOOKUP(P201,Daten!C$6:E$115,3,FALSE)","v":{"$error":"#N/A"}},{"$f":"VLOOKUP(P201,Daten!C$6:L$115,10,FALSE)","v":{"$error":"#N/A"}},{"$f":"VLOOKUP(P201,Daten!C$6:M$115,11,FALSE)","v":{"$error":"#N/A"}},0.05,0.1,0.8,0.85]
[null,null,null,null,null,null,null,null,null,null,null,null,null,null,null,28,{"$f":"Q201+0.1","v":28.000000000000014},{"$f":"VLOOKUP(Menü!H$24,Sollgewichte!A$4:CD$13,Q202+2,FALSE)","v":{"$error":"#N/A"}},{"$error":"#N/A"},{"$error":"#N/A"},{"$f":"VLOOKUP(P202,Daten!C$6:E$115,3,FALSE)","v":{"$error":"#N/A"}},{"$f":"VLOOKUP(P202,Daten!C$6:L$115,10,FALSE)","v":{"$error":"#N/A"}},{"$f":"VLOOKUP(P202,Daten!C$6:M$115,11,FALSE)","v":{"$error":"#N/A"}},0.05,0.1,0.8,0.85]
[null,null,null,null,null,null,null,null,null,null,null,null,null,null,null,28.2,{"$f":"Q202+0.2","v":28.200000000000014},{"$f":"ROUND(R202+(R209-R202)/7,0)","v":{"$error":"#N/A"}},{"$error":"#N/A"},{"$error":"#N/A"},{"$f":"VLOOKUP(P203,Daten!C$6:E$115,3,FALSE)","v":{"$error":"#N/A"}},{"$f":"VLOOKUP(P203,Daten!C$6:L$115,10,FALSE)","v":{"$error":"#N/A"}},{"$f":"VLOOKUP(P203,Daten!C$6:M$115,11,FALSE)","v":{"$error":"#N/A"}},0.05,0.1,0.8,0.85]
[null,null,null,null,null,null,null,null,null,null,null,null,null,null,null,28.3,{"$f":"Q203+0.1","v":28.300000000000015},{"$f":"ROUND(R202+(R209-R202)/7*2,0)","v":{"$error":"#N/A"}},{"$error":"#N/A"},{"$error":"#N/A"},{"$f":"VLOOKUP(P204,Daten!C$6:E$115,3,FALSE)","v":{"$error":"#N/A"}},{"$f":"VLOOKUP(P204,Daten!C$6:L$115,10,FALSE)","v":{"$error":"#N/A"}},{"$f":"VLOOKUP(P204,Daten!C$6:M$115,11,FALSE)","v":{"$error":"#N/A"}},0.05,0.1,0.8,0.85]
[null,null,null,null,null,null,null,null,null,null,null,null,null,null,null,28.5,{"$f":"Q204+0.2","v":28.500000000000014},{"$f":"ROUND(R202+(R209-R202)/7*3,0)","v":{"$error":"#N/A"}},{"$error":"#N/A"},{"$error":"#N/A"},{"$f":"VLOOKUP(P205,Daten!C$6:E$115,3,FALSE)","v":{"$error":"#N/A"}},{"$f":"VLOOKUP(P205,Daten!C$6:L$115,10,FALSE)","v":{"$error":"#N/A"}},{"$f":"VLOOKUP(P205,Daten!C$6:M$115,11,FALSE)","v":{"$error":"#N/A"}},0.05,0.1,0.8,0.85]
[null,null,null,null,null,null,null,null,null,null,null,null,null,null,null,28.6,{"$f":"Q205+0.1","v":28.600000000000016},{"$f":"ROUND(R202+(R209-R202)/7*4,0)","v":{"$error":"#N/A"}},{"$error":"#N/A"},{"$error":"#N/A"},{"$f":"VLOOKUP(P206,Daten!C$6:E$115,3,FALSE)","v":{"$error":"#N/A"}},{"$f":"VLOOKUP(P206,Daten!C$6:L$115,10,FALSE)","v":{"$error":"#N/A"}},{"$f":"VLOOKUP(P206,Daten!C$6:M$115,11,FALSE)","v":{"$error":"#N/A"}},0.05,0.1,0.8,0.85]
[null,null,null,null,null,null,null,null,null,null,null,null,null,null,null,28.8,{"$f":"Q206+0.2","v":28.800000000000015},{"$f":"ROUND(R202+(R209-R202)/7*5,0)","v":{"$error":"#N/A"}},{"$error":"#N/A"},{"$error":"#N/A"},{"$f":"VLOOKUP(P207,Daten!C$6:E$115,3,FALSE)","v":{"$error":"#N/A"}},{"$f":"VLOOKUP(P207,Daten!C$6:L$115,10,FALSE)","v":{"$error":"#N/A"}},{"$f":"VLOOKUP(P207,Daten!C$6:M$115,11,FALSE)","v":{"$error":"#N/A"}},0.05,0.1,0.8,0.85]
[null,null,null,null,null,null,null,null,null,null,null,null,null,null,null,28.9,{"$f":"Q207+0.1","v":28.900000000000016},{"$f":"ROUND(R202+(R209-R202)/7*6,0)","v":{"$error":"#N/A"}},{"$error":"#N/A"},{"$error":"#N/A"},{"$f":"VLOOKUP(P208,Daten!C$6:E$115,3,FALSE)","v":{"$error":"#N/A"}},{"$f":"VLOOKUP(P208,Daten!C$6:L$115,10,FALSE)","v":{"$error":"#N/A"}},{"$f":"VLOOKUP(P208,Daten!C$6:M$115,11,FALSE)","v":{"$error":"#N/A"}},0.05,0.1,0.8,0.85]
[null,null,null,null,null,null,null,null,null,null,null,null,null,null,null,29,{"$f":"Q208+0.1","v":29.000000000000018},{"$f":"VLOOKUP(Menü!H$24,Sollgewichte!A$4:CD$13,Q209+2,FALSE)","v":{"$error":"#N/A"}},{"$error":"#N/A"},{"$error":"#N/A"},{"$f":"VLOOKUP(P209,Daten!C$6:E$115,3,FALSE)","v":{"$error":"#N/A"}},{"$f":"VLOOKUP(P209,Daten!C$6:L$115,10,FALSE)","v":{"$error":"#N/A"}},{"$f":"VLOOKUP(P209,Daten!C$6:M$115,11,FALSE)","v":{"$error":"#N/A"}},0.05,0.1,0.8,0.85]
[null,null,null,null,null,null,null,null,null,null,null,null,null,null,null,29.2,{"$f":"Q209+0.2","v":29.200000000000017},{"$f":"ROUND(R209+(R216-R209)/7,0)","v":{"$error":"#N/A"}},{"$error":"#N/A"},{"$error":"#N/A"},{"$f":"VLOOKUP(P210,Daten!C$6:E$115,3,FALSE)","v":{"$error":"#N/A"}},{"$f":"VLOOKUP(P210,Daten!C$6:L$115,10,FALSE)","v":{"$error":"#N/A"}},{"$f":"VLOOKUP(P210,Daten!C$6:M$115,11,FALSE)","v":{"$error":"#N/A"}},0.05,0.1,0.8,0.85]
[null,null,null,null,null,null,null,null,null,null,null,null,null,null,null,29.3,{"$f":"Q210+0.1","v":29.300000000000018},{"$f":"ROUND(R209+(R216-R209)/7*2,0)","v":{"$error":"#N/A"}},{"$error":"#N/A"},{"$error":"#N/A"},{"$f":"VLOOKUP(P211,Daten!C$6:E$115,3,FALSE)","v":{"$error":"#N/A"}},{"$f":"VLOOKUP(P211,Daten!C$6:L$115,10,FALSE)","v":{"$error":"#N/A"}},{"$f":"VLOOKUP(P211,Daten!C$6:M$115,11,FALSE)","v":{"$error":"#N/A"}},0.05,0.1,0.8,0.85]
[null,null,null,null,null,null,null,null,null,null,null,null,null,null,null,29.5,{"$f":"Q211+0.2","v":29.500000000000018},{"$f":"ROUND(R209+(R216-R209)/7*3,0)","v":{"$error":"#N/A"}},{"$error":"#N/A"},{"$error":"#N/A"},{"$f":"VLOOKUP(P212,Daten!C$6:E$115,3,FALSE)","v":{"$error":"#N/A"}},{"$f":"VLOOKUP(P212,Daten!C$6:L$115,10,FALSE)","v":{"$error":"#N/A"}},{"$f":"VLOOKUP(P212,Daten!C$6:M$115,11,FALSE)","v":{"$error":"#N/A"}},0.05,0.1,0.8,0.85]
[null,null,null,null,null,null,null,null,null,null,null,null,null,null,null,29.6,{"$f":"Q212+0.1","v":29.600000000000019},{"$f":"ROUND(R209+(R216-R209)/7*4,0)","v":{"$error":"#N/A"}},{"$error":"#N/A"},{"$error":"#N/A"},{"$f":"VLOOKUP(P213,Daten!C$6:E$115,3,FALSE)","v":{"$error":"#N/A"}},{"$f":"VLOOKUP(P213,Daten!C$6:L$115,10,FALSE)","v":{"$error":"#N/A"}},{"$f":"VLOOKUP(P213,Daten!C$6:M$115,11,FALSE)","v":{"$error":"#N/A"}},0.05,0.1,0.8,0.85]
[null,null,null,null,null,null,null,null,null,null,null,null,null,null,null,29.8,{"$f":"Q213+0.2","v":29.800000000000018},{"$f":"ROUND(R209+(R216-R209)/7*5,0)","v":{"$error":"#N/A"}},{"$error":"#N/A"},{"$error":"#N/A"},{"$f":"VLOOKUP(P214,Daten!C$6:E$115,3,FALSE)","v":{"$error":"#N/A"}},{"$f":"VLOOKUP(P214,Daten!C$6:L$115,10,FALSE)","v":{"$error":"#N/A"}},{"$f":"VLOOKUP(P214,Daten!C$6:M$115,11,FALSE)","v":{"$error":"#N/A"}},0.05,0.1,0.8,0.85]
[null,null,null,null,null,null,null,null,null,null,null,null,null,null,null,29.9,{"$f":"Q214+0.1","v":29.90000000000002},{"$f":"ROUND(R209+(R216-R209)/7*6,0)","v":{"$error":"#N/A"}},{"$error":"#N/A"},{"$error":"#N/A"},{"$f":"VLOOKUP(P215,Daten!C$6:E$115,3,FALSE)","v":{"$error":"#N/A"}},{"$f":"VLOOKUP(P215,Daten!C$6:L$115,10,FALSE)","v":{"$error":"#N/A"}},{"$f":"VLOOKUP(P215,Daten!C$6:M$115,11,FALSE)","v":{"$error":"#N/A"}},0.05,0.1,0.8,0.85]
[null,null,null,null,null,null,null,null,null,null,null,null,null,null,null,30,{"$f":"Q215+0.1","v":30.000000000000021},{"$f":"VLOOKUP(Menü!H$24,Sollgewichte!A$4:CD$13,Q216+2,FALSE)","v":{"$error":"#N/A"}},{"$error":"#N/A"},{"$error":"#N/A"},{"$f":"VLOOKUP(P216,Daten!C$6:E$115,3,FALSE)","v":{"$error":"#N/A"}},{"$f":"VLOOKUP(P216,Daten!C$6:L$115,10,FALSE)","v":{"$error":"#N/A"}},{"$f":"VLOOKUP(P216,Daten!C$6:M$115,11,FALSE)","v":{"$error":"#N/A"}},0.05,0.1,0.8,0.85]
[null,null,null,null,null,null,null,null,null,null,null,null,null,null,null,30.2,{"$f":"Q216+0.2","v":30.200000000000021},{"$f":"ROUND(R216+(R223-R216)/7,0)","v":{"$error":"#N/A"}},{"$error":"#N/A"},{"$error":"#N/A"},{"$f":"VLOOKUP(P217,Daten!C$6:E$115,3,FALSE)","v":{"$error":"#N/A"}},{"$f":"VLOOKUP(P217,Daten!C$6:L$115,10,FALSE)","v":{"$error":"#N/A"}},{"$f":"VLOOKUP(P217,Daten!C$6:M$115,11,FALSE)","v":{"$error":"#N/A"}},0.05,0.1,0.8,0.85]
[null,null,null,null,null,null,null,null,null,null,null,null,null,null,null,30.3,{"$f":"Q217+0.1","v":30.300000000000022},{"$f":"ROUND(R216+(R223-R216)/7*2,0)","v":{"$error":"#N/A"}},{"$error":"#N/A"},{"$error":"#N/A"},{"$f":"VLOOKUP(P218,Daten!C$6:E$115,3,FALSE)","v":{"$error":"#N/A"}},{"$f":"VLOOKUP(P218,Daten!C$6:L$115,10,FALSE)","v":{"$error":"#N/A"}},{"$f":"VLOOKUP(P218,Daten!C$6:M$115,11,FALSE)","v":{"$error":"#N/A"}},0.05,0.1,0.8,0.85]
[null,null,null,null,null,null,null,null,null,null,null,null,null,null,null,30.5,{"$f":"Q218+0.2","v":30.500000000000021},{"$f":"ROUND(R216+(R223-R216)/7*3,0)","v":{"$error":"#N/A"}},{"$error":"#N/A"},{"$error":"#N/A"},{"$f":"VLOOKUP(P219,Daten!C$6:E$115,3,FALSE)","v":{"$error":"#N/A"}},{"$f":"VLOOKUP(P219,Daten!C$6:L$115,10,FALSE)","v":{"$error":"#N/A"}},{"$f":"VLOOKUP(P219,Daten!C$6:M$115,11,FALSE)","v":{"$error":"#N/A"}},0.05,0.1,0.8,0.85]
[null,null,null,null,null,null,null,null,null,null,null,null,null,null,null,30.6,{"$f":"Q219+0.1","v":30.600000000000023},{"$f":"ROUND(R216+(R223-R216)/7*4,0)","v":{"$error":"#N/A"}},{"$error":"#N/A"},{"$error":"#N/A"},{"$f":"VLOOKUP(P220,Daten!C$6:E$115,3,FALSE)","v":{"$error":"#N/A"}},{"$f":"VLOOKUP(P220,Daten!C$6:L$115,10,FALSE)","v":{"$error":"#N/A"}},{"$f":"VLOOKUP(P220,Daten!C$6:M$115,11,FALSE)","v":{"$error":"#N/A"}},0.05,0.1,0.8,0.85]
[null,null,null,null,null,null,null,null,null,null,null,null,null,null,null,30.8,{"$f":"Q220+0.2","v":30.800000000000022},{"$f":"ROUND(R216+(R223-R216)/7*5,0)","v":{"$error":"#N/A"}},{"$error":"#N/A"},{"$error":"#N/A"},{"$f":"VLOOKUP(P221,Daten!C$6:E$115,3,FALSE)","v":{"$error":"#N/A"}},{"$f":"VLOOKUP(P221,Daten!C$6:L$115,10,FALSE)","v":{"$error":"#N/A"}},{"$f":"VLOOKUP(P221,Daten!C$6:M$115,11,FALSE)","v":{"$error":"#N/A"}},0.05,0.1,0.8,0.85]
[null,null,null,null,null,null,null,null,null,null,null,null,null,null,null,30.9,{"$f":"Q221+0.1","v":30.900000000000023},{"$f":"ROUND(R216+(R223-R216)/7*6,0)","v":{"$error":"#N/A"}},{"$error":"#N/A"},{"$error":"#N/A"},{"$f":"VLOOKUP(P222,Daten!C$6:E$115,3,FALSE)","v":{"$error":"#N/A"}},{"$f":"VLOOKUP(P222,Daten!C$6:L$115,10,FALSE)","v":{"$error":"#N/A"}},{"$f":"VLOOKUP(P222,Daten!C$6:M$115,11,FALSE)","v":{"$error":"#N/A"}},0.05,0.1,0.8,0.85]
[null,null,null,null,null,null,null,null,null,null,null,null,null,null,null,31,{"$f":"Q222+0.1","v":31.000000000000025},{"$f":"VLOOKUP(Menü!H$24,Sollgewichte!A$4:CD$13,Q223+2,FALSE)","v":{"$error":"#N/A"}},{"$error":"#N/A"},{"$error":"#N/A"},{"$f":"VLOOKUP(P223,Daten!C$6:E$115,3,FALSE)","v":{"$error":"#N/A"}},{"$f":"VLOOKUP(P223,Daten!C$6:L$115,10,FALSE)","v":{"$error":"#N/A"}},{"$f":"VLOOKUP(P223,Daten!C$6:M$115,11,FALSE)","v":{"$error":"#N/A"}},0.05,0.1,0.8,0.85]
[null,null,null,null,null,null,null,null,null,null,null,null,null,null,null,31.2,{"$f":"Q223+0.2","v":31.200000000000024},{"$f":"ROUND(R223+(R230-R223)/7,0)","v":{"$error":"#N/A"}},{"$error":"#N/A"},{"$error":"#N/A"},{"$f":"VLOOKUP(P224,Daten!C$6:E$115,3,FALSE)","v":{"$error":"#N/A"}},{"$f":"VLOOKUP(P224,Daten!C$6:L$115,10,FALSE)","v":{"$error":"#N/A"}},{"$f":"VLOOKUP(P224,Daten!C$6:M$115,11,FALSE)","v":{"$error":"#N/A"}},0.05,0.1,0.8,0.85]
[null,null,null,null,null,null,null,null,null,null,null,null,null,null,null,31.3,{"$f":"Q224+0.1","v":31.300000000000026},{"$f":"ROUND(R223+(R230-R223)/7*2,0)","v":{"$error":"#N/A"}},{"$error":"#N/A"},{"$error":"#N/A"},{"$f":"VLOOKUP(P225,Daten!C$6:E$115,3,FALSE)","v":{"$error":"#N/A"}},{"$f":"VLOOKUP(P225,Daten!C$6:L$115,10,FALSE)","v":{"$error":"#N/A"}},{"$f":"VLOOKUP(P225,Daten!C$6:M$115,11,FALSE)","v":{"$error":"#N/A"}},0.05,0.1,0.8,0.85]
[null,null,null,null,null,null,null,null,null,null,null,null,null,null,null,31.5,{"$f":"Q225+0.2","v":31.500000000000025},{"$f":"ROUND(R223+(R230-R223)/7*3,0)","v":{"$error":"#N/A"}},{"$error":"#N/A"},{"$error":"#N/A"},{"$f":"VLOOKUP(P226,Daten!C$6:E$115,3,FALSE)","v":{"$error":"#N/A"}},{"$f":"VLOOKUP(P226,Daten!C$6:L$115,10,FALSE)","v":{"$error":"#N/A"}},{"$f":"VLOOKUP(P226,Daten!C$6:M$115,11,FALSE)","v":{"$error":"#N/A"}},0.05,0.1,0.8,0.85]
[null,null,null,null,null,null,null,null,null,null,null,null,null,null,null,31.6,{"$f":"Q226+0.1","v":31.600000000000026},{"$f":"ROUND(R223+(R230-R223)/7*4,0)","v":{"$error":"#N/A"}},{"$error":"#N/A"},{"$error":"#N/A"},{"$f":"VLOOKUP(P227,Daten!C$6:E$115,3,FALSE)","v":{"$error":"#N/A"}},{"$f":"VLOOKUP(P227,Daten!C$6:L$115,10,FALSE)","v":{"$error":"#N/A"}},{"$f":"VLOOKUP(P227,Daten!C$6:M$115,11,FALSE)","v":{"$error":"#N/A"}},0.05,0.1,0.8,0.85]
[null,null,null,null,null,null,null,null,null,null,null,null,null,null,null,31.8,{"$f":"Q227+0.2","v":31.800000000000026},{"$f":"ROUND(R223+(R230-R223)/7*5,0)","v":{"$error":"#N/A"}},{"$error":"#N/A"},{"$error":"#N/A"},{"$f":"VLOOKUP(P228,Daten!C$6:E$115,3,FALSE)","v":{"$error":"#N/A"}},{"$f":"VLOOKUP(P228,Daten!C$6:L$115,10,FALSE)","v":{"$error":"#N/A"}},{"$f":"VLOOKUP(P228,Daten!C$6:M$115,11,FALSE)","v":{"$error":"#N/A"}},0.05,0.1,0.8,0.85]
[null,null,null,null,null,null,null,null,null,null,null,null,null,null,null,31.9,{"$f":"Q228+0.1","v":31.900000000000027},{"$f":"ROUND(R223+(R230-R223)/7*6,0)","v":{"$error":"#N/A"}},{"$error":"#N/A"},{"$error":"#N/A"},{"$f":"VLOOKUP(P229,Daten!C$6:E$115,3,FALSE)","v":{"$error":"#N/A"}},{"$f":"VLOOKUP(P229,Daten!C$6:L$115,10,FALSE)","v":{"$error":"#N/A"}},{"$f":"VLOOKUP(P229,Daten!C$6:M$115,11,FALSE)","v":{"$error":"#N/A"}},0.05,0.1,0.8,0.85]
[null,null,null,null,null,null,null,null,null,null,null,null,null,null,null,32,{"$f":"Q229+0.1","v":32.000000000000028},{"$f":"VLOOKUP(Menü!H$24,Sollgewichte!A$4:CD$13,Q230+2,FALSE)","v":{"$error":"#N/A"}},{"$error":"#N/A"},{"$error":"#N/A"},{"$f":"VLOOKUP(P230,Daten!C$6:E$115,3,FALSE)","v":{"$error":"#N/A"}},{"$f":"VLOOKUP(P230,Daten!C$6:L$115,10,FALSE)","v":{"$error":"#N/A"}},{"$f":"VLOOKUP(P230,Daten!C$6:M$115,11,FALSE)","v":{"$error":"#N/A"}},0.05,0.1,0.8,0.85]
[null,null,null,null,null,null,null,null,null,null,null,null,null,null,null,32.200000000000003,{"$f":"Q230+0.2","v":32.200000000000031},{"$f":"ROUND(R230+(R237-R230)/7,0)","v":{"$error":"#N/A"}},{"$error":"#N/A"},{"$error":"#N/A"},{"$f":"VLOOKUP(P231,Daten!C$6:E$115,3,FALSE)","v":{"$error":"#N/A"}},{"$f":"VLOOKUP(P231,Daten!C$6:L$115,10,FALSE)","v":{"$error":"#N/A"}},{"$f":"VLOOKUP(P231,Daten!C$6:M$115,11,FALSE)","v":{"$error":"#N/A"}},0.05,0.1,0.8,0.85]
[null,null,null,null,null,null,null,null,null,null,null,null,null,null,null,32.299999999999997,{"$f":"Q231+0.1","v":32.300000000000033},{"$f":"ROUND(R230+(R237-R230)/7*2,0)","v":{"$error":"#N/A"}},{"$error":"#N/A"},{"$error":"#N/A"},{"$f":"VLOOKUP(P232,Daten!C$6:E$115,3,FALSE)","v":{"$error":"#N/A"}},{"$f":"VLOOKUP(P232,Daten!C$6:L$115,10,FALSE)","v":{"$error":"#N/A"}},{"$f":"VLOOKUP(P232,Daten!C$6:M$115,11,FALSE)","v":{"$error":"#N/A"}},0.05,0.1,0.8,0.85]
[null,null,null,null,null,null,null,null,null,null,null,null,null,null,null,32.5,{"$f":"Q232+0.2","v":32.500000000000036},{"$f":"ROUND(R230+(R237-R230)/7*3,0)","v":{"$error":"#N/A"}},{"$error":"#N/A"},{"$error":"#N/A"},{"$f":"VLOOKUP(P233,Daten!C$6:E$115,3,FALSE)","v":{"$error":"#N/A"}},{"$f":"VLOOKUP(P233,Daten!C$6:L$115,10,FALSE)","v":{"$error":"#N/A"}},{"$f":"VLOOKUP(P233,Daten!C$6:M$115,11,FALSE)","v":{"$error":"#N/A"}},0.05,0.1,0.8,0.85]
[null,null,null,null,null,null,null,null,null,null,null,null,null,null,null,32.6,{"$f":"Q233+0.1","v":32.600000000000037},{"$f":"ROUND(R230+(R237-R230)/7*4,0)","v":{"$error":"#N/A"}},{"$error":"#N/A"},{"$error":"#N/A"},{"$f":"VLOOKUP(P234,Daten!C$6:E$115,3,FALSE)","v":{"$error":"#N/A"}},{"$f":"VLOOKUP(P234,Daten!C$6:L$115,10,FALSE)","v":{"$error":"#N/A"}},{"$f":"VLOOKUP(P234,Daten!C$6:M$115,11,FALSE)","v":{"$error":"#N/A"}},0.05,0.1,0.8,0.85]
[null,null,null,null,null,null,null,null,null,null,null,null,null,null,null,32.799999999999997,{"$f":"Q234+0.2","v":32.80000000000004},{"$f":"ROUND(R230+(R237-R230)/7*5,0)","v":{"$error":"#N/A"}},{"$error":"#N/A"},{"$error":"#N/A"},{"$f":"VLOOKUP(P235,Daten!C$6:E$115,3,FALSE)","v":{"$error":"#N/A"}},{"$f":"VLOOKUP(P235,Daten!C$6:L$115,10,FALSE)","v":{"$error":"#N/A"}},{"$f":"VLOOKUP(P235,Daten!C$6:M$115,11,FALSE)","v":{"$error":"#N/A"}},0.05,0.1,0.8,0.85]
[null,null,null,null,null,null,null,null,null,null,null,null,null,null,null,32.9,{"$f":"Q235+0.1","v":32.900000000000041},{"$f":"ROUND(R230+(R237-R230)/7*6,0)","v":{"$error":"#N/A"}},{"$error":"#N/A"},{"$error":"#N/A"},{"$f":"VLOOKUP(P236,Daten!C$6:E$115,3,FALSE)","v":{"$error":"#N/A"}},{"$f":"VLOOKUP(P236,Daten!C$6:L$115,10,FALSE)","v":{"$error":"#N/A"}},{"$f":"VLOOKUP(P236,Daten!C$6:M$115,11,FALSE)","v":{"$error":"#N/A"}},0.05,0.1,0.8,0.85]
[null,null,null,null,null,null,null,null,null,null,null,null,null,null,null,33,{"$f":"Q236+0.1","v":33.000000000000043},{"$f":"VLOOKUP(Menü!H$24,Sollgewichte!A$4:CD$13,Q237+2,FALSE)","v":{"$error":"#N/A"}},{"$error":"#N/A"},{"$error":"#N/A"},{"$f":"VLOOKUP(P237,Daten!C$6:E$115,3,FALSE)","v":{"$error":"#N/A"}},{"$f":"VLOOKUP(P237,Daten!C$6:L$115,10,FALSE)","v":{"$error":"#N/A"}},{"$f":"VLOOKUP(P237,Daten!C$6:M$115,11,FALSE)","v":{"$error":"#N/A"}},0.05,0.1,0.8,0.85]
[null,null,null,null,null,null,null,null,null,null,null,null,null,null,null,33.200000000000003,{"$f":"Q237+0.2","v":33.200000000000045},{"$f":"ROUND(R237+(R244-R237)/7,0)","v":{"$error":"#N/A"}},{"$error":"#N/A"},{"$error":"#N/A"},{"$f":"VLOOKUP(P238,Daten!C$6:E$115,3,FALSE)","v":{"$error":"#N/A"}},{"$f":"VLOOKUP(P238,Daten!C$6:L$115,10,FALSE)","v":{"$error":"#N/A"}},{"$f":"VLOOKUP(P238,Daten!C$6:M$115,11,FALSE)","v":{"$error":"#N/A"}},0.05,0.1,0.8,0.85]
[null,null,null,null,null,null,null,null,null,null,null,null,null,null,null,33.299999999999997,{"$f":"Q238+0.1","v":33.300000000000047},{"$f":"ROUND(R237+(R244-R237)/7*2,0)","v":{"$error":"#N/A"}},{"$error":"#N/A"},{"$error":"#N/A"},{"$f":"VLOOKUP(P239,Daten!C$6:E$115,3,FALSE)","v":{"$error":"#N/A"}},{"$f":"VLOOKUP(P239,Daten!C$6:L$115,10,FALSE)","v":{"$error":"#N/A"}},{"$f":"VLOOKUP(P239,Daten!C$6:M$115,11,FALSE)","v":{"$error":"#N/A"}},0.05,0.1,0.8,0.85]
[null,null,null,null,null,null,null,null,null,null,null,null,null,null,null,33.5,{"$f":"Q239+0.2","v":33.50000000000005},{"$f":"ROUND(R237+(R244-R237)/7*3,0)","v":{"$error":"#N/A"}},{"$error":"#N/A"},{"$error":"#N/A"},{"$f":"VLOOKUP(P240,Daten!C$6:E$115,3,FALSE)","v":{"$error":"#N/A"}},{"$f":"VLOOKUP(P240,Daten!C$6:L$115,10,FALSE)","v":{"$error":"#N/A"}},{"$f":"VLOOKUP(P240,Daten!C$6:M$115,11,FALSE)","v":{"$error":"#N/A"}},0.05,0.1,0.8,0.85]
[null,null,null,null,null,null,null,null,null,null,null,null,null,null,null,33.6,{"$f":"Q240+0.1","v":33.600000000000051},{"$f":"ROUND(R237+(R244-R237)/7*4,0)","v":{"$error":"#N/A"}},{"$error":"#N/A"},{"$error":"#N/A"},{"$f":"VLOOKUP(P241,Daten!C$6:E$115,3,FALSE)","v":{"$error":"#N/A"}},{"$f":"VLOOKUP(P241,Daten!C$6:L$115,10,FALSE)","v":{"$error":"#N/A"}},{"$f":"VLOOKUP(P241,Daten!C$6:M$115,11,FALSE)","v":{"$error":"#N/A"}},0.05,0.1,0.8,0.85]
[null,null,null,null,null,null,null,null,null,null,null,null,null,null,null,33.799999999999997,{"$f":"Q241+0.2","v":33.800000000000054},{"$f":"ROUND(R237+(R244-R237)/7*5,0)","v":{"$error":"#N/A"}},{"$error":"#N/A"},{"$error":"#N/A"},{"$f":"VLOOKUP(P242,Daten!C$6:E$115,3,FALSE)","v":{"$error":"#N/A"}},{"$f":"VLOOKUP(P242,Daten!C$6:L$115,10,FALSE)","v":{"$error":"#N/A"}},{"$f":"VLOOKUP(P242,Daten!C$6:M$115,11,FALSE)","v":{"$error":"#N/A"}},0.05,0.1,0.8,0.85]
[null,null,null,null,null,null,null,null,null,null,null,null,null,null,null,33.9,{"$f":"Q242+0.1","v":33.900000000000055},{"$f":"ROUND(R237+(R244-R237)/7*6,0)","v":{"$error":"#N/A"}},{"$error":"#N/A"},{"$error":"#N/A"},{"$f":"VLOOKUP(P243,Daten!C$6:E$115,3,FALSE)","v":{"$error":"#N/A"}},{"$f":"VLOOKUP(P243,Daten!C$6:L$115,10,FALSE)","v":{"$error":"#N/A"}},{"$f":"VLOOKUP(P243,Daten!C$6:M$115,11,FALSE)","v":{"$error":"#N/A"}},0.05,0.1,0.8,0.85]
[null,null,null,null,null,null,null,null,null,null,null,null,null,null,null,34,{"$f":"Q243+0.1","v":34.000000000000057},{"$f":"VLOOKUP(Menü!H$24,Sollgewichte!A$4:CD$13,Q244+2,FALSE)","v":{"$error":"#N/A"}},{"$error":"#N/A"},{"$error":"#N/A"},{"$f":"VLOOKUP(P244,Daten!C$6:E$115,3,FALSE)","v":{"$error":"#N/A"}},{"$f":"VLOOKUP(P244,Daten!C$6:L$115,10,FALSE)","v":{"$error":"#N/A"}},{"$f":"VLOOKUP(P244,Daten!C$6:M$115,11,FALSE)","v":{"$error":"#N/A"}},0.05,0.1,0.8,0.85]
[null,null,null,null,null,null,null,null,null,null,null,null,null,null,null,34.200000000000003,{"$f":"Q244+0.2","v":34.20000000000006},{"$f":"ROUND(R244+(R251-R244)/7,0)","v":{"$error":"#N/A"}},{"$error":"#N/A"},{"$error":"#N/A"},{"$f":"VLOOKUP(P245,Daten!C$6:E$115,3,FALSE)","v":{"$error":"#N/A"}},{"$f":"VLOOKUP(P245,Daten!C$6:L$115,10,FALSE)","v":{"$error":"#N/A"}},{"$f":"VLOOKUP(P245,Daten!C$6:M$115,11,FALSE)","v":{"$error":"#N/A"}},0.05,0.1,0.8,0.85]
[null,null,null,null,null,null,null,null,null,null,null,null,null,null,null,34.299999999999997,{"$f":"Q245+0.1","v":34.300000000000061},{"$f":"ROUND(R244+(R251-R244)/7*2,0)","v":{"$error":"#N/A"}},{"$error":"#N/A"},{"$error":"#N/A"},{"$f":"VLOOKUP(P246,Daten!C$6:E$115,3,FALSE)","v":{"$error":"#N/A"}},{"$f":"VLOOKUP(P246,Daten!C$6:L$115,10,FALSE)","v":{"$error":"#N/A"}},{"$f":"VLOOKUP(P246,Daten!C$6:M$115,11,FALSE)","v":{"$error":"#N/A"}},0.05,0.1,0.8,0.85]
[null,null,null,null,null,null,null,null,null,null,null,null,null,null,null,34.5,{"$f":"Q246+0.2","v":34.500000000000064},{"$f":"ROUND(R244+(R251-R244)/7*3,0)","v":{"$error":"#N/A"}},{"$error":"#N/A"},{"$error":"#N/A"},{"$f":"VLOOKUP(P247,Daten!C$6:E$115,3,FALSE)","v":{"$error":"#N/A"}},{"$f":"VLOOKUP(P247,Daten!C$6:L$115,10,FALSE)","v":{"$error":"#N/A"}},{"$f":"VLOOKUP(P247,Daten!C$6:M$115,11,FALSE)","v":{"$error":"#N/A"}},0.05,0.1,0.8,0.85]
[null,null,null,null,null,null,null,null,null,null,null,null,null,null,null,34.6,{"$f":"Q247+0.1","v":34.600000000000065},{"$f":"ROUND(R244+(R251-R244)/7*4,0)","v":{"$error":"#N/A"}},{"$error":"#N/A"},{"$error":"#N/A"},{"$f":"VLOOKUP(P248,Daten!C$6:E$115,3,FALSE)","v":{"$error":"#N/A"}},{"$f":"VLOOKUP(P248,Daten!C$6:L$115,10,FALSE)","v":{"$error":"#N/A"}},{"$f":"VLOOKUP(P248,Daten!C$6:M$115,11,FALSE)","v":{"$error":"#N/A"}},0.05,0.1,0.8,0.85]
[null,null,null,null,null,null,null,null,null,null,null,null,null,null,null,34.799999999999997,{"$f":"Q248+0.2","v":34.800000000000068},{"$f":"ROUND(R244+(R251-R244)/7*5,0)","v":{"$error":"#N/A"}},{"$error":"#N/A"},{"$error":"#N/A"},{"$f":"VLOOKUP(P249,Daten!C$6:E$115,3,FALSE)","v":{"$error":"#N/A"}},{"$f":"VLOOKUP(P249,Daten!C$6:L$115,10,FALSE)","v":{"$error":"#N/A"}},{"$f":"VLOOKUP(P249,Daten!C$6:M$115,11,FALSE)","v":{"$error":"#N/A"}},0.05,0.1,0.8,0.85]
[null,null,null,null,null,null,null,null,null,null,null,null,null,null,null,34.9,{"$f":"Q249+0.1","v":34.90000000000007},{"$f":"ROUND(R244+(R251-R244)/7*6,0)","v":{"$error":"#N/A"}},{"$error":"#N/A"},{"$error":"#N/A"},{"$f":"VLOOKUP(P250,Daten!C$6:E$115,3,FALSE)","v":{"$error":"#N/A"}},{"$f":"VLOOKUP(P250,Daten!C$6:L$115,10,FALSE)","v":{"$error":"#N/A"}},{"$f":"VLOOKUP(P250,Daten!C$6:M$115,11,FALSE)","v":{"$error":"#N/A"}},0.05,0.1,0.8,0.85]
[null,null,null,null,null,null,null,null,null,null,null,null,null,null,null,35,{"$f":"Q250+0.1","v":35.000000000000071},{"$f":"VLOOKUP(Menü!H$24,Sollgewichte!A$4:CD$13,Q251+2,FALSE)","v":{"$error":"#N/A"}},{"$error":"#N/A"},{"$error":"#N/A"},{"$f":"VLOOKUP(P251,Daten!C$6:E$115,3,FALSE)","v":{"$error":"#N/A"}},{"$f":"VLOOKUP(P251,Daten!C$6:L$115,10,FALSE)","v":{"$error":"#N/A"}},{"$f":"VLOOKUP(P251,Daten!C$6:M$115,11,FALSE)","v":{"$error":"#N/A"}},0.05,0.1,0.8,0.85]
[null,null,null,null,null,null,null,null,null,null,null,null,null,null,null,35.200000000000003,{"$f":"Q251+0.2","v":35.200000000000074},{"$f":"ROUND(R251+(R258-R251)/7,0)","v":{"$error":"#N/A"}},{"$error":"#N/A"},{"$error":"#N/A"},{"$f":"VLOOKUP(P252,Daten!C$6:E$115,3,FALSE)","v":{"$error":"#N/A"}},{"$f":"VLOOKUP(P252,Daten!C$6:L$115,10,FALSE)","v":{"$error":"#N/A"}},{"$f":"VLOOKUP(P252,Daten!C$6:M$115,11,FALSE)","v":{"$error":"#N/A"}},0.05,0.1,0.8,0.85]
[null,null,null,null,null,null,null,null,null,null,null,null,null,null,null,35.299999999999997,{"$f":"Q252+0.1","v":35.300000000000075},{"$f":"ROUND(R251+(R258-R251)/7*2,0)","v":{"$error":"#N/A"}},{"$error":"#N/A"},{"$error":"#N/A"},{"$f":"VLOOKUP(P253,Daten!C$6:E$115,3,FALSE)","v":{"$error":"#N/A"}},{"$f":"VLOOKUP(P253,Daten!C$6:L$115,10,FALSE)","v":{"$error":"#N/A"}},{"$f":"VLOOKUP(P253,Daten!C$6:M$115,11,FALSE)","v":{"$error":"#N/A"}},0.05,0.1,0.8,0.85]
[null,null,null,null,null,null,null,null,null,null,null,null,null,null,null,35.5,{"$f":"Q253+0.2","v":35.500000000000078},{"$f":"ROUND(R251+(R258-R251)/7*3,0)","v":{"$error":"#N/A"}},{"$error":"#N/A"},{"$error":"#N/A"},{"$f":"VLOOKUP(P254,Daten!C$6:E$115,3,FALSE)","v":{"$error":"#N/A"}},{"$f":"VLOOKUP(P254,Daten!C$6:L$115,10,FALSE)","v":{"$error":"#N/A"}},{"$f":"VLOOKUP(P254,Daten!C$6:M$115,11,FALSE)","v":{"$error":"#N/A"}},0.05,0.1,0.8,0.85]
[null,null,null,null,null,null,null,null,null,null,null,null,null,null,null,35.6,{"$f":"Q254+0.1","v":35.60000000000008},{"$f":"ROUND(R251+(R258-R251)/7*4,0)","v":{"$error":"#N/A"}},{"$error":"#N/A"},{"$error":"#N/A"},{"$f":"VLOOKUP(P255,Daten!C$6:E$115,3,FALSE)","v":{"$error":"#N/A"}},{"$f":"VLOOKUP(P255,Daten!C$6:L$115,10,FALSE)","v":{"$error":"#N/A"}},{"$f":"VLOOKUP(P255,Daten!C$6:M$115,11,FALSE)","v":{"$error":"#N/A"}},0.05,0.1,0.8,0.85]
[null,null,null,null,null,null,null,null,null,null,null,null,null,null,null,35.799999999999997,{"$f":"Q255+0.2","v":35.800000000000082},{"$f":"ROUND(R251+(R258-R251)/7*5,0)","v":{"$error":"#N/A"}},{"$error":"#N/A"},{"$error":"#N/A"},{"$f":"VLOOKUP(P256,Daten!C$6:E$115,3,FALSE)","v":{"$error":"#N/A"}},{"$f":"VLOOKUP(P256,Daten!C$6:L$115,10,FALSE)","v":{"$error":"#N/A"}},{"$f":"VLOOKUP(P256,Daten!C$6:M$115,11,FALSE)","v":{"$error":"#N/A"}},0.05,0.1,0.8,0.85]
[null,null,null,null,null,null,null,null,null,null,null,null,null,null,null,35.9,{"$f":"Q256+0.1","v":35.900000000000084},{"$f":"ROUND(R251+(R258-R251)/7*6,0)","v":{"$error":"#N/A"}},{"$error":"#N/A"},{"$error":"#N/A"},{"$f":"VLOOKUP(P257,Daten!C$6:E$115,3,FALSE)","v":{"$error":"#N/A"}},{"$f":"VLOOKUP(P257,Daten!C$6:L$115,10,FALSE)","v":{"$error":"#N/A"}},{"$f":"VLOOKUP(P257,Daten!C$6:M$115,11,FALSE)","v":{"$error":"#N/A"}},0.05,0.1,0.8,0.85]
[null,null,null,null,null,null,null,null,null,null,null,null,null,null,null,36,{"$f":"Q257+0.1","v":36.000000000000085},{"$f":"VLOOKUP(Menü!H$24,Sollgewichte!A$4:CD$13,Q258+2,FALSE)","v":{"$error":"#N/A"}},{"$error":"#N/A"},{"$error":"#N/A"},{"$f":"VLOOKUP(P258,Daten!C$6:E$115,3,FALSE)","v":{"$error":"#N/A"}},{"$f":"VLOOKUP(P258,Daten!C$6:L$115,10,FALSE)","v":{"$error":"#N/A"}},{"$f":"VLOOKUP(P258,Daten!C$6:M$115,11,FALSE)","v":{"$error":"#N/A"}},0.05,0.1,0.8,0.85]
[null,null,null,null,null,null,null,null,null,null,null,null,null,null,null,36.200000000000003,{"$f":"Q258+0.2","v":36.200000000000088},{"$f":"ROUND(R258+(R265-R258)/7,0)","v":{"$error":"#N/A"}},{"$error":"#N/A"},{"$error":"#N/A"},{"$f":"VLOOKUP(P259,Daten!C$6:E$115,3,FALSE)","v":{"$error":"#N/A"}},{"$f":"VLOOKUP(P259,Daten!C$6:L$115,10,FALSE)","v":{"$error":"#N/A"}},{"$f":"VLOOKUP(P259,Daten!C$6:M$115,11,FALSE)","v":{"$error":"#N/A"}},0.05,0.1,0.8,0.85]
[null,null,null,null,null,null,null,null,null,null,null,null,null,null,null,36.299999999999997,{"$f":"Q259+0.1","v":36.30000000000009},{"$f":"ROUND(R258+(R265-R258)/7*2,0)","v":{"$error":"#N/A"}},{"$error":"#N/A"},{"$error":"#N/A"},{"$f":"VLOOKUP(P260,Daten!C$6:E$115,3,FALSE)","v":{"$error":"#N/A"}},{"$f":"VLOOKUP(P260,Daten!C$6:L$115,10,FALSE)","v":{"$error":"#N/A"}},{"$f":"VLOOKUP(P260,Daten!C$6:M$115,11,FALSE)","v":{"$error":"#N/A"}},0.05,0.1,0.8,0.85]
[null,null,null,null,null,null,null,null,null,null,null,null,null,null,null,36.5,{"$f":"Q260+0.2","v":36.500000000000092},{"$f":"ROUND(R258+(R265-R258)/7*3,0)","v":{"$error":"#N/A"}},{"$error":"#N/A"},{"$error":"#N/A"},{"$f":"VLOOKUP(P261,Daten!C$6:E$115,3,FALSE)","v":{"$error":"#N/A"}},{"$f":"VLOOKUP(P261,Daten!C$6:L$115,10,FALSE)","v":{"$error":"#N/A"}},{"$f":"VLOOKUP(P261,Daten!C$6:M$115,11,FALSE)","v":{"$error":"#N/A"}},0.05,0.1,0.8,0.85]
[null,null,null,null,null,null,null,null,null,null,null,null,null,null,null,36.6,{"$f":"Q261+0.1","v":36.600000000000094},{"$f":"ROUND(R258+(R265-R258)/7*4,0)","v":{"$error":"#N/A"}},{"$error":"#N/A"},{"$error":"#N/A"},{"$f":"VLOOKUP(P262,Daten!C$6:E$115,3,FALSE)","v":{"$error":"#N/A"}},{"$f":"VLOOKUP(P262,Daten!C$6:L$115,10,FALSE)","v":{"$error":"#N/A"}},{"$f":"VLOOKUP(P262,Daten!C$6:M$115,11,FALSE)","v":{"$error":"#N/A"}},0.05,0.1,0.8,0.85]
[null,null,null,null,null,null,null,null,null,null,null,null,null,null,null,{"$f":"ROUND(Q263,1)","v":36.799999999999997},{"$f":"Q262+0.2","v":36.800000000000097},{"$f":"ROUND(R258+(R265-R258)/7*5,0)","v":{"$error":"#N/A"}},{"$f":"R263*0.95","v":{"$error":"#N/A"}},{"$f":"R263","v":{"$error":"#N/A"}},{"$f":"VLOOKUP(P263,Daten!C$6:E$115,3,FALSE)","v":{"$error":"#N/A"}},{"$f":"VLOOKUP(P263,Daten!C$6:L$115,10,FALSE)","v":{"$error":"#N/A"}},{"$f":"VLOOKUP(P263,Daten!C$6:M$115,11,FALSE)","v":{"$error":"#N/A"}},0.05,0.1,0.8,0.85]
[null,null,null,null,null,null,null,null,null,null,null,null,null,null,null,36.9,{"$f":"Q263+0.1","v":36.900000000000098},{"$f":"ROUND(R258+(R265-R258)/7*6,0)","v":{"$error":"#N/A"}},{"$error":"#N/A"},{"$error":"#N/A"},{"$f":"VLOOKUP(P264,Daten!C$6:E$115,3,FALSE)","v":{"$error":"#N/A"}},{"$f":"VLOOKUP(P264,Daten!C$6:L$115,10,FALSE)","v":{"$error":"#N/A"}},{"$f":"VLOOKUP(P264,Daten!C$6:M$115,11,FALSE)","v":{"$error":"#N/A"}},0.05,0.1,0.8,0.85]
[null,null,null,null,null,null,null,null,null,null,null,null,null,null,null,37,{"$f":"Q264+0.1","v":37.000000000000099},{"$f":"VLOOKUP(Menü!H$24,Sollgewichte!A$4:CD$13,Q265+2,FALSE)","v":{"$error":"#N/A"}},{"$error":"#N/A"},{"$error":"#N/A"},{"$f":"VLOOKUP(P265,Daten!C$6:E$115,3,FALSE)","v":{"$error":"#N/A"}},{"$f":"VLOOKUP(P265,Daten!C$6:L$115,10,FALSE)","v":{"$error":"#N/A"}},{"$f":"VLOOKUP(P265,Daten!C$6:M$115,11,FALSE)","v":{"$error":"#N/A"}},0.05,0.1,0.8,0.85]
[null,null,null,null,null,null,null,null,null,null,null,null,null,null,null,37.200000000000003,{"$f":"Q265+0.2","v":37.200000000000102},{"$f":"ROUND(R265+(R272-R265)/7,0)","v":{"$error":"#N/A"}},{"$error":"#N/A"},{"$error":"#N/A"},{"$f":"VLOOKUP(P266,Daten!C$6:E$115,3,FALSE)","v":{"$error":"#N/A"}},{"$f":"VLOOKUP(P266,Daten!C$6:L$115,10,FALSE)","v":{"$error":"#N/A"}},{"$f":"VLOOKUP(P266,Daten!C$6:M$115,11,FALSE)","v":{"$error":"#N/A"}},0.05,0.1,0.8,0.85]
[null,null,null,null,null,null,null,null,null,null,null,null,null,null,null,37.299999999999997,{"$f":"Q266+0.1","v":37.300000000000104},{"$f":"ROUND(R265+(R272-R265)/7*2,0)","v":{"$error":"#N/A"}},{"$error":"#N/A"},{"$error":"#N/A"},{"$f":"VLOOKUP(P267,Daten!C$6:E$115,3,FALSE)","v":{"$error":"#N/A"}},{"$f":"VLOOKUP(P267,Daten!C$6:L$115,10,FALSE)","v":{"$error":"#N/A"}},{"$f":"VLOOKUP(P267,Daten!C$6:M$115,11,FALSE)","v":{"$error":"#N/A"}},0.05,0.1,0.8,0.85]
[null,null,null,null,null,null,null,null,null,null,null,null,null,null,null,37.5,{"$f":"Q267+0.2","v":37.500000000000107},{"$f":"ROUND(R265+(R272-R265)/7*3,0)","v":{"$error":"#N/A"}},{"$error":"#N/A"},{"$error":"#N/A"},{"$f":"VLOOKUP(P268,Daten!C$6:E$115,3,FALSE)","v":{"$error":"#N/A"}},{"$f":"VLOOKUP(P268,Daten!C$6:L$115,10,FALSE)","v":{"$error":"#N/A"}},{"$f":"VLOOKUP(P268,Daten!C$6:M$115,11,FALSE)","v":{"$error":"#N/A"}},0.05,0.1,0.8,0.85]
[null,null,null,null,null,null,null,null,null,null,null,null,null,null,null,37.6,{"$f":"Q268+0.1","v":37.600000000000108},{"$f":"ROUND(R265+(R272-R265)/7*4,0)","v":{"$error":"#N/A"}},{"$error":"#N/A"},{"$error":"#N/A"},{"$f":"VLOOKUP(P269,Daten!C$6:E$115,3,FALSE)","v":{"$error":"#N/A"}},{"$f":"VLOOKUP(P269,Daten!C$6:L$115,10,FALSE)","v":{"$error":"#N/A"}},{"$f":"VLOOKUP(P269,Daten!C$6:M$115,11,FALSE)","v":{"$error":"#N/A"}},0.05,0.1,0.8,0.85]
[null,null,null,null,null,null,null,null,null,null,null,null,null,null,null,37.799999999999997,{"$f":"Q269+0.2","v":37.800000000000111},{"$f":"ROUND(R265+(R272-R265)/7*5,0)","v":{"$error":"#N/A"}},{"$error":"#N/A"},{"$error":"#N/A"},{"$f":"VLOOKUP(P270,Daten!C$6:E$115,3,FALSE)","v":{"$error":"#N/A"}},{"$f":"VLOOKUP(P270,Daten!C$6:L$115,10,FALSE)","v":{"$error":"#N/A"}},{"$f":"VLOOKUP(P270,Daten!C$6:M$115,11,FALSE)","v":{"$error":"#N/A"}},0.05,0.1,0.8,0.85]
[null,null,null,null,null,null,null,null,null,null,null,null,null,null,null,37.9,{"$f":"Q270+0.1","v":37.900000000000112},{"$f":"ROUND(R265+(R272-R265)/7*6,0)","v":{"$error":"#N/A"}},{"$error":"#N/A"},{"$error":"#N/A"},{"$f":"VLOOKUP(P271,Daten!C$6:E$115,3,FALSE)","v":{"$error":"#N/A"}},{"$f":"VLOOKUP(P271,Daten!C$6:L$115,10,FALSE)","v":{"$error":"#N/A"}},{"$f":"VLOOKUP(P271,Daten!C$6:M$115,11,FALSE)","v":{"$error":"#N/A"}},0.05,0.1,0.8,0.85]
[null,null,null,null,null,null,null,null,null,null,null,null,null,null,null,38,{"$f":"Q271+0.1","v":38.000000000000114},{"$f":"VLOOKUP(Menü!H$24,Sollgewichte!A$4:CD$13,Q272+2,FALSE)","v":{"$error":"#N/A"}},{"$error":"#N/A"},{"$error":"#N/A"},{"$f":"VLOOKUP(P272,Daten!C$6:E$115,3,FALSE)","v":{"$error":"#N/A"}},{"$f":"VLOOKUP(P272,Daten!C$6:L$115,10,FALSE)","v":{"$error":"#N/A"}},{"$f":"VLOOKUP(P272,Daten!C$6:M$115,11,FALSE)","v":{"$error":"#N/A"}},0.05,0.1,0.8,0.85]
[null,null,null,null,null,null,null,null,null,null,null,null,null,null,null,38.200000000000003,{"$f":"Q272+0.2","v":38.200000000000117},{"$f":"ROUND(R272+(R279-R272)/7,0)","v":{"$error":"#N/A"}},{"$error":"#N/A"},{"$error":"#N/A"},{"$f":"VLOOKUP(P273,Daten!C$6:E$115,3,FALSE)","v":{"$error":"#N/A"}},{"$f":"VLOOKUP(P273,Daten!C$6:L$115,10,FALSE)","v":{"$error":"#N/A"}},{"$f":"VLOOKUP(P273,Daten!C$6:M$115,11,FALSE)","v":{"$error":"#N/A"}},0.05,0.1,0.8,0.85]
[null,null,null,null,null,null,null,null,null,null,null,null,null,null,null,38.299999999999997,{"$f":"Q273+0.1","v":38.300000000000118},{"$f":"ROUND(R272+(R279-R272)/7*2,0)","v":{"$error":"#N/A"}},{"$error":"#N/A"},{"$error":"#N/A"},{"$f":"VLOOKUP(P274,Daten!C$6:E$115,3,FALSE)","v":{"$error":"#N/A"}},{"$f":"VLOOKUP(P274,Daten!C$6:L$115,10,FALSE)","v":{"$error":"#N/A"}},{"$f":"VLOOKUP(P274,Daten!C$6:M$115,11,FALSE)","v":{"$error":"#N/A"}},0.05,0.1,0.8,0.85]
[null,null,null,null,null,null,null,null,null,null,null,null,null,null,null,38.5,{"$f":"Q274+0.2","v":38.500000000000121},{"$f":"ROUND(R272+(R279-R272)/7*3,0)","v":{"$error":"#N/A"}},{"$error":"#N/A"},{"$error":"#N/A"},{"$f":"VLOOKUP(P275,Daten!C$6:E$115,3,FALSE)","v":{"$error":"#N/A"}},{"$f":"VLOOKUP(P275,Daten!C$6:L$115,10,FALSE)","v":{"$error":"#N/A"}},{"$f":"VLOOKUP(P275,Daten!C$6:M$115,11,FALSE)","v":{"$error":"#N/A"}},0.05,0.1,0.8,0.85]
[null,null,null,null,null,null,null,null,null,null,null,null,null,null,null,38.6,{"$f":"Q275+0.1","v":38.600000000000122},{"$f":"ROUND(R272+(R279-R272)/7*4,0)","v":{"$error":"#N/A"}},{"$error":"#N/A"},{"$error":"#N/A"},{"$f":"VLOOKUP(P276,Daten!C$6:E$115,3,FALSE)","v":{"$error":"#N/A"}},{"$f":"VLOOKUP(P276,Daten!C$6:L$115,10,FALSE)","v":{"$error":"#N/A"}},{"$f":"VLOOKUP(P276,Daten!C$6:M$115,11,FALSE)","v":{"$error":"#N/A"}},0.05,0.1,0.8,0.85]
[null,null,null,null,null,null,null,null,null,null,null,null,null,null,null,38.799999999999997,{"$f":"Q276+0.2","v":38.800000000000125},{"$f":"ROUND(R272+(R279-R272)/7*5,0)","v":{"$error":"#N/A"}},{"$error":"#N/A"},{"$error":"#N/A"},{"$f":"VLOOKUP(P277,Daten!C$6:E$115,3,FALSE)","v":{"$error":"#N/A"}},{"$f":"VLOOKUP(P277,Daten!C$6:L$115,10,FALSE)","v":{"$error":"#N/A"}},{"$f":"VLOOKUP(P277,Daten!C$6:M$115,11,FALSE)","v":{"$error":"#N/A"}},0.05,0.1,0.8,0.85]
[null,null,null,null,null,null,null,null,null,null,null,null,null,null,null,38.9,{"$f":"Q277+0.1","v":38.900000000000126},{"$f":"ROUND(R272+(R279-R272)/7*6,0)","v":{"$error":"#N/A"}},{"$error":"#N/A"},{"$error":"#N/A"},{"$f":"VLOOKUP(P278,Daten!C$6:E$115,3,FALSE)","v":{"$error":"#N/A"}},{"$f":"VLOOKUP(P278,Daten!C$6:L$115,10,FALSE)","v":{"$error":"#N/A"}},{"$f":"VLOOKUP(P278,Daten!C$6:M$115,11,FALSE)","v":{"$error":"#N/A"}},0.05,0.1,0.8,0.85]
[null,null,null,null,null,null,null,null,null,null,null,null,null,null,null,39,{"$f":"Q278+0.1","v":39.000000000000128},{"$f":"VLOOKUP(Menü!H$24,Sollgewichte!A$4:CD$13,Q279+2,FALSE)","v":{"$error":"#N/A"}},{"$error":"#N/A"},{"$error":"#N/A"},{"$f":"VLOOKUP(P279,Daten!C$6:E$115,3,FALSE)","v":{"$error":"#N/A"}},{"$f":"VLOOKUP(P279,Daten!C$6:L$115,10,FALSE)","v":{"$error":"#N/A"}},{"$f":"VLOOKUP(P279,Daten!C$6:M$115,11,FALSE)","v":{"$error":"#N/A"}},0.05,0.1,0.8,0.85]
[null,null,null,null,null,null,null,null,null,null,null,null,null,null,null,39.200000000000003,{"$f":"Q279+0.2","v":39.200000000000131},{"$f":"ROUND(R279+(R286-R279)/7,0)","v":{"$error":"#N/A"}},{"$error":"#N/A"},{"$error":"#N/A"},{"$f":"VLOOKUP(P280,Daten!C$6:E$115,3,FALSE)","v":{"$error":"#N/A"}},{"$f":"VLOOKUP(P280,Daten!C$6:L$115,10,FALSE)","v":{"$error":"#N/A"}},{"$f":"VLOOKUP(P280,Daten!C$6:M$115,11,FALSE)","v":{"$error":"#N/A"}},0.05,0.1,0.8,0.85]
[null,null,null,null,null,null,null,null,null,null,null,null,null,null,null,39.299999999999997,{"$f":"Q280+0.1","v":39.300000000000132},{"$f":"ROUND(R279+(R286-R279)/7*2,0)","v":{"$error":"#N/A"}},{"$error":"#N/A"},{"$error":"#N/A"},{"$f":"VLOOKUP(P281,Daten!C$6:E$115,3,FALSE)","v":{"$error":"#N/A"}},{"$f":"VLOOKUP(P281,Daten!C$6:L$115,10,FALSE)","v":{"$error":"#N/A"}},{"$f":"VLOOKUP(P281,Daten!C$6:M$115,11,FALSE)","v":{"$error":"#N/A"}},0.05,0.1,0.8,0.85]
[null,null,null,null,null,null,null,null,null,null,null,null,null,null,null,39.5,{"$f":"Q281+0.2","v":39.500000000000135},{"$f":"ROUND(R279+(R286-R279)/7*3,0)","v":{"$error":"#N/A"}},{"$error":"#N/A"},{"$error":"#N/A"},{"$f":"VLOOKUP(P282,Daten!C$6:E$115,3,FALSE)","v":{"$error":"#N/A"}},{"$f":"VLOOKUP(P282,Daten!C$6:L$115,10,FALSE)","v":{"$error":"#N/A"}},{"$f":"VLOOKUP(P282,Daten!C$6:M$115,11,FALSE)","v":{"$error":"#N/A"}},0.05,0.1,0.8,0.85]
[null,null,null,null,null,null,null,null,null,null,null,null,null,null,null,39.6,{"$f":"Q282+0.1","v":39.600000000000136},{"$f":"ROUND(R279+(R286-R279)/7*4,0)","v":{"$error":"#N/A"}},{"$error":"#N/A"},{"$error":"#N/A"},{"$f":"VLOOKUP(P283,Daten!C$6:E$115,3,FALSE)","v":{"$error":"#N/A"}},{"$f":"VLOOKUP(P283,Daten!C$6:L$115,10,FALSE)","v":{"$error":"#N/A"}},{"$f":"VLOOKUP(P283,Daten!C$6:M$115,11,FALSE)","v":{"$error":"#N/A"}},0.05,0.1,0.8,0.85]
[null,null,null,null,null,null,null,null,null,null,null,null,null,null,null,39.799999999999997,{"$f":"Q283+0.2","v":39.800000000000139},{"$f":"ROUND(R279+(R286-R279)/7*5,0)","v":{"$error":"#N/A"}},{"$error":"#N/A"},{"$error":"#N/A"},{"$f":"VLOOKUP(P284,Daten!C$6:E$115,3,FALSE)","v":{"$error":"#N/A"}},{"$f":"VLOOKUP(P284,Daten!C$6:L$115,10,FALSE)","v":{"$error":"#N/A"}},{"$f":"VLOOKUP(P284,Daten!C$6:M$115,11,FALSE)","v":{"$error":"#N/A"}},0.05,0.1,0.8,0.85]
[null,null,null,null,null,null,null,null,null,null,null,null,null,null,null,39.9,{"$f":"Q284+0.1","v":39.900000000000141},{"$f":"ROUND(R279+(R286-R279)/7*6,0)","v":{"$error":"#N/A"}},{"$error":"#N/A"},{"$error":"#N/A"},{"$f":"VLOOKUP(P285,Daten!C$6:E$115,3,FALSE)","v":{"$error":"#N/A"}},{"$f":"VLOOKUP(P285,Daten!C$6:L$115,10,FALSE)","v":{"$error":"#N/A"}},{"$f":"VLOOKUP(P285,Daten!C$6:M$115,11,FALSE)","v":{"$error":"#N/A"}},0.05,0.1,0.8,0.85]
[null,null,null,null,null,null,null,null,null,null,null,null,null,null,null,40,{"$f":"Q285+0.1","v":40.000000000000142},{"$f":"VLOOKUP(Menü!H$24,Sollgewichte!A$4:CD$13,Q286+2,FALSE)","v":{"$error":"#N/A"}},{"$error":"#N/A"},{"$error":"#N/A"},{"$f":"VLOOKUP(P286,Daten!C$6:E$115,3,FALSE)","v":{"$error":"#N/A"}},{"$f":"VLOOKUP(P286,Daten!C$6:L$115,10,FALSE)","v":{"$error":"#N/A"}},{"$f":"VLOOKUP(P286,Daten!C$6:M$115,11,FALSE)","v":{"$error":"#N/A"}},0.05,0.1,0.8,0.85]
[null,null,null,null,null,null,null,null,null,null,null,null,null,null,null,40.200000000000003,{"$f":"Q286+0.2","v":40.200000000000145},{"$f":"ROUND(R286+(R293-R286)/7,0)","v":{"$error":"#N/A"}},{"$error":"#N/A"},{"$error":"#N/A"},{"$f":"VLOOKUP(P287,Daten!C$6:E$115,3,FALSE)","v":{"$error":"#N/A"}},{"$f":"VLOOKUP(P287,Daten!C$6:L$115,10,FALSE)","v":{"$error":"#N/A"}},{"$f":"VLOOKUP(P287,Daten!C$6:M$115,11,FALSE)","v":{"$error":"#N/A"}},0.05,0.1,0.8,0.85]
[null,null,null,null,null,null,null,null,null,null,null,null,null,null,null,40.299999999999997,{"$f":"Q287+0.1","v":40.300000000000146},{"$f":"ROUND(R286+(R293-R286)/7*2,0)","v":{"$error":"#N/A"}},{"$error":"#N/A"},{"$error":"#N/A"},{"$f":"VLOOKUP(P288,Daten!C$6:E$115,3,FALSE)","v":{"$error":"#N/A"}},{"$f":"VLOOKUP(P288,Daten!C$6:L$115,10,FALSE)","v":{"$error":"#N/A"}},{"$f":"VLOOKUP(P288,Daten!C$6:M$115,11,FALSE)","v":{"$error":"#N/A"}},0.05,0.1,0.8,0.85]
[null,null,null,null,null,null,null,null,null,null,null,null,null,null,null,40.5,{"$f":"Q288+0.2","v":40.500000000000149},{"$f":"ROUND(R286+(R293-R286)/7*3,0)","v":{"$error":"#N/A"}},{"$error":"#N/A"},{"$error":"#N/A"},{"$f":"VLOOKUP(P289,Daten!C$6:E$115,3,FALSE)","v":{"$error":"#N/A"}},{"$f":"VLOOKUP(P289,Daten!C$6:L$115,10,FALSE)","v":{"$error":"#N/A"}},{"$f":"VLOOKUP(P289,Daten!C$6:M$115,11,FALSE)","v":{"$error":"#N/A"}},0.05,0.1,0.8,0.85]
[null,null,null,null,null,null,null,null,null,null,null,null,null,null,null,40.6,{"$f":"Q289+0.1","v":40.600000000000151},{"$f":"ROUND(R286+(R293-R286)/7*4,0)","v":{"$error":"#N/A"}},{"$error":"#N/A"},{"$error":"#N/A"},{"$f":"VLOOKUP(P290,Daten!C$6:E$115,3,FALSE)","v":{"$error":"#N/A"}},{"$f":"VLOOKUP(P290,Daten!C$6:L$115,10,FALSE)","v":{"$error":"#N/A"}},{"$f":"VLOOKUP(P290,Daten!C$6:M$115,11,FALSE)","v":{"$error":"#N/A"}},0.05,0.1,0.8,0.85]
[null,null,null,null,null,null,null,null,null,null,null,null,null,null,null,40.799999999999997,{"$f":"Q290+0.2","v":40.800000000000153},{"$f":"ROUND(R286+(R293-R286)/7*5,0)","v":{"$error":"#N/A"}},{"$error":"#N/A"},{"$error":"#N/A"},{"$f":"VLOOKUP(P291,Daten!C$6:E$115,3,FALSE)","v":{"$error":"#N/A"}},{"$f":"VLOOKUP(P291,Daten!C$6:L$115,10,FALSE)","v":{"$error":"#N/A"}},{"$f":"VLOOKUP(P291,Daten!C$6:M$115,11,FALSE)","v":{"$error":"#N/A"}},0.05,0.1,0.8,0.85]
[null,null,null,null,null,null,null,null,null,null,null,null,null,null,null,40.9,{"$f":"Q291+0.1","v":40.900000000000155},{"$f":"ROUND(R286+(R293-R286)/7*6,0)","v":{"$error":"#N/A"}},{"$error":"#N/A"},{"$error":"#N/A"},{"$f":"VLOOKUP(P292,Daten!C$6:E$115,3,FALSE)","v":{"$error":"#N/A"}},{"$f":"VLOOKUP(P292,Daten!C$6:L$115,10,FALSE)","v":{"$error":"#N/A"}},{"$f":"VLOOKUP(P292,Daten!C$6:M$115,11,FALSE)","v":{"$error":"#N/A"}},0.05,0.1,0.8,0.85]
[null,null,null,null,null,null,null,null,null,null,null,null,null,null,null,41,{"$f":"Q292+0.1","v":41.000000000000156},{"$f":"VLOOKUP(Menü!H$24,Sollgewichte!A$4:CD$13,Q293+2,FALSE)","v":{"$error":"#N/A"}},{"$error":"#N/A"},{"$error":"#N/A"},{"$f":"VLOOKUP(P293,Daten!C$6:E$115,3,FALSE)","v":{"$error":"#N/A"}},{"$f":"VLOOKUP(P293,Daten!C$6:L$115,10,FALSE)","v":{"$error":"#N/A"}},{"$f":"VLOOKUP(P293,Daten!C$6:M$115,11,FALSE)","v":{"$error":"#N/A"}},0.05,0.1,0.8,0.85]
[null,null,null,null,null,null,null,null,null,null,null,null,null,null,null,41.2,{"$f":"Q293+0.2","v":41.200000000000159},{"$f":"ROUND(R293+(R300-R293)/7,0)","v":{"$error":"#N/A"}},{"$error":"#N/A"},{"$error":"#N/A"},{"$f":"VLOOKUP(P294,Daten!C$6:E$115,3,FALSE)","v":{"$error":"#N/A"}},{"$f":"VLOOKUP(P294,Daten!C$6:L$115,10,FALSE)","v":{"$error":"#N/A"}},{"$f":"VLOOKUP(P294,Daten!C$6:M$115,11,FALSE)","v":{"$error":"#N/A"}},0.05,0.1,0.8,0.85]
[null,null,null,null,null,null,null,null,null,null,null,null,null,null,null,41.3,{"$f":"Q294+0.1","v":41.300000000000161},{"$f":"ROUND(R293+(R300-R293)/7*2,0)","v":{"$error":"#N/A"}},{"$error":"#N/A"},{"$error":"#N/A"},{"$f":"VLOOKUP(P295,Daten!C$6:E$115,3,FALSE)","v":{"$error":"#N/A"}},{"$f":"VLOOKUP(P295,Daten!C$6:L$115,10,FALSE)","v":{"$error":"#N/A"}},{"$f":"VLOOKUP(P295,Daten!C$6:M$115,11,FALSE)","v":{"$error":"#N/A"}},0.05,0.1,0.8,0.85]
[null,null,null,null,null,null,null,null,null,null,null,null,null,null,null,41.5,{"$f":"Q295+0.2","v":41.500000000000163},{"$f":"ROUND(R293+(R300-R293)/7*3,0)","v":{"$error":"#N/A"}},{"$error":"#N/A"},{"$error":"#N/A"},{"$f":"VLOOKUP(P296,Daten!C$6:E$115,3,FALSE)","v":{"$error":"#N/A"}},{"$f":"VLOOKUP(P296,Daten!C$6:L$115,10,FALSE)","v":{"$error":"#N/A"}},{"$f":"VLOOKUP(P296,Daten!C$6:M$115,11,FALSE)","v":{"$error":"#N/A"}},0.05,0.1,0.8,0.85]
[null,null,null,null,null,null,null,null,null,null,null,null,null,null,null,41.6,{"$f":"Q296+0.1","v":41.600000000000165},{"$f":"ROUND(R293+(R300-R293)/7*4,0)","v":{"$error":"#N/A"}},{"$error":"#N/A"},{"$error":"#N/A"},{"$f":"VLOOKUP(P297,Daten!C$6:E$115,3,FALSE)","v":{"$error":"#N/A"}},{"$f":"VLOOKUP(P297,Daten!C$6:L$115,10,FALSE)","v":{"$error":"#N/A"}},{"$f":"VLOOKUP(P297,Daten!C$6:M$115,11,FALSE)","v":{"$error":"#N/A"}},0.05,0.1,0.8,0.85]
[null,null,null,null,null,null,null,null,null,null,null,null,null,null,null,41.8,{"$f":"Q297+0.2","v":41.800000000000168},{"$f":"ROUND(R293+(R300-R293)/7*5,0)","v":{"$error":"#N/A"}},{"$error":"#N/A"},{"$error":"#N/A"},{"$f":"VLOOKUP(P298,Daten!C$6:E$115,3,FALSE)","v":{"$error":"#N/A"}},{"$f":"VLOOKUP(P298,Daten!C$6:L$115,10,FALSE)","v":{"$error":"#N/A"}},{"$f":"VLOOKUP(P298,Daten!C$6:M$115,11,FALSE)","v":{"$error":"#N/A"}},0.05,0.1,0.8,0.85]
[null,null,null,null,null,null,null,null,null,null,null,null,null,null,null,41.9,{"$f":"Q298+0.1","v":41.900000000000169},{"$f":"ROUND(R293+(R300-R293)/7*6,0)","v":{"$error":"#N/A"}},{"$error":"#N/A"},{"$error":"#N/A"},{"$f":"VLOOKUP(P299,Daten!C$6:E$115,3,FALSE)","v":{"$error":"#N/A"}},{"$f":"VLOOKUP(P299,Daten!C$6:L$115,10,FALSE)","v":{"$error":"#N/A"}},{"$f":"VLOOKUP(P299,Daten!C$6:M$115,11,FALSE)","v":{"$error":"#N/A"}},0.05,0.1,0.8,0.85]
[null,null,null,null,null,null,null,null,null,null,null,null,null,null,null,42,{"$f":"Q299+0.1","v":42.000000000000171},{"$f":"VLOOKUP(Menü!H$24,Sollgewichte!A$4:CD$13,Q300+2,FALSE)","v":{"$error":"#N/A"}},{"$error":"#N/A"},{"$error":"#N/A"},{"$f":"VLOOKUP(P300,Daten!C$6:E$115,3,FALSE)","v":{"$error":"#N/A"}},{"$f":"VLOOKUP(P300,Daten!C$6:L$115,10,FALSE)","v":{"$error":"#N/A"}},{"$f":"VLOOKUP(P300,Daten!C$6:M$115,11,FALSE)","v":{"$error":"#N/A"}},0.05,0.1,0.8,0.85]
[null,null,null,null,null,null,null,null,null,null,null,null,null,null,null,42.2,{"$f":"Q300+0.2","v":42.200000000000173},{"$f":"ROUND(R300+(R307-R300)/7,0)","v":{"$error":"#N/A"}},{"$error":"#N/A"},{"$error":"#N/A"},{"$f":"VLOOKUP(P301,Daten!C$6:E$115,3,FALSE)","v":{"$error":"#N/A"}},{"$f":"VLOOKUP(P301,Daten!C$6:L$115,10,FALSE)","v":{"$error":"#N/A"}},{"$f":"VLOOKUP(P301,Daten!C$6:M$115,11,FALSE)","v":{"$error":"#N/A"}},0.05,0.1,0.8,0.85]
[null,null,null,null,null,null,null,null,null,null,null,null,null,null,null,42.3,{"$f":"Q301+0.1","v":42.300000000000175},{"$f":"ROUND(R300+(R307-R300)/7*2,0)","v":{"$error":"#N/A"}},{"$error":"#N/A"},{"$error":"#N/A"},{"$f":"VLOOKUP(P302,Daten!C$6:E$115,3,FALSE)","v":{"$error":"#N/A"}},{"$f":"VLOOKUP(P302,Daten!C$6:L$115,10,FALSE)","v":{"$error":"#N/A"}},{"$f":"VLOOKUP(P302,Daten!C$6:M$115,11,FALSE)","v":{"$error":"#N/A"}},0.05,0.1,0.8,0.85]
[null,null,null,null,null,null,null,null,null,null,null,null,null,null,null,42.5,{"$f":"Q302+0.2","v":42.500000000000178},{"$f":"ROUND(R300+(R307-R300)/7*3,0)","v":{"$error":"#N/A"}},{"$error":"#N/A"},{"$error":"#N/A"},{"$f":"VLOOKUP(P303,Daten!C$6:E$115,3,FALSE)","v":{"$error":"#N/A"}},{"$f":"VLOOKUP(P303,Daten!C$6:L$115,10,FALSE)","v":{"$error":"#N/A"}},{"$f":"VLOOKUP(P303,Daten!C$6:M$115,11,FALSE)","v":{"$error":"#N/A"}},0.05,0.1,0.8,0.85]
[null,null,null,null,null,null,null,null,null,null,null,null,null,null,null,42.6,{"$f":"Q303+0.1","v":42.600000000000179},{"$f":"ROUND(R300+(R307-R300)/7*4,0)","v":{"$error":"#N/A"}},{"$error":"#N/A"},{"$error":"#N/A"},{"$f":"VLOOKUP(P304,Daten!C$6:E$115,3,FALSE)","v":{"$error":"#N/A"}},{"$f":"VLOOKUP(P304,Daten!C$6:L$115,10,FALSE)","v":{"$error":"#N/A"}},{"$f":"VLOOKUP(P304,Daten!C$6:M$115,11,FALSE)","v":{"$error":"#N/A"}},0.05,0.1,0.8,0.85]
[null,null,null,null,null,null,null,null,null,null,null,null,null,null,null,42.8,{"$f":"Q304+0.2","v":42.800000000000182},{"$f":"ROUND(R300+(R307-R300)/7*5,0)","v":{"$error":"#N/A"}},{"$error":"#N/A"},{"$error":"#N/A"},{"$f":"VLOOKUP(P305,Daten!C$6:E$115,3,FALSE)","v":{"$error":"#N/A"}},{"$f":"VLOOKUP(P305,Daten!C$6:L$115,10,FALSE)","v":{"$error":"#N/A"}},{"$f":"VLOOKUP(P305,Daten!C$6:M$115,11,FALSE)","v":{"$error":"#N/A"}},0.05,0.1,0.8,0.85]
[null,null,null,null,null,null,null,null,null,null,null,null,null,null,null,42.9,{"$f":"Q305+0.1","v":42.900000000000183},{"$f":"ROUND(R300+(R307-R300)/7*6,0)","v":{"$error":"#N/A"}},{"$error":"#N/A"},{"$error":"#N/A"},{"$f":"VLOOKUP(P306,Daten!C$6:E$115,3,FALSE)","v":{"$error":"#N/A"}},{"$f":"VLOOKUP(P306,Daten!C$6:L$115,10,FALSE)","v":{"$error":"#N/A"}},{"$f":"VLOOKUP(P306,Daten!C$6:M$115,11,FALSE)","v":{"$error":"#N/A"}},0.05,0.1,0.8,0.85]
[null,null,null,null,null,null,null,null,null,null,null,null,null,null,null,43,{"$f":"Q306+0.1","v":43.000000000000185},{"$f":"VLOOKUP(Menü!H$24,Sollgewichte!A$4:CD$13,Q307+2,FALSE)","v":{"$error":"#N/A"}},{"$error":"#N/A"},{"$error":"#N/A"},{"$f":"VLOOKUP(P307,Daten!C$6:E$115,3,FALSE)","v":{"$error":"#N/A"}},{"$f":"VLOOKUP(P307,Daten!C$6:L$115,10,FALSE)","v":{"$error":"#N/A"}},{"$f":"VLOOKUP(P307,Daten!C$6:M$115,11,FALSE)","v":{"$error":"#N/A"}},0.05,0.1,0.8,0.85]
[null,null,null,null,null,null,null,null,null,null,null,null,null,null,null,43.2,{"$f":"Q307+0.2","v":43.200000000000188},{"$f":"ROUND(R307+(R314-R307)/7,0)","v":{"$error":"#N/A"}},{"$error":"#N/A"},{"$error":"#N/A"},{"$f":"VLOOKUP(P308,Daten!C$6:E$115,3,FALSE)","v":{"$error":"#N/A"}},{"$f":"VLOOKUP(P308,Daten!C$6:L$115,10,FALSE)","v":{"$error":"#N/A"}},{"$f":"VLOOKUP(P308,Daten!C$6:M$115,11,FALSE)","v":{"$error":"#N/A"}},0.05,0.1,0.8,0.85]
[null,null,null,null,null,null,null,null,null,null,null,null,null,null,null,43.3,{"$f":"Q308+0.1","v":43.300000000000189},{"$f":"ROUND(R307+(R314-R307)/7*2,0)","v":{"$error":"#N/A"}},{"$error":"#N/A"},{"$error":"#N/A"},{"$f":"VLOOKUP(P309,Daten!C$6:E$115,3,FALSE)","v":{"$error":"#N/A"}},{"$f":"VLOOKUP(P309,Daten!C$6:L$115,10,FALSE)","v":{"$error":"#N/A"}},{"$f":"VLOOKUP(P309,Daten!C$6:M$115,11,FALSE)","v":{"$error":"#N/A"}},0.05,0.1,0.8,0.85]
[null,null,null,null,null,null,null,null,null,null,null,null,null,null,null,43.5,{"$f":"Q309+0.2","v":43.500000000000192},{"$f":"ROUND(R307+(R314-R307)/7*3,0)","v":{"$error":"#N/A"}},{"$error":"#N/A"},{"$error":"#N/A"},{"$f":"VLOOKUP(P310,Daten!C$6:E$115,3,FALSE)","v":{"$error":"#N/A"}},{"$f":"VLOOKUP(P310,Daten!C$6:L$115,10,FALSE)","v":{"$error":"#N/A"}},{"$f":"VLOOKUP(P310,Daten!C$6:M$115,11,FALSE)","v":{"$error":"#N/A"}},0.05,0.1,0.8,0.85]
[null,null,null,null,null,null,null,null,null,null,null,null,null,null,null,43.6,{"$f":"Q310+0.1","v":43.600000000000193},{"$f":"ROUND(R307+(R314-R307)/7*4,0)","v":{"$error":"#N/A"}},{"$error":"#N/A"},{"$error":"#N/A"},{"$f":"VLOOKUP(P311,Daten!C$6:E$115,3,FALSE)","v":{"$error":"#N/A"}},{"$f":"VLOOKUP(P311,Daten!C$6:L$115,10,FALSE)","v":{"$error":"#N/A"}},{"$f":"VLOOKUP(P311,Daten!C$6:M$115,11,FALSE)","v":{"$error":"#N/A"}},0.05,0.1,0.8,0.85]
[null,null,null,null,null,null,null,null,null,null,null,null,null,null,null,43.8,{"$f":"Q311+0.2","v":43.800000000000196},{"$f":"ROUND(R307+(R314-R307)/7*5,0)","v":{"$error":"#N/A"}},{"$error":"#N/A"},{"$error":"#N/A"},{"$f":"VLOOKUP(P312,Daten!C$6:E$115,3,FALSE)","v":{"$error":"#N/A"}},{"$f":"VLOOKUP(P312,Daten!C$6:L$115,10,FALSE)","v":{"$error":"#N/A"}},{"$f":"VLOOKUP(P312,Daten!C$6:M$115,11,FALSE)","v":{"$error":"#N/A"}},0.05,0.1,0.8,0.85]
[null,null,null,null,null,null,null,null,null,null,null,null,null,null,null,43.9,{"$f":"Q312+0.1","v":43.900000000000198},{"$f":"ROUND(R307+(R314-R307)/7*6,0)","v":{"$error":"#N/A"}},{"$error":"#N/A"},{"$error":"#N/A"},{"$f":"VLOOKUP(P313,Daten!C$6:E$115,3,FALSE)","v":{"$error":"#N/A"}},{"$f":"VLOOKUP(P313,Daten!C$6:L$115,10,FALSE)","v":{"$error":"#N/A"}},{"$f":"VLOOKUP(P313,Daten!C$6:M$115,11,FALSE)","v":{"$error":"#N/A"}},0.05,0.1,0.8,0.85]
[null,null,null,null,null,null,null,null,null,null,null,null,null,null,null,44,{"$f":"Q313+0.1","v":44.000000000000199},{"$f":"VLOOKUP(Menü!H$24,Sollgewichte!A$4:CD$13,Q314+2,FALSE)","v":{"$error":"#N/A"}},{"$error":"#N/A"},{"$error":"#N/A"},{"$f":"VLOOKUP(P314,Daten!C$6:E$115,3,FALSE)","v":{"$error":"#N/A"}},{"$f":"VLOOKUP(P314,Daten!C$6:L$115,10,FALSE)","v":{"$error":"#N/A"}},{"$f":"VLOOKUP(P314,Daten!C$6:M$115,11,FALSE)","v":{"$error":"#N/A"}},0.05,0.1,0.8,0.85]
[null,null,null,null,null,null,null,null,null,null,null,null,null,null,null,44.2,{"$f":"Q314+0.2","v":44.200000000000202},{"$f":"ROUND(R314+(R321-R314)/7,0)","v":{"$error":"#N/A"}},{"$error":"#N/A"},{"$error":"#N/A"},{"$f":"VLOOKUP(P315,Daten!C$6:E$115,3,FALSE)","v":{"$error":"#N/A"}},{"$f":"VLOOKUP(P315,Daten!C$6:L$115,10,FALSE)","v":{"$error":"#N/A"}},{"$f":"VLOOKUP(P315,Daten!C$6:M$115,11,FALSE)","v":{"$error":"#N/A"}},0.05,0.1,0.8,0.85]
[null,null,null,null,null,null,null,null,null,null,null,null,null,null,null,44.3,{"$f":"Q315+0.1","v":44.300000000000203},{"$f":"ROUND(R314+(R321-R314)/7*2,0)","v":{"$error":"#N/A"}},{"$error":"#N/A"},{"$error":"#N/A"},{"$f":"VLOOKUP(P316,Daten!C$6:E$115,3,FALSE)","v":{"$error":"#N/A"}},{"$f":"VLOOKUP(P316,Daten!C$6:L$115,10,FALSE)","v":{"$error":"#N/A"}},{"$f":"VLOOKUP(P316,Daten!C$6:M$115,11,FALSE)","v":{"$error":"#N/A"}},0.05,0.1,0.8,0.85]
[null,null,null,null,null,null,null,null,null,null,null,null,null,null,null,44.5,{"$f":"Q316+0.2","v":44.500000000000206},{"$f":"ROUND(R314+(R321-R314)/7*3,0)","v":{"$error":"#N/A"}},{"$error":"#N/A"},{"$error":"#N/A"},{"$f":"VLOOKUP(P317,Daten!C$6:E$115,3,FALSE)","v":{"$error":"#N/A"}},{"$f":"VLOOKUP(P317,Daten!C$6:L$115,10,FALSE)","v":{"$error":"#N/A"}},{"$f":"VLOOKUP(P317,Daten!C$6:M$115,11,FALSE)","v":{"$error":"#N/A"}},0.05,0.1,0.8,0.85]
[null,null,null,null,null,null,null,null,null,null,null,null,null,null,null,44.6,{"$f":"Q317+0.1","v":44.600000000000207},{"$f":"ROUND(R314+(R321-R314)/7*4,0)","v":{"$error":"#N/A"}},{"$error":"#N/A"},{"$error":"#N/A"},{"$f":"VLOOKUP(P318,Daten!C$6:E$115,3,FALSE)","v":{"$error":"#N/A"}},{"$f":"VLOOKUP(P318,Daten!C$6:L$115,10,FALSE)","v":{"$error":"#N/A"}},{"$f":"VLOOKUP(P318,Daten!C$6:M$115,11,FALSE)","v":{"$error":"#N/A"}},0.05,0.1,0.8,0.85]
[null,null,null,null,null,null,null,null,null,null,null,null,null,null,null,44.8,{"$f":"Q318+0.2","v":44.80000000000021},{"$f":"ROUND(R314+(R321-R314)/7*5,0)","v":{"$error":"#N/A"}},{"$error":"#N/A"},{"$error":"#N/A"},{"$f":"VLOOKUP(P319,Daten!C$6:E$115,3,FALSE)","v":{"$error":"#N/A"}},{"$f":"VLOOKUP(P319,Daten!C$6:L$115,10,FALSE)","v":{"$error":"#N/A"}},{"$f":"VLOOKUP(P319,Daten!C$6:M$115,11,FALSE)","v":{"$error":"#N/A"}},0.05,0.1,0.8,0.85]
[null,null,null,null,null,null,null,null,null,null,null,null,null,null,null,44.9,{"$f":"Q319+0.1","v":44.900000000000212},{"$f":"ROUND(R314+(R321-R314)/7*6,0)","v":{"$error":"#N/A"}},{"$error":"#N/A"},{"$error":"#N/A"},{"$f":"VLOOKUP(P320,Daten!C$6:E$115,3,FALSE)","v":{"$error":"#N/A"}},{"$f":"VLOOKUP(P320,Daten!C$6:L$115,10,FALSE)","v":{"$error":"#N/A"}},{"$f":"VLOOKUP(P320,Daten!C$6:M$115,11,FALSE)","v":{"$error":"#N/A"}},0.05,0.1,0.8,0.85]
[null,null,null,null,null,null,null,null,null,null,null,null,null,null,null,45,{"$f":"Q320+0.1","v":45.000000000000213},{"$f":"VLOOKUP(Menü!H$24,Sollgewichte!A$4:CD$13,Q321+2,FALSE)","v":{"$error":"#N/A"}},{"$error":"#N/A"},{"$error":"#N/A"},{"$f":"VLOOKUP(P321,Daten!C$6:E$115,3,FALSE)","v":{"$error":"#N/A"}},{"$f":"VLOOKUP(P321,Daten!C$6:L$115,10,FALSE)","v":{"$error":"#N/A"}},{"$f":"VLOOKUP(P321,Daten!C$6:M$115,11,FALSE)","v":{"$error":"#N/A"}},0.05,0.1,0.8,0.85]
[null,null,null,null,null,null,null,null,null,null,null,null,null,null,null,45.2,{"$f":"Q321+0.2","v":45.200000000000216},{"$f":"ROUND(R321+(R328-R321)/7,0)","v":{"$error":"#N/A"}},{"$error":"#N/A"},{"$error":"#N/A"},{"$f":"VLOOKUP(P322,Daten!C$6:E$115,3,FALSE)","v":{"$error":"#N/A"}},{"$f":"VLOOKUP(P322,Daten!C$6:L$115,10,FALSE)","v":{"$error":"#N/A"}},{"$f":"VLOOKUP(P322,Daten!C$6:M$115,11,FALSE)","v":{"$error":"#N/A"}},0.05,0.1,0.8,0.85]
[null,null,null,null,null,null,null,null,null,null,null,null,null,null,null,45.3,{"$f":"Q322+0.1","v":45.300000000000217},{"$f":"ROUND(R321+(R328-R321)/7*2,0)","v":{"$error":"#N/A"}},{"$error":"#N/A"},{"$error":"#N/A"},{"$f":"VLOOKUP(P323,Daten!C$6:E$115,3,FALSE)","v":{"$error":"#N/A"}},{"$f":"VLOOKUP(P323,Daten!C$6:L$115,10,FALSE)","v":{"$error":"#N/A"}},{"$f":"VLOOKUP(P323,Daten!C$6:M$115,11,FALSE)","v":{"$error":"#N/A"}},0.05,0.1,0.8,0.85]
[null,null,null,null,null,null,null,null,null,null,null,null,null,null,null,45.5,{"$f":"Q323+0.2","v":45.50000000000022},{"$f":"ROUND(R321+(R328-R321)/7*3,0)","v":{"$error":"#N/A"}},{"$error":"#N/A"},{"$error":"#N/A"},{"$f":"VLOOKUP(P324,Daten!C$6:E$115,3,FALSE)","v":{"$error":"#N/A"}},{"$f":"VLOOKUP(P324,Daten!C$6:L$115,10,FALSE)","v":{"$error":"#N/A"}},{"$f":"VLOOKUP(P324,Daten!C$6:M$115,11,FALSE)","v":{"$error":"#N/A"}},0.05,0.1,0.8,0.85]
[null,null,null,null,null,null,null,null,null,null,null,null,null,null,null,45.6,{"$f":"Q324+0.1","v":45.600000000000222},{"$f":"ROUND(R321+(R328-R321)/7*4,0)","v":{"$error":"#N/A"}},{"$error":"#N/A"},{"$error":"#N/A"},{"$f":"VLOOKUP(P325,Daten!C$6:E$115,3,FALSE)","v":{"$error":"#N/A"}},{"$f":"VLOOKUP(P325,Daten!C$6:L$115,10,FALSE)","v":{"$error":"#N/A"}},{"$f":"VLOOKUP(P325,Daten!C$6:M$115,11,FALSE)","v":{"$error":"#N/A"}},0.05,0.1,0.8,0.85]
[null,null,null,null,null,null,null,null,null,null,null,null,null,null,null,45.8,{"$f":"Q325+0.2","v":45.800000000000225},{"$f":"ROUND(R321+(R328-R321)/7*5,0)","v":{"$error":"#N/A"}},{"$error":"#N/A"},{"$error":"#N/A"},{"$f":"VLOOKUP(P326,Daten!C$6:E$115,3,FALSE)","v":{"$error":"#N/A"}},{"$f":"VLOOKUP(P326,Daten!C$6:L$115,10,FALSE)","v":{"$error":"#N/A"}},{"$f":"VLOOKUP(P326,Daten!C$6:M$115,11,FALSE)","v":{"$error":"#N/A"}},0.05,0.1,0.8,0.85]
[null,null,null,null,null,null,null,null,null,null,null,null,null,null,null,{"$f":"ROUND(Q327,1)","v":45.9},{"$f":"Q326+0.1","v":45.900000000000226},{"$f":"ROUND(R321+(R328-R321)/7*6,0)","v":{"$error":"#N/A"}},{"$f":"R327*0.95","v":{"$error":"#N/A"}},{"$f":"R327","v":{"$error":"#N/A"}},{"$f":"VLOOKUP(P327,Daten!C$6:E$115,3,FALSE)","v":{"$error":"#N/A"}},{"$f":"VLOOKUP(P327,Daten!C$6:L$115,10,FALSE)","v":{"$error":"#N/A"}},{"$f":"VLOOKUP(P327,Daten!C$6:M$115,11,FALSE)","v":{"$error":"#N/A"}},0.05,0.1,0.8,0.85]
[null,null,null,null,null,null,null,null,null,null,null,null,null,null,null,46,{"$f":"Q327+0.1","v":46.000000000000227},{"$f":"VLOOKUP(Menü!H$24,Sollgewichte!A$4:CD$13,Q328+2,FALSE)","v":{"$error":"#N/A"}},{"$error":"#N/A"},{"$error":"#N/A"},{"$f":"VLOOKUP(P328,Daten!C$6:E$115,3,FALSE)","v":{"$error":"#N/A"}},{"$f":"VLOOKUP(P328,Daten!C$6:L$115,10,FALSE)","v":{"$error":"#N/A"}},{"$f":"VLOOKUP(P328,Daten!C$6:M$115,11,FALSE)","v":{"$error":"#N/A"}},0.05,0.1,0.8,0.85]
[null,null,null,null,null,null,null,null,null,null,null,null,null,null,null,46.2,{"$f":"Q328+0.2","v":46.20000000000023},{"$f":"ROUND(R328+(R335-R328)/7,0)","v":{"$error":"#N/A"}},{"$error":"#N/A"},{"$error":"#N/A"},{"$f":"VLOOKUP(P329,Daten!C$6:E$115,3,FALSE)","v":{"$error":"#N/A"}},{"$f":"VLOOKUP(P329,Daten!C$6:L$115,10,FALSE)","v":{"$error":"#N/A"}},{"$f":"VLOOKUP(P329,Daten!C$6:M$115,11,FALSE)","v":{"$error":"#N/A"}},0.05,0.1,0.8,0.85]
[null,null,null,null,null,null,null,null,null,null,null,null,null,null,null,46.3,{"$f":"Q329+0.1","v":46.300000000000232},{"$f":"ROUND(R328+(R335-R328)/7*2,0)","v":{"$error":"#N/A"}},{"$error":"#N/A"},{"$error":"#N/A"},{"$f":"VLOOKUP(P330,Daten!C$6:E$115,3,FALSE)","v":{"$error":"#N/A"}},{"$f":"VLOOKUP(P330,Daten!C$6:L$115,10,FALSE)","v":{"$error":"#N/A"}},{"$f":"VLOOKUP(P330,Daten!C$6:M$115,11,FALSE)","v":{"$error":"#N/A"}},0.05,0.1,0.8,0.85]
[null,null,null,null,null,null,null,null,null,null,null,null,null,null,null,46.5,{"$f":"Q330+0.2","v":46.500000000000234},{"$f":"ROUND(R328+(R335-R328)/7*3,0)","v":{"$error":"#N/A"}},{"$error":"#N/A"},{"$error":"#N/A"},{"$f":"VLOOKUP(P331,Daten!C$6:E$115,3,FALSE)","v":{"$error":"#N/A"}},{"$f":"VLOOKUP(P331,Daten!C$6:L$115,10,FALSE)","v":{"$error":"#N/A"}},{"$f":"VLOOKUP(P331,Daten!C$6:M$115,11,FALSE)","v":{"$error":"#N/A"}},0.05,0.1,0.8,0.85]
[null,null,null,null,null,null,null,null,null,null,null,null,null,null,null,46.6,{"$f":"Q331+0.1","v":46.600000000000236},{"$f":"ROUND(R328+(R335-R328)/7*4,0)","v":{"$error":"#N/A"}},{"$error":"#N/A"},{"$error":"#N/A"},{"$f":"VLOOKUP(P332,Daten!C$6:E$115,3,FALSE)","v":{"$error":"#N/A"}},{"$f":"VLOOKUP(P332,Daten!C$6:L$115,10,FALSE)","v":{"$error":"#N/A"}},{"$f":"VLOOKUP(P332,Daten!C$6:M$115,11,FALSE)","v":{"$error":"#N/A"}},0.05,0.1,0.8,0.85]
[null,null,null,null,null,null,null,null,null,null,null,null,null,null,null,46.8,{"$f":"Q332+0.2","v":46.800000000000239},{"$f":"ROUND(R328+(R335-R328)/7*5,0)","v":{"$error":"#N/A"}},{"$error":"#N/A"},{"$error":"#N/A"},{"$f":"VLOOKUP(P333,Daten!C$6:E$115,3,FALSE)","v":{"$error":"#N/A"}},{"$f":"VLOOKUP(P333,Daten!C$6:L$115,10,FALSE)","v":{"$error":"#N/A"}},{"$f":"VLOOKUP(P333,Daten!C$6:M$115,11,FALSE)","v":{"$error":"#N/A"}},0.05,0.1,0.8,0.85]
[null,null,null,null,null,null,null,null,null,null,null,null,null,null,null,46.9,{"$f":"Q333+0.1","v":46.90000000000024},{"$f":"ROUND(R328+(R335-R328)/7*6,0)","v":{"$error":"#N/A"}},{"$error":"#N/A"},{"$error":"#N/A"},{"$f":"VLOOKUP(P334,Daten!C$6:E$115,3,FALSE)","v":{"$error":"#N/A"}},{"$f":"VLOOKUP(P334,Daten!C$6:L$115,10,FALSE)","v":{"$error":"#N/A"}},{"$f":"VLOOKUP(P334,Daten!C$6:M$115,11,FALSE)","v":{"$error":"#N/A"}},0.05,0.1,0.8,0.85]
[null,null,null,null,null,null,null,null,null,null,null,null,null,null,null,47,{"$f":"Q334+0.1","v":47.000000000000242},{"$f":"VLOOKUP(Menü!H$24,Sollgewichte!A$4:CD$13,Q335+2,FALSE)","v":{"$error":"#N/A"}},{"$error":"#N/A"},{"$error":"#N/A"},{"$f":"VLOOKUP(P335,Daten!C$6:E$115,3,FALSE)","v":{"$error":"#N/A"}},{"$f":"VLOOKUP(P335,Daten!C$6:L$115,10,FALSE)","v":{"$error":"#N/A"}},{"$f":"VLOOKUP(P335,Daten!C$6:M$115,11,FALSE)","v":{"$error":"#N/A"}},0.05,0.1,0.8,0.85]
[null,null,null,null,null,null,null,null,null,null,null,null,null,null,null,47.2,{"$f":"Q335+0.2","v":47.200000000000244},{"$f":"ROUND(R335+(R342-R335)/7,0)","v":{"$error":"#N/A"}},{"$error":"#N/A"},{"$error":"#N/A"},{"$f":"VLOOKUP(P336,Daten!C$6:E$115,3,FALSE)","v":{"$error":"#N/A"}},{"$f":"VLOOKUP(P336,Daten!C$6:L$115,10,FALSE)","v":{"$error":"#N/A"}},{"$f":"VLOOKUP(P336,Daten!C$6:M$115,11,FALSE)","v":{"$error":"#N/A"}},0.05,0.1,0.8,0.85]
[null,null,null,null,null,null,null,null,null,null,null,null,null,null,null,47.3,{"$f":"Q336+0.1","v":47.300000000000246},{"$f":"ROUND(R335+(R342-R335)/7*2,0)","v":{"$error":"#N/A"}},{"$error":"#N/A"},{"$error":"#N/A"},{"$f":"VLOOKUP(P337,Daten!C$6:E$115,3,FALSE)","v":{"$error":"#N/A"}},{"$f":"VLOOKUP(P337,Daten!C$6:L$115,10,FALSE)","v":{"$error":"#N/A"}},{"$f":"VLOOKUP(P337,Daten!C$6:M$115,11,FALSE)","v":{"$error":"#N/A"}},0.05,0.1,0.8,0.85]
[null,null,null,null,null,null,null,null,null,null,null,null,null,null,null,47.5,{"$f":"Q337+0.2","v":47.500000000000249},{"$f":"ROUND(R335+(R342-R335)/7*3,0)","v":{"$error":"#N/A"}},{"$error":"#N/A"},{"$error":"#N/A"},{"$f":"VLOOKUP(P338,Daten!C$6:E$115,3,FALSE)","v":{"$error":"#N/A"}},{"$f":"VLOOKUP(P338,Daten!C$6:L$115,10,FALSE)","v":{"$error":"#N/A"}},{"$f":"VLOOKUP(P338,Daten!C$6:M$115,11,FALSE)","v":{"$error":"#N/A"}},0.05,0.1,0.8,0.85]
[null,null,null,null,null,null,null,null,null,null,null,null,null,null,null,47.6,{"$f":"Q338+0.1","v":47.60000000000025},{"$f":"ROUND(R335+(R342-R335)/7*4,0)","v":{"$error":"#N/A"}},{"$error":"#N/A"},{"$error":"#N/A"},{"$f":"VLOOKUP(P339,Daten!C$6:E$115,3,FALSE)","v":{"$error":"#N/A"}},{"$f":"VLOOKUP(P339,Daten!C$6:L$115,10,FALSE)","v":{"$error":"#N/A"}},{"$f":"VLOOKUP(P339,Daten!C$6:M$115,11,FALSE)","v":{"$error":"#N/A"}},0.05,0.1,0.8,0.85]
[null,null,null,null,null,null,null,null,null,null,null,null,null,null,null,47.8,{"$f":"Q339+0.2","v":47.800000000000253},{"$f":"ROUND(R335+(R342-R335)/7*5,0)","v":{"$error":"#N/A"}},{"$error":"#N/A"},{"$error":"#N/A"},{"$f":"VLOOKUP(P340,Daten!C$6:E$115,3,FALSE)","v":{"$error":"#N/A"}},{"$f":"VLOOKUP(P340,Daten!C$6:L$115,10,FALSE)","v":{"$error":"#N/A"}},{"$f":"VLOOKUP(P340,Daten!C$6:M$115,11,FALSE)","v":{"$error":"#N/A"}},0.05,0.1,0.8,0.85]
[null,null,null,null,null,null,null,null,null,null,null,null,null,null,null,47.9,{"$f":"Q340+0.1","v":47.900000000000254},{"$f":"ROUND(R335+(R342-R335)/7*6,0)","v":{"$error":"#N/A"}},{"$error":"#N/A"},{"$error":"#N/A"},{"$f":"VLOOKUP(P341,Daten!C$6:E$115,3,FALSE)","v":{"$error":"#N/A"}},{"$f":"VLOOKUP(P341,Daten!C$6:L$115,10,FALSE)","v":{"$error":"#N/A"}},{"$f":"VLOOKUP(P341,Daten!C$6:M$115,11,FALSE)","v":{"$error":"#N/A"}},0.05,0.1,0.8,0.85]
[null,null,null,null,null,null,null,null,null,null,null,null,null,null,null,48,{"$f":"Q341+0.1","v":48.000000000000256},{"$f":"VLOOKUP(Menü!H$24,Sollgewichte!A$4:CD$13,Q342+2,FALSE)","v":{"$error":"#N/A"}},{"$error":"#N/A"},{"$error":"#N/A"},{"$f":"VLOOKUP(P342,Daten!C$6:E$115,3,FALSE)","v":{"$error":"#N/A"}},{"$f":"VLOOKUP(P342,Daten!C$6:L$115,10,FALSE)","v":{"$error":"#N/A"}},{"$f":"VLOOKUP(P342,Daten!C$6:M$115,11,FALSE)","v":{"$error":"#N/A"}},0.05,0.1,0.8,0.85]
[null,null,null,null,null,null,null,null,null,null,null,null,null,null,null,48.2,{"$f":"Q342+0.2","v":48.200000000000259},{"$f":"ROUND(R342+(R349-R342)/7,0)","v":{"$error":"#N/A"}},{"$error":"#N/A"},{"$error":"#N/A"},{"$f":"VLOOKUP(P343,Daten!C$6:E$115,3,FALSE)","v":{"$error":"#N/A"}},{"$f":"VLOOKUP(P343,Daten!C$6:L$115,10,FALSE)","v":{"$error":"#N/A"}},{"$f":"VLOOKUP(P343,Daten!C$6:M$115,11,FALSE)","v":{"$error":"#N/A"}},0.05,0.1,0.8,0.85]
[null,null,null,null,null,null,null,null,null,null,null,null,null,null,null,48.3,{"$f":"Q343+0.1","v":48.30000000000026},{"$f":"ROUND(R342+(R349-R342)/7*2,0)","v":{"$error":"#N/A"}},{"$error":"#N/A"},{"$error":"#N/A"},{"$f":"VLOOKUP(P344,Daten!C$6:E$115,3,FALSE)","v":{"$error":"#N/A"}},{"$f":"VLOOKUP(P344,Daten!C$6:L$115,10,FALSE)","v":{"$error":"#N/A"}},{"$f":"VLOOKUP(P344,Daten!C$6:M$115,11,FALSE)","v":{"$error":"#N/A"}},0.05,0.1,0.8,0.85]
[null,null,null,null,null,null,null,null,null,null,null,null,null,null,null,48.5,{"$f":"Q344+0.2","v":48.500000000000263},{"$f":"ROUND(R342+(R349-R342)/7*3,0)","v":{"$error":"#N/A"}},{"$error":"#N/A"},{"$error":"#N/A"},{"$f":"VLOOKUP(P345,Daten!C$6:E$115,3,FALSE)","v":{"$error":"#N/A"}},{"$f":"VLOOKUP(P345,Daten!C$6:L$115,10,FALSE)","v":{"$error":"#N/A"}},{"$f":"VLOOKUP(P345,Daten!C$6:M$115,11,FALSE)","v":{"$error":"#N/A"}},0.05,0.1,0.8,0.85]
[null,null,null,null,null,null,null,null,null,null,null,null,null,null,null,48.6,{"$f":"Q345+0.1","v":48.600000000000264},{"$f":"ROUND(R342+(R349-R342)/7*4,0)","v":{"$error":"#N/A"}},{"$error":"#N/A"},{"$error":"#N/A"},{"$f":"VLOOKUP(P346,Daten!C$6:E$115,3,FALSE)","v":{"$error":"#N/A"}},{"$f":"VLOOKUP(P346,Daten!C$6:L$115,10,FALSE)","v":{"$error":"#N/A"}},{"$f":"VLOOKUP(P346,Daten!C$6:M$115,11,FALSE)","v":{"$error":"#N/A"}},0.05,0.1,0.8,0.85]
[null,null,null,null,null,null,null,null,null,null,null,null,null,null,null,48.8,{"$f":"Q346+0.2","v":48.800000000000267},{"$f":"ROUND(R342+(R349-R342)/7*5,0)","v":{"$error":"#N/A"}},{"$error":"#N/A"},{"$error":"#N/A"},{"$f":"VLOOKUP(P347,Daten!C$6:E$115,3,FALSE)","v":{"$error":"#N/A"}},{"$f":"VLOOKUP(P347,Daten!C$6:L$115,10,FALSE)","v":{"$error":"#N/A"}},{"$f":"VLOOKUP(P347,Daten!C$6:M$115,11,FALSE)","v":{"$error":"#N/A"}},0.05,0.1,0.8,0.85]
[null,null,null,null,null,null,null,null,null,null,null,null,null,null,null,48.9,{"$f":"Q347+0.1","v":48.900000000000269},{"$f":"ROUND(R342+(R349-R342)/7*6,0)","v":{"$error":"#N/A"}},{"$error":"#N/A"},{"$error":"#N/A"},{"$f":"VLOOKUP(P348,Daten!C$6:E$115,3,FALSE)","v":{"$error":"#N/A"}},{"$f":"VLOOKUP(P348,Daten!C$6:L$115,10,FALSE)","v":{"$error":"#N/A"}},{"$f":"VLOOKUP(P348,Daten!C$6:M$115,11,FALSE)","v":{"$error":"#N/A"}},0.05,0.1,0.8,0.85]
[null,null,null,null,null,null,null,null,null,null,null,null,null,null,null,49,{"$f":"Q348+0.1","v":49.00000000000027},{"$f":"VLOOKUP(Menü!H$24,Sollgewichte!A$4:CD$13,Q349+2,FALSE)","v":{"$error":"#N/A"}},{"$error":"#N/A"},{"$error":"#N/A"},{"$f":"VLOOKUP(P349,Daten!C$6:E$115,3,FALSE)","v":{"$error":"#N/A"}},{"$f":"VLOOKUP(P349,Daten!C$6:L$115,10,FALSE)","v":{"$error":"#N/A"}},{"$f":"VLOOKUP(P349,Daten!C$6:M$115,11,FALSE)","v":{"$error":"#N/A"}},0.05,0.1,0.8,0.85]
[null,null,null,null,null,null,null,null,null,null,null,null,null,null,null,49.2,{"$f":"Q349+0.2","v":49.200000000000273},{"$f":"ROUND(R349+(R356-R349)/7,0)","v":{"$error":"#N/A"}},{"$error":"#N/A"},{"$error":"#N/A"},{"$f":"VLOOKUP(P350,Daten!C$6:E$115,3,FALSE)","v":{"$error":"#N/A"}},{"$f":"VLOOKUP(P350,Daten!C$6:L$115,10,FALSE)","v":{"$error":"#N/A"}},{"$f":"VLOOKUP(P350,Daten!C$6:M$115,11,FALSE)","v":{"$error":"#N/A"}},0.05,0.1,0.8,0.85]
[null,null,null,null,null,null,null,null,null,null,null,null,null,null,null,49.3,{"$f":"Q350+0.1","v":49.300000000000274},{"$f":"ROUND(R349+(R356-R349)/7*2,0)","v":{"$error":"#N/A"}},{"$error":"#N/A"},{"$error":"#N/A"},{"$f":"VLOOKUP(P351,Daten!C$6:E$115,3,FALSE)","v":{"$error":"#N/A"}},{"$f":"VLOOKUP(P351,Daten!C$6:L$115,10,FALSE)","v":{"$error":"#N/A"}},{"$f":"VLOOKUP(P351,Daten!C$6:M$115,11,FALSE)","v":{"$error":"#N/A"}},0.05,0.1,0.8,0.85]
[null,null,null,null,null,null,null,null,null,null,null,null,null,null,null,49.5,{"$f":"Q351+0.2","v":49.500000000000277},{"$f":"ROUND(R349+(R356-R349)/7*3,0)","v":{"$error":"#N/A"}},{"$error":"#N/A"},{"$error":"#N/A"},{"$f":"VLOOKUP(P352,Daten!C$6:E$115,3,FALSE)","v":{"$error":"#N/A"}},{"$f":"VLOOKUP(P352,Daten!C$6:L$115,10,FALSE)","v":{"$error":"#N/A"}},{"$f":"VLOOKUP(P352,Daten!C$6:M$115,11,FALSE)","v":{"$error":"#N/A"}},0.05,0.1,0.8,0.85]
[null,null,null,null,null,null,null,null,null,null,null,null,null,null,null,49.6,{"$f":"Q352+0.1","v":49.600000000000279},{"$f":"ROUND(R349+(R356-R349)/7*4,0)","v":{"$error":"#N/A"}},{"$error":"#N/A"},{"$error":"#N/A"},{"$f":"VLOOKUP(P353,Daten!C$6:E$115,3,FALSE)","v":{"$error":"#N/A"}},{"$f":"VLOOKUP(P353,Daten!C$6:L$115,10,FALSE)","v":{"$error":"#N/A"}},{"$f":"VLOOKUP(P353,Daten!C$6:M$115,11,FALSE)","v":{"$error":"#N/A"}},0.05,0.1,0.8,0.85]
[null,null,null,null,null,null,null,null,null,null,null,null,null,null,null,49.8,{"$f":"Q353+0.2","v":49.800000000000281},{"$f":"ROUND(R349+(R356-R349)/7*5,0)","v":{"$error":"#N/A"}},{"$error":"#N/A"},{"$error":"#N/A"},{"$f":"VLOOKUP(P354,Daten!C$6:E$115,3,FALSE)","v":{"$error":"#N/A"}},{"$f":"VLOOKUP(P354,Daten!C$6:L$115,10,FALSE)","v":{"$error":"#N/A"}},{"$f":"VLOOKUP(P354,Daten!C$6:M$115,11,FALSE)","v":{"$error":"#N/A"}},0.05,0.1,0.8,0.85]
[null,null,null,null,null,null,null,null,null,null,null,null,null,null,null,49.9,{"$f":"Q354+0.1","v":49.900000000000283},{"$f":"ROUND(R349+(R356-R349)/7*6,0)","v":{"$error":"#N/A"}},{"$error":"#N/A"},{"$error":"#N/A"},{"$f":"VLOOKUP(P355,Daten!C$6:E$115,3,FALSE)","v":{"$error":"#N/A"}},{"$f":"VLOOKUP(P355,Daten!C$6:L$115,10,FALSE)","v":{"$error":"#N/A"}},{"$f":"VLOOKUP(P355,Daten!C$6:M$115,11,FALSE)","v":{"$error":"#N/A"}},0.05,0.1,0.8,0.85]
[null,null,null,null,null,null,null,null,null,null,null,null,null,null,null,50,{"$f":"Q355+0.1","v":50.000000000000284},{"$f":"VLOOKUP(Menü!H$24,Sollgewichte!A$4:CD$13,Q356+2,FALSE)","v":{"$error":"#N/A"}},{"$error":"#N/A"},{"$error":"#N/A"},{"$f":"VLOOKUP(P356,Daten!C$6:E$115,3,FALSE)","v":{"$error":"#N/A"}},{"$f":"VLOOKUP(P356,Daten!C$6:L$115,10,FALSE)","v":{"$error":"#N/A"}},{"$f":"VLOOKUP(P356,Daten!C$6:M$115,11,FALSE)","v":{"$error":"#N/A"}},0.05,0.1,0.8,0.85]
[null,null,null,null,null,null,null,null,null,null,null,null,null,null,null,50.2,{"$f":"Q356+0.2","v":50.200000000000287},{"$f":"ROUND(R356+(R363-R356)/7,0)","v":{"$error":"#N/A"}},{"$error":"#N/A"},{"$error":"#N/A"},{"$f":"VLOOKUP(P357,Daten!C$6:E$115,3,FALSE)","v":{"$error":"#N/A"}},{"$f":"VLOOKUP(P357,Daten!C$6:L$115,10,FALSE)","v":{"$error":"#N/A"}},{"$f":"VLOOKUP(P357,Daten!C$6:M$115,11,FALSE)","v":{"$error":"#N/A"}},0.05,0.1,0.8,0.85]
[null,null,null,null,null,null,null,null,null,null,null,null,null,null,null,50.3,{"$f":"Q357+0.1","v":50.300000000000288},{"$f":"ROUND(R356+(R363-R356)/7*2,0)","v":{"$error":"#N/A"}},{"$error":"#N/A"},{"$error":"#N/A"},{"$f":"VLOOKUP(P358,Daten!C$6:E$115,3,FALSE)","v":{"$error":"#N/A"}},{"$f":"VLOOKUP(P358,Daten!C$6:L$115,10,FALSE)","v":{"$error":"#N/A"}},{"$f":"VLOOKUP(P358,Daten!C$6:M$115,11,FALSE)","v":{"$error":"#N/A"}},0.05,0.1,0.8,0.85]
[null,null,null,null,null,null,null,null,null,null,null,null,null,null,null,50.5,{"$f":"Q358+0.2","v":50.500000000000291},{"$f":"ROUND(R356+(R363-R356)/7*3,0)","v":{"$error":"#N/A"}},{"$error":"#N/A"},{"$error":"#N/A"},{"$f":"VLOOKUP(P359,Daten!C$6:E$115,3,FALSE)","v":{"$error":"#N/A"}},{"$f":"VLOOKUP(P359,Daten!C$6:L$115,10,FALSE)","v":{"$error":"#N/A"}},{"$f":"VLOOKUP(P359,Daten!C$6:M$115,11,FALSE)","v":{"$error":"#N/A"}},0.05,0.1,0.8,0.85]
[null,null,null,null,null,null,null,null,null,null,null,null,null,null,null,50.6,{"$f":"Q359+0.1","v":50.600000000000293},{"$f":"ROUND(R356+(R363-R356)/7*4,0)","v":{"$error":"#N/A"}},{"$error":"#N/A"},{"$error":"#N/A"},{"$f":"VLOOKUP(P360,Daten!C$6:E$115,3,FALSE)","v":{"$error":"#N/A"}},{"$f":"VLOOKUP(P360,Daten!C$6:L$115,10,FALSE)","v":{"$error":"#N/A"}},{"$f":"VLOOKUP(P360,Daten!C$6:M$115,11,FALSE)","v":{"$error":"#N/A"}},0.05,0.1,0.8,0.85]
[null,null,null,null,null,null,null,null,null,null,null,null,null,null,null,50.8,{"$f":"Q360+0.2","v":50.800000000000296},{"$f":"ROUND(R356+(R363-R356)/7*5,0)","v":{"$error":"#N/A"}},{"$error":"#N/A"},{"$error":"#N/A"},{"$f":"VLOOKUP(P361,Daten!C$6:E$115,3,FALSE)","v":{"$error":"#N/A"}},{"$f":"VLOOKUP(P361,Daten!C$6:L$115,10,FALSE)","v":{"$error":"#N/A"}},{"$f":"VLOOKUP(P361,Daten!C$6:M$115,11,FALSE)","v":{"$error":"#N/A"}},0.05,0.1,0.8,0.85]
[null,null,null,null,null,null,null,null,null,null,null,null,null,null,null,50.9,{"$f":"Q361+0.1","v":50.900000000000297},{"$f":"ROUND(R356+(R363-R356)/7*6,0)","v":{"$error":"#N/A"}},{"$error":"#N/A"},{"$error":"#N/A"},{"$f":"VLOOKUP(P362,Daten!C$6:E$115,3,FALSE)","v":{"$error":"#N/A"}},{"$f":"VLOOKUP(P362,Daten!C$6:L$115,10,FALSE)","v":{"$error":"#N/A"}},{"$f":"VLOOKUP(P362,Daten!C$6:M$115,11,FALSE)","v":{"$error":"#N/A"}},0.05,0.1,0.8,0.85]
[null,null,null,null,null,null,null,null,null,null,null,null,null,null,null,51,{"$f":"Q362+0.1","v":51.000000000000298},{"$f":"VLOOKUP(Menü!H$24,Sollgewichte!A$4:CD$13,Q363+2,FALSE)","v":{"$error":"#N/A"}},{"$error":"#N/A"},{"$error":"#N/A"},{"$f":"VLOOKUP(P363,Daten!C$6:E$115,3,FALSE)","v":{"$error":"#N/A"}},{"$f":"VLOOKUP(P363,Daten!C$6:L$115,10,FALSE)","v":{"$error":"#N/A"}},{"$f":"VLOOKUP(P363,Daten!C$6:M$115,11,FALSE)","v":{"$error":"#N/A"}},0.05,0.1,0.8,0.85]
[null,null,null,null,null,null,null,null,null,null,null,null,null,null,null,51.2,{"$f":"Q363+0.2","v":51.200000000000301},{"$f":"ROUND(R363+(R370-R363)/7,0)","v":{"$error":"#N/A"}},{"$error":"#N/A"},{"$error":"#N/A"},{"$f":"VLOOKUP(P364,Daten!C$6:E$115,3,FALSE)","v":{"$error":"#N/A"}},{"$f":"VLOOKUP(P364,Daten!C$6:L$115,10,FALSE)","v":{"$error":"#N/A"}},{"$f":"VLOOKUP(P364,Daten!C$6:M$115,11,FALSE)","v":{"$error":"#N/A"}},0.05,0.1,0.8,0.85]
[null,null,null,null,null,null,null,null,null,null,null,null,null,null,null,51.3,{"$f":"Q364+0.1","v":51.300000000000303},{"$f":"ROUND(R363+(R370-R363)/7*2,0)","v":{"$error":"#N/A"}},{"$error":"#N/A"},{"$error":"#N/A"},{"$f":"VLOOKUP(P365,Daten!C$6:E$115,3,FALSE)","v":{"$error":"#N/A"}},{"$f":"VLOOKUP(P365,Daten!C$6:L$115,10,FALSE)","v":{"$error":"#N/A"}},{"$f":"VLOOKUP(P365,Daten!C$6:M$115,11,FALSE)","v":{"$error":"#N/A"}},0.05,0.1,0.8,0.85]
[null,null,null,null,null,null,null,null,null,null,null,null,null,null,null,51.5,{"$f":"Q365+0.2","v":51.500000000000306},{"$f":"ROUND(R363+(R370-R363)/7*3,0)","v":{"$error":"#N/A"}},{"$error":"#N/A"},{"$error":"#N/A"},{"$f":"VLOOKUP(P366,Daten!C$6:E$115,3,FALSE)","v":{"$error":"#N/A"}},{"$f":"VLOOKUP(P366,Daten!C$6:L$115,10,FALSE)","v":{"$error":"#N/A"}},{"$f":"VLOOKUP(P366,Daten!C$6:M$115,11,FALSE)","v":{"$error":"#N/A"}},0.05,0.1,0.8,0.85]
[null,null,null,null,null,null,null,null,null,null,null,null,null,null,null,51.6,{"$f":"Q366+0.1","v":51.600000000000307},{"$f":"ROUND(R363+(R370-R363)/7*4,0)","v":{"$error":"#N/A"}},{"$error":"#N/A"},{"$error":"#N/A"},{"$f":"VLOOKUP(P367,Daten!C$6:E$115,3,FALSE)","v":{"$error":"#N/A"}},{"$f":"VLOOKUP(P367,Daten!C$6:L$115,10,FALSE)","v":{"$error":"#N/A"}},{"$f":"VLOOKUP(P367,Daten!C$6:M$115,11,FALSE)","v":{"$error":"#N/A"}},0.05,0.1,0.8,0.85]
[null,null,null,null,null,null,null,null,null,null,null,null,null,null,null,51.8,{"$f":"Q367+0.2","v":51.80000000000031},{"$f":"ROUND(R363+(R370-R363)/7*5,0)","v":{"$error":"#N/A"}},{"$error":"#N/A"},{"$error":"#N/A"},{"$f":"VLOOKUP(P368,Daten!C$6:E$115,3,FALSE)","v":{"$error":"#N/A"}},{"$f":"VLOOKUP(P368,Daten!C$6:L$115,10,FALSE)","v":{"$error":"#N/A"}},{"$f":"VLOOKUP(P368,Daten!C$6:M$115,11,FALSE)","v":{"$error":"#N/A"}},0.05,0.1,0.8,0.85]
[null,null,null,null,null,null,null,null,null,null,null,null,null,null,null,51.9,{"$f":"Q368+0.1","v":51.900000000000311},{"$f":"ROUND(R363+(R370-R363)/7*6,0)","v":{"$error":"#N/A"}},{"$error":"#N/A"},{"$error":"#N/A"},{"$f":"VLOOKUP(P369,Daten!C$6:E$115,3,FALSE)","v":{"$error":"#N/A"}},{"$f":"VLOOKUP(P369,Daten!C$6:L$115,10,FALSE)","v":{"$error":"#N/A"}},{"$f":"VLOOKUP(P369,Daten!C$6:M$115,11,FALSE)","v":{"$error":"#N/A"}},0.05,0.1,0.8,0.85]
[null,null,null,null,null,null,null,null,null,null,null,null,null,null,null,52,{"$f":"Q369+0.1","v":52.000000000000313},{"$f":"VLOOKUP(Menü!H$24,Sollgewichte!A$4:CD$13,Q370+2,FALSE)","v":{"$error":"#N/A"}},{"$error":"#N/A"},{"$error":"#N/A"},{"$f":"VLOOKUP(P370,Daten!C$6:E$115,3,FALSE)","v":{"$error":"#N/A"}},{"$f":"VLOOKUP(P370,Daten!C$6:L$115,10,FALSE)","v":{"$error":"#N/A"}},{"$f":"VLOOKUP(P370,Daten!C$6:M$115,11,FALSE)","v":{"$error":"#N/A"}},0.05,0.1,0.8,0.85]
[null,null,null,null,null,null,null,null,null,null,null,null,null,null,null,52.2,{"$f":"Q370+0.2","v":52.200000000000315},{"$f":"ROUND(R370+(R377-R370)/7,0)","v":{"$error":"#N/A"}},{"$error":"#N/A"},{"$error":"#N/A"},{"$f":"VLOOKUP(P371,Daten!C$6:E$115,3,FALSE)","v":{"$error":"#N/A"}},{"$f":"VLOOKUP(P371,Daten!C$6:L$115,10,FALSE)","v":{"$error":"#N/A"}},{"$f":"VLOOKUP(P371,Daten!C$6:M$115,11,FALSE)","v":{"$error":"#N/A"}},0.05,0.1,0.8,0.85]
[null,null,null,null,null,null,null,null,null,null,null,null,null,null,null,52.3,{"$f":"Q371+0.1","v":52.300000000000317},{"$f":"ROUND(R370+(R377-R370)/7*2,0)","v":{"$error":"#N/A"}},{"$error":"#N/A"},{"$error":"#N/A"},{"$f":"VLOOKUP(P372,Daten!C$6:E$115,3,FALSE)","v":{"$error":"#N/A"}},{"$f":"VLOOKUP(P372,Daten!C$6:L$115,10,FALSE)","v":{"$error":"#N/A"}},{"$f":"VLOOKUP(P372,Daten!C$6:M$115,11,FALSE)","v":{"$error":"#N/A"}},0.05,0.1,0.8,0.85]
[null,null,null,null,null,null,null,null,null,null,null,null,null,null,null,52.5,{"$f":"Q372+0.2","v":52.50000000000032},{"$f":"ROUND(R370+(R377-R370)/7*3,0)","v":{"$error":"#N/A"}},{"$error":"#N/A"},{"$error":"#N/A"},{"$f":"VLOOKUP(P373,Daten!C$6:E$115,3,FALSE)","v":{"$error":"#N/A"}},{"$f":"VLOOKUP(P373,Daten!C$6:L$115,10,FALSE)","v":{"$error":"#N/A"}},{"$f":"VLOOKUP(P373,Daten!C$6:M$115,11,FALSE)","v":{"$error":"#N/A"}},0.05,0.1,0.8,0.85]
[null,null,null,null,null,null,null,null,null,null,null,null,null,null,null,52.6,{"$f":"Q373+0.1","v":52.600000000000321},{"$f":"ROUND(R370+(R377-R370)/7*4,0)","v":{"$error":"#N/A"}},{"$error":"#N/A"},{"$error":"#N/A"},{"$f":"VLOOKUP(P374,Daten!C$6:E$115,3,FALSE)","v":{"$error":"#N/A"}},{"$f":"VLOOKUP(P374,Daten!C$6:L$115,10,FALSE)","v":{"$error":"#N/A"}},{"$f":"VLOOKUP(P374,Daten!C$6:M$115,11,FALSE)","v":{"$error":"#N/A"}},0.05,0.1,0.8,0.85]
[null,null,null,null,null,null,null,null,null,null,null,null,null,null,null,52.8,{"$f":"Q374+0.2","v":52.800000000000324},{"$f":"ROUND(R370+(R377-R370)/7*5,0)","v":{"$error":"#N/A"}},{"$error":"#N/A"},{"$error":"#N/A"},{"$f":"VLOOKUP(P375,Daten!C$6:E$115,3,FALSE)","v":{"$error":"#N/A"}},{"$f":"VLOOKUP(P375,Daten!C$6:L$115,10,FALSE)","v":{"$error":"#N/A"}},{"$f":"VLOOKUP(P375,Daten!C$6:M$115,11,FALSE)","v":{"$error":"#N/A"}},0.05,0.1,0.8,0.85]
[null,null,null,null,null,null,null,null,null,null,null,null,null,null,null,52.9,{"$f":"Q375+0.1","v":52.900000000000325},{"$f":"ROUND(R370+(R377-R370)/7*6,0)","v":{"$error":"#N/A"}},{"$error":"#N/A"},{"$error":"#N/A"},{"$f":"VLOOKUP(P376,Daten!C$6:E$115,3,FALSE)","v":{"$error":"#N/A"}},{"$f":"VLOOKUP(P376,Daten!C$6:L$115,10,FALSE)","v":{"$error":"#N/A"}},{"$f":"VLOOKUP(P376,Daten!C$6:M$115,11,FALSE)","v":{"$error":"#N/A"}},0.05,0.1,0.8,0.85]
[null,null,null,null,null,null,null,null,null,null,null,null,null,null,null,53,{"$f":"Q376+0.1","v":53.000000000000327},{"$f":"VLOOKUP(Menü!H$24,Sollgewichte!A$4:CD$13,Q377+2,FALSE)","v":{"$error":"#N/A"}},{"$error":"#N/A"},{"$error":"#N/A"},{"$f":"VLOOKUP(P377,Daten!C$6:E$115,3,FALSE)","v":{"$error":"#N/A"}},{"$f":"VLOOKUP(P377,Daten!C$6:L$115,10,FALSE)","v":{"$error":"#N/A"}},{"$f":"VLOOKUP(P377,Daten!C$6:M$115,11,FALSE)","v":{"$error":"#N/A"}},0.05,0.1,0.8,0.85]
[null,null,null,null,null,null,null,null,null,null,null,null,null,null,null,53.2,{"$f":"Q377+0.2","v":53.20000000000033},{"$f":"ROUND(R377+(R384-R377)/7,0)","v":{"$error":"#N/A"}},{"$error":"#N/A"},{"$error":"#N/A"},{"$f":"VLOOKUP(P378,Daten!C$6:E$115,3,FALSE)","v":{"$error":"#N/A"}},{"$f":"VLOOKUP(P378,Daten!C$6:L$115,10,FALSE)","v":{"$error":"#N/A"}},{"$f":"VLOOKUP(P378,Daten!C$6:M$115,11,FALSE)","v":{"$error":"#N/A"}},0.05,0.1,0.8,0.85]
[null,null,null,null,null,null,null,null,null,null,null,null,null,null,null,53.3,{"$f":"Q378+0.1","v":53.300000000000331},{"$f":"ROUND(R377+(R384-R377)/7*2,0)","v":{"$error":"#N/A"}},{"$error":"#N/A"},{"$error":"#N/A"},{"$f":"VLOOKUP(P379,Daten!C$6:E$115,3,FALSE)","v":{"$error":"#N/A"}},{"$f":"VLOOKUP(P379,Daten!C$6:L$115,10,FALSE)","v":{"$error":"#N/A"}},{"$f":"VLOOKUP(P379,Daten!C$6:M$115,11,FALSE)","v":{"$error":"#N/A"}},0.05,0.1,0.8,0.85]
[null,null,null,null,null,null,null,null,null,null,null,null,null,null,null,53.5,{"$f":"Q379+0.2","v":53.500000000000334},{"$f":"ROUND(R377+(R384-R377)/7*3,0)","v":{"$error":"#N/A"}},{"$error":"#N/A"},{"$error":"#N/A"},{"$f":"VLOOKUP(P380,Daten!C$6:E$115,3,FALSE)","v":{"$error":"#N/A"}},{"$f":"VLOOKUP(P380,Daten!C$6:L$115,10,FALSE)","v":{"$error":"#N/A"}},{"$f":"VLOOKUP(P380,Daten!C$6:M$115,11,FALSE)","v":{"$error":"#N/A"}},0.05,0.1,0.8,0.85]
[null,null,null,null,null,null,null,null,null,null,null,null,null,null,null,53.6,{"$f":"Q380+0.1","v":53.600000000000335},{"$f":"ROUND(R377+(R384-R377)/7*4,0)","v":{"$error":"#N/A"}},{"$error":"#N/A"},{"$error":"#N/A"},{"$f":"VLOOKUP(P381,Daten!C$6:E$115,3,FALSE)","v":{"$error":"#N/A"}},{"$f":"VLOOKUP(P381,Daten!C$6:L$115,10,FALSE)","v":{"$error":"#N/A"}},{"$f":"VLOOKUP(P381,Daten!C$6:M$115,11,FALSE)","v":{"$error":"#N/A"}},0.05,0.1,0.8,0.85]
[null,null,null,null,null,null,null,null,null,null,null,null,null,null,null,53.8,{"$f":"Q381+0.2","v":53.800000000000338},{"$f":"ROUND(R377+(R384-R377)/7*5,0)","v":{"$error":"#N/A"}},{"$error":"#N/A"},{"$error":"#N/A"},{"$f":"VLOOKUP(P382,Daten!C$6:E$115,3,FALSE)","v":{"$error":"#N/A"}},{"$f":"VLOOKUP(P382,Daten!C$6:L$115,10,FALSE)","v":{"$error":"#N/A"}},{"$f":"VLOOKUP(P382,Daten!C$6:M$115,11,FALSE)","v":{"$error":"#N/A"}},0.05,0.1,0.8,0.85]
[null,null,null,null,null,null,null,null,null,null,null,null,null,null,null,53.9,{"$f":"Q382+0.1","v":53.90000000000034},{"$f":"ROUND(R377+(R384-R377)/7*6,0)","v":{"$error":"#N/A"}},{"$error":"#N/A"},{"$error":"#N/A"},{"$f":"VLOOKUP(P383,Daten!C$6:E$115,3,FALSE)","v":{"$error":"#N/A"}},{"$f":"VLOOKUP(P383,Daten!C$6:L$115,10,FALSE)","v":{"$error":"#N/A"}},{"$f":"VLOOKUP(P383,Daten!C$6:M$115,11,FALSE)","v":{"$error":"#N/A"}},0.05,0.1,0.8,0.85]
[null,null,null,null,null,null,null,null,null,null,null,null,null,null,null,54,{"$f":"Q383+0.1","v":54.000000000000341},{"$f":"VLOOKUP(Menü!H$24,Sollgewichte!A$4:CD$13,Q384+2,FALSE)","v":{"$error":"#N/A"}},{"$error":"#N/A"},{"$error":"#N/A"},{"$f":"VLOOKUP(P384,Daten!C$6:E$115,3,FALSE)","v":{"$error":"#N/A"}},{"$f":"VLOOKUP(P384,Daten!C$6:L$115,10,FALSE)","v":{"$error":"#N/A"}},{"$f":"VLOOKUP(P384,Daten!C$6:M$115,11,FALSE)","v":{"$error":"#N/A"}},0.05,0.1,0.8,0.85]
[null,null,null,null,null,null,null,null,null,null,null,null,null,null,null,54.2,{"$f":"Q384+0.2","v":54.200000000000344},{"$f":"ROUND(R384+(R391-R384)/7,0)","v":{"$error":"#N/A"}},{"$error":"#N/A"},{"$error":"#N/A"},{"$f":"VLOOKUP(P385,Daten!C$6:E$115,3,FALSE)","v":{"$error":"#N/A"}},{"$f":"VLOOKUP(P385,Daten!C$6:L$115,10,FALSE)","v":{"$error":"#N/A"}},{"$f":"VLOOKUP(P385,Daten!C$6:M$115,11,FALSE)","v":{"$error":"#N/A"}},0.05,0.1,0.8,0.85]
[null,null,null,null,null,null,null,null,null,null,null,null,null,null,null,54.3,{"$f":"Q385+0.1","v":54.300000000000345},{"$f":"ROUND(R384+(R391-R384)/7*2,0)","v":{"$error":"#N/A"}},{"$error":"#N/A"},{"$error":"#N/A"},{"$f":"VLOOKUP(P386,Daten!C$6:E$115,3,FALSE)","v":{"$error":"#N/A"}},{"$f":"VLOOKUP(P386,Daten!C$6:L$115,10,FALSE)","v":{"$error":"#N/A"}},{"$f":"VLOOKUP(P386,Daten!C$6:M$115,11,FALSE)","v":{"$error":"#N/A"}},0.05,0.1,0.8,0.85]
[null,null,null,null,null,null,null,null,null,null,null,null,null,null,null,54.5,{"$f":"Q386+0.2","v":54.500000000000348},{"$f":"ROUND(R384+(R391-R384)/7*3,0)","v":{"$error":"#N/A"}},{"$error":"#N/A"},{"$error":"#N/A"},{"$f":"VLOOKUP(P387,Daten!C$6:E$115,3,FALSE)","v":{"$error":"#N/A"}},{"$f":"VLOOKUP(P387,Daten!C$6:L$115,10,FALSE)","v":{"$error":"#N/A"}},{"$f":"VLOOKUP(P387,Daten!C$6:M$115,11,FALSE)","v":{"$error":"#N/A"}},0.05,0.1,0.8,0.85]
[null,null,null,null,null,null,null,null,null,null,null,null,null,null,null,54.6,{"$f":"Q387+0.1","v":54.60000000000035},{"$f":"ROUND(R384+(R391-R384)/7*4,0)","v":{"$error":"#N/A"}},{"$error":"#N/A"},{"$error":"#N/A"},{"$f":"VLOOKUP(P388,Daten!C$6:E$115,3,FALSE)","v":{"$error":"#N/A"}},{"$f":"VLOOKUP(P388,Daten!C$6:L$115,10,FALSE)","v":{"$error":"#N/A"}},{"$f":"VLOOKUP(P388,Daten!C$6:M$115,11,FALSE)","v":{"$error":"#N/A"}},0.05,0.1,0.8,0.85]
[null,null,null,null,null,null,null,null,null,null,null,null,null,null,null,54.8,{"$f":"Q388+0.2","v":54.800000000000352},{"$f":"ROUND(R384+(R391-R384)/7*5,0)","v":{"$error":"#N/A"}},{"$error":"#N/A"},{"$error":"#N/A"},{"$f":"VLOOKUP(P389,Daten!C$6:E$115,3,FALSE)","v":{"$error":"#N/A"}},{"$f":"VLOOKUP(P389,Daten!C$6:L$115,10,FALSE)","v":{"$error":"#N/A"}},{"$f":"VLOOKUP(P389,Daten!C$6:M$115,11,FALSE)","v":{"$error":"#N/A"}},0.05,0.1,0.8,0.85]
[null,null,null,null,null,null,null,null,null,null,null,null,null,null,null,54.9,{"$f":"Q389+0.1","v":54.900000000000354},{"$f":"ROUND(R384+(R391-R384)/7*6,0)","v":{"$error":"#N/A"}},{"$error":"#N/A"},{"$error":"#N/A"},{"$f":"VLOOKUP(P390,Daten!C$6:E$115,3,FALSE)","v":{"$error":"#N/A"}},{"$f":"VLOOKUP(P390,Daten!C$6:L$115,10,FALSE)","v":{"$error":"#N/A"}},{"$f":"VLOOKUP(P390,Daten!C$6:M$115,11,FALSE)","v":{"$error":"#N/A"}},0.05,0.1,0.8,0.85]
[null,null,null,null,null,null,null,null,null,null,null,null,null,null,null,{"$f":"ROUND(Q391,1)","v":55},{"$f":"Q390+0.1","v":55.000000000000355},{"$f":"VLOOKUP(Menü!H$24,Sollgewichte!A$4:CD$13,Q391+2,FALSE)","v":{"$error":"#N/A"}},{"$f":"R391*0.95","v":{"$error":"#N/A"}},{"$f":"R391","v":{"$error":"#N/A"}},{"$f":"VLOOKUP(P391,Daten!C$6:E$115,3,FALSE)","v":{"$error":"#N/A"}},{"$f":"VLOOKUP(P391,Daten!C$6:L$115,10,FALSE)","v":{"$error":"#N/A"}},{"$f":"VLOOKUP(P391,Daten!C$6:M$115,11,FALSE)","v":{"$error":"#N/A"}},0.05,0.1,0.8,0.85]
[null,null,null,null,null,null,null,null,null,null,null,null,null,null,null,55.2,{"$f":"Q391+0.2","v":55.200000000000358},{"$f":"ROUND(R391+(R398-R391)/7,0)","v":{"$error":"#N/A"}},{"$error":"#N/A"},{"$error":"#N/A"},{"$f":"VLOOKUP(P392,Daten!C$6:E$115,3,FALSE)","v":{"$error":"#N/A"}},{"$f":"VLOOKUP(P392,Daten!C$6:L$115,10,FALSE)","v":{"$error":"#N/A"}},{"$f":"VLOOKUP(P392,Daten!C$6:M$115,11,FALSE)","v":{"$error":"#N/A"}},0.05,0.1,0.8,0.85]
[null,null,null,null,null,null,null,null,null,null,null,null,null,null,null,55.3,{"$f":"Q392+0.1","v":55.30000000000036},{"$f":"ROUND(R391+(R398-R391)/7*2,0)","v":{"$error":"#N/A"}},{"$error":"#N/A"},{"$error":"#N/A"},{"$f":"VLOOKUP(P393,Daten!C$6:E$115,3,FALSE)","v":{"$error":"#N/A"}},{"$f":"VLOOKUP(P393,Daten!C$6:L$115,10,FALSE)","v":{"$error":"#N/A"}},{"$f":"VLOOKUP(P393,Daten!C$6:M$115,11,FALSE)","v":{"$error":"#N/A"}},0.05,0.1,0.8,0.85]
[null,null,null,null,null,null,null,null,null,null,null,null,null,null,null,55.5,{"$f":"Q393+0.2","v":55.500000000000362},{"$f":"ROUND(R391+(R398-R391)/7*3,0)","v":{"$error":"#N/A"}},{"$error":"#N/A"},{"$error":"#N/A"},{"$f":"VLOOKUP(P394,Daten!C$6:E$115,3,FALSE)","v":{"$error":"#N/A"}},{"$f":"VLOOKUP(P394,Daten!C$6:L$115,10,FALSE)","v":{"$error":"#N/A"}},{"$f":"VLOOKUP(P394,Daten!C$6:M$115,11,FALSE)","v":{"$error":"#N/A"}},0.05,0.1,0.8,0.85]
[null,null,null,null,null,null,null,null,null,null,null,null,null,null,null,55.6,{"$f":"Q394+0.1","v":55.600000000000364},{"$f":"ROUND(R391+(R398-R391)/7*4,0)","v":{"$error":"#N/A"}},{"$error":"#N/A"},{"$error":"#N/A"},{"$f":"VLOOKUP(P395,Daten!C$6:E$115,3,FALSE)","v":{"$error":"#N/A"}},{"$f":"VLOOKUP(P395,Daten!C$6:L$115,10,FALSE)","v":{"$error":"#N/A"}},{"$f":"VLOOKUP(P395,Daten!C$6:M$115,11,FALSE)","v":{"$error":"#N/A"}},0.05,0.1,0.8,0.85]
[null,null,null,null,null,null,null,null,null,null,null,null,null,null,null,55.8,{"$f":"Q395+0.2","v":55.800000000000367},{"$f":"ROUND(R391+(R398-R391)/7*5,0)","v":{"$error":"#N/A"}},{"$error":"#N/A"},{"$error":"#N/A"},{"$f":"VLOOKUP(P396,Daten!C$6:E$115,3,FALSE)","v":{"$error":"#N/A"}},{"$f":"VLOOKUP(P396,Daten!C$6:L$115,10,FALSE)","v":{"$error":"#N/A"}},{"$f":"VLOOKUP(P396,Daten!C$6:M$115,11,FALSE)","v":{"$error":"#N/A"}},0.05,0.1,0.8,0.85]
[null,null,null,null,null,null,null,null,null,null,null,null,null,null,null,55.9,{"$f":"Q396+0.1","v":55.900000000000368},{"$f":"ROUND(R391+(R398-R391)/7*6,0)","v":{"$error":"#N/A"}},{"$error":"#N/A"},{"$error":"#N/A"},{"$f":"VLOOKUP(P397,Daten!C$6:E$115,3,FALSE)","v":{"$error":"#N/A"}},{"$f":"VLOOKUP(P397,Daten!C$6:L$115,10,FALSE)","v":{"$error":"#N/A"}},{"$f":"VLOOKUP(P397,Daten!C$6:M$115,11,FALSE)","v":{"$error":"#N/A"}},0.05,0.1,0.8,0.85]
[null,null,null,null,null,null,null,null,null,null,null,null,null,null,null,56,{"$f":"Q397+0.1","v":56.000000000000369},{"$f":"VLOOKUP(Menü!H$24,Sollgewichte!A$4:CD$13,Q398+2,FALSE)","v":{"$error":"#N/A"}},{"$error":"#N/A"},{"$error":"#N/A"},{"$f":"VLOOKUP(P398,Daten!C$6:E$115,3,FALSE)","v":{"$error":"#N/A"}},{"$f":"VLOOKUP(P398,Daten!C$6:L$115,10,FALSE)","v":{"$error":"#N/A"}},{"$f":"VLOOKUP(P398,Daten!C$6:M$115,11,FALSE)","v":{"$error":"#N/A"}},0.05,0.1,0.8,0.85]
[null,null,null,null,null,null,null,null,null,null,null,null,null,null,null,56.2,{"$f":"Q398+0.2","v":56.200000000000372},{"$f":"ROUND(R398+(R405-R398)/7,0)","v":{"$error":"#N/A"}},{"$error":"#N/A"},{"$error":"#N/A"},{"$f":"VLOOKUP(P399,Daten!C$6:E$115,3,FALSE)","v":{"$error":"#N/A"}},{"$f":"VLOOKUP(P399,Daten!C$6:L$115,10,FALSE)","v":{"$error":"#N/A"}},{"$f":"VLOOKUP(P399,Daten!C$6:M$115,11,FALSE)","v":{"$error":"#N/A"}},0.05,0.1,0.8,0.85]
[null,null,null,null,null,null,null,null,null,null,null,null,null,null,null,56.3,{"$f":"Q399+0.1","v":56.300000000000374},{"$f":"ROUND(R398+(R405-R398)/7*2,0)","v":{"$error":"#N/A"}},{"$error":"#N/A"},{"$error":"#N/A"},{"$f":"VLOOKUP(P400,Daten!C$6:E$115,3,FALSE)","v":{"$error":"#N/A"}},{"$f":"VLOOKUP(P400,Daten!C$6:L$115,10,FALSE)","v":{"$error":"#N/A"}},{"$f":"VLOOKUP(P400,Daten!C$6:M$115,11,FALSE)","v":{"$error":"#N/A"}},0.05,0.1,0.8,0.85]
[null,null,null,null,null,null,null,null,null,null,null,null,null,null,null,56.5,{"$f":"Q400+0.2","v":56.500000000000377},{"$f":"ROUND(R398+(R405-R398)/7*3,0)","v":{"$error":"#N/A"}},{"$error":"#N/A"},{"$error":"#N/A"},{"$f":"VLOOKUP(P401,Daten!C$6:E$115,3,FALSE)","v":{"$error":"#N/A"}},{"$f":"VLOOKUP(P401,Daten!C$6:L$115,10,FALSE)","v":{"$error":"#N/A"}},{"$f":"VLOOKUP(P401,Daten!C$6:M$115,11,FALSE)","v":{"$error":"#N/A"}},0.05,0.1,0.8,0.85]
[null,null,null,null,null,null,null,null,null,null,null,null,null,null,null,56.6,{"$f":"Q401+0.1","v":56.600000000000378},{"$f":"ROUND(R398+(R405-R398)/7*4,0)","v":{"$error":"#N/A"}},{"$error":"#N/A"},{"$error":"#N/A"},{"$f":"VLOOKUP(P402,Daten!C$6:E$115,3,FALSE)","v":{"$error":"#N/A"}},{"$f":"VLOOKUP(P402,Daten!C$6:L$115,10,FALSE)","v":{"$error":"#N/A"}},{"$f":"VLOOKUP(P402,Daten!C$6:M$115,11,FALSE)","v":{"$error":"#N/A"}},0.05,0.1,0.8,0.85]
[null,null,null,null,null,null,null,null,null,null,null,null,null,null,null,56.8,{"$f":"Q402+0.2","v":56.800000000000381},{"$f":"ROUND(R398+(R405-R398)/7*5,0)","v":{"$error":"#N/A"}},{"$error":"#N/A"},{"$error":"#N/A"},{"$f":"VLOOKUP(P403,Daten!C$6:E$115,3,FALSE)","v":{"$error":"#N/A"}},{"$f":"VLOOKUP(P403,Daten!C$6:L$115,10,FALSE)","v":{"$error":"#N/A"}},{"$f":"VLOOKUP(P403,Daten!C$6:M$115,11,FALSE)","v":{"$error":"#N/A"}},0.05,0.1,0.8,0.85]
[null,null,null,null,null,null,null,null,null,null,null,null,null,null,null,56.9,{"$f":"Q403+0.1","v":56.900000000000382},{"$f":"ROUND(R398+(R405-R398)/7*6,0)","v":{"$error":"#N/A"}},{"$error":"#N/A"},{"$error":"#N/A"},{"$f":"VLOOKUP(P404,Daten!C$6:E$115,3,FALSE)","v":{"$error":"#N/A"}},{"$f":"VLOOKUP(P404,Daten!C$6:L$115,10,FALSE)","v":{"$error":"#N/A"}},{"$f":"VLOOKUP(P404,Daten!C$6:M$115,11,FALSE)","v":{"$error":"#N/A"}},0.05,0.1,0.8,0.85]
[null,null,null,null,null,null,null,null,null,null,null,null,null,null,null,57,{"$f":"Q404+0.1","v":57.000000000000384},{"$f":"VLOOKUP(Menü!H$24,Sollgewichte!A$4:CD$13,Q405+2,FALSE)","v":{"$error":"#N/A"}},{"$error":"#N/A"},{"$error":"#N/A"},{"$f":"VLOOKUP(P405,Daten!C$6:E$115,3,FALSE)","v":{"$error":"#N/A"}},{"$f":"VLOOKUP(P405,Daten!C$6:L$115,10,FALSE)","v":{"$error":"#N/A"}},{"$f":"VLOOKUP(P405,Daten!C$6:M$115,11,FALSE)","v":{"$error":"#N/A"}},0.05,0.1,0.8,0.85]
[null,null,null,null,null,null,null,null,null,null,null,null,null,null,null,57.2,{"$f":"Q405+0.2","v":57.200000000000387},{"$f":"ROUND(R405+(R412-R405)/7,0)","v":{"$error":"#N/A"}},{"$error":"#N/A"},{"$error":"#N/A"},{"$f":"VLOOKUP(P406,Daten!C$6:E$115,3,FALSE)","v":{"$error":"#N/A"}},{"$f":"VLOOKUP(P406,Daten!C$6:L$115,10,FALSE)","v":{"$error":"#N/A"}},{"$f":"VLOOKUP(P406,Daten!C$6:M$115,11,FALSE)","v":{"$error":"#N/A"}},0.05,0.1,0.8,0.85]
[null,null,null,null,null,null,null,null,null,null,null,null,null,null,null,57.3,{"$f":"Q406+0.1","v":57.300000000000388},{"$f":"ROUND(R405+(R412-R405)/7*2,0)","v":{"$error":"#N/A"}},{"$error":"#N/A"},{"$error":"#N/A"},{"$f":"VLOOKUP(P407,Daten!C$6:E$115,3,FALSE)","v":{"$error":"#N/A"}},{"$f":"VLOOKUP(P407,Daten!C$6:L$115,10,FALSE)","v":{"$error":"#N/A"}},{"$f":"VLOOKUP(P407,Daten!C$6:M$115,11,FALSE)","v":{"$error":"#N/A"}},0.05,0.1,0.8,0.85]
[null,null,null,null,null,null,null,null,null,null,null,null,null,null,null,57.5,{"$f":"Q407+0.2","v":57.500000000000391},{"$f":"ROUND(R405+(R412-R405)/7*3,0)","v":{"$error":"#N/A"}},{"$error":"#N/A"},{"$error":"#N/A"},{"$f":"VLOOKUP(P408,Daten!C$6:E$115,3,FALSE)","v":{"$error":"#N/A"}},{"$f":"VLOOKUP(P408,Daten!C$6:L$115,10,FALSE)","v":{"$error":"#N/A"}},{"$f":"VLOOKUP(P408,Daten!C$6:M$115,11,FALSE)","v":{"$error":"#N/A"}},0.05,0.1,0.8,0.85]
[null,null,null,null,null,null,null,null,null,null,null,null,null,null,null,57.6,{"$f":"Q408+0.1","v":57.600000000000392},{"$f":"ROUND(R405+(R412-R405)/7*4,0)","v":{"$error":"#N/A"}},{"$error":"#N/A"},{"$error":"#N/A"},{"$f":"VLOOKUP(P409,Daten!C$6:E$115,3,FALSE)","v":{"$error":"#N/A"}},{"$f":"VLOOKUP(P409,Daten!C$6:L$115,10,FALSE)","v":{"$error":"#N/A"}},{"$f":"VLOOKUP(P409,Daten!C$6:M$115,11,FALSE)","v":{"$error":"#N/A"}},0.05,0.1,0.8,0.85]
[null,null,null,null,null,null,null,null,null,null,null,null,null,null,null,57.8,{"$f":"Q409+0.2","v":57.800000000000395},{"$f":"ROUND(R405+(R412-R405)/7*5,0)","v":{"$error":"#N/A"}},{"$error":"#N/A"},{"$error":"#N/A"},{"$f":"VLOOKUP(P410,Daten!C$6:E$115,3,FALSE)","v":{"$error":"#N/A"}},{"$f":"VLOOKUP(P410,Daten!C$6:L$115,10,FALSE)","v":{"$error":"#N/A"}},{"$f":"VLOOKUP(P410,Daten!C$6:M$115,11,FALSE)","v":{"$error":"#N/A"}},0.05,0.1,0.8,0.85]
[null,null,null,null,null,null,null,null,null,null,null,null,null,null,null,57.9,{"$f":"Q410+0.1","v":57.900000000000396},{"$f":"ROUND(R405+(R412-R405)/7*6,0)","v":{"$error":"#N/A"}},{"$error":"#N/A"},{"$error":"#N/A"},{"$f":"VLOOKUP(P411,Daten!C$6:E$115,3,FALSE)","v":{"$error":"#N/A"}},{"$f":"VLOOKUP(P411,Daten!C$6:L$115,10,FALSE)","v":{"$error":"#N/A"}},{"$f":"VLOOKUP(P411,Daten!C$6:M$115,11,FALSE)","v":{"$error":"#N/A"}},0.05,0.1,0.8,0.85]
[null,null,null,null,null,null,null,null,null,null,null,null,null,null,null,58,{"$f":"Q411+0.1","v":58.000000000000398},{"$f":"VLOOKUP(Menü!H$24,Sollgewichte!A$4:CD$13,Q412+2,FALSE)","v":{"$error":"#N/A"}},{"$error":"#N/A"},{"$error":"#N/A"},{"$f":"VLOOKUP(P412,Daten!C$6:E$115,3,FALSE)","v":{"$error":"#N/A"}},{"$f":"VLOOKUP(P412,Daten!C$6:L$115,10,FALSE)","v":{"$error":"#N/A"}},{"$f":"VLOOKUP(P412,Daten!C$6:M$115,11,FALSE)","v":{"$error":"#N/A"}},0.05,0.1,0.8,0.85]
[null,null,null,null,null,null,null,null,null,null,null,null,null,null,null,58.2,{"$f":"Q412+0.2","v":58.200000000000401},{"$f":"ROUND(R412+(R419-R412)/7,0)","v":{"$error":"#N/A"}},{"$error":"#N/A"},{"$error":"#N/A"},{"$f":"VLOOKUP(P413,Daten!C$6:E$115,3,FALSE)","v":{"$error":"#N/A"}},{"$f":"VLOOKUP(P413,Daten!C$6:L$115,10,FALSE)","v":{"$error":"#N/A"}},{"$f":"VLOOKUP(P413,Daten!C$6:M$115,11,FALSE)","v":{"$error":"#N/A"}},0.05,0.1,0.8,0.85]
[null,null,null,null,null,null,null,null,null,null,null,null,null,null,null,58.3,{"$f":"Q413+0.1","v":58.300000000000402},{"$f":"ROUND(R412+(R419-R412)/7*2,0)","v":{"$error":"#N/A"}},{"$error":"#N/A"},{"$error":"#N/A"},{"$f":"VLOOKUP(P414,Daten!C$6:E$115,3,FALSE)","v":{"$error":"#N/A"}},{"$f":"VLOOKUP(P414,Daten!C$6:L$115,10,FALSE)","v":{"$error":"#N/A"}},{"$f":"VLOOKUP(P414,Daten!C$6:M$115,11,FALSE)","v":{"$error":"#N/A"}},0.05,0.1,0.8,0.85]
[null,null,null,null,null,null,null,null,null,null,null,null,null,null,null,58.5,{"$f":"Q414+0.2","v":58.500000000000405},{"$f":"ROUND(R412+(R419-R412)/7*3,0)","v":{"$error":"#N/A"}},{"$error":"#N/A"},{"$error":"#N/A"},{"$f":"VLOOKUP(P415,Daten!C$6:E$115,3,FALSE)","v":{"$error":"#N/A"}},{"$f":"VLOOKUP(P415,Daten!C$6:L$115,10,FALSE)","v":{"$error":"#N/A"}},{"$f":"VLOOKUP(P415,Daten!C$6:M$115,11,FALSE)","v":{"$error":"#N/A"}},0.05,0.1,0.8,0.85]
[null,null,null,null,null,null,null,null,null,null,null,null,null,null,null,58.6,{"$f":"Q415+0.1","v":58.600000000000406},{"$f":"ROUND(R412+(R419-R412)/7*4,0)","v":{"$error":"#N/A"}},{"$error":"#N/A"},{"$error":"#N/A"},{"$f":"VLOOKUP(P416,Daten!C$6:E$115,3,FALSE)","v":{"$error":"#N/A"}},{"$f":"VLOOKUP(P416,Daten!C$6:L$115,10,FALSE)","v":{"$error":"#N/A"}},{"$f":"VLOOKUP(P416,Daten!C$6:M$115,11,FALSE)","v":{"$error":"#N/A"}},0.05,0.1,0.8,0.85]
[null,null,null,null,null,null,null,null,null,null,null,null,null,null,null,58.8,{"$f":"Q416+0.2","v":58.800000000000409},{"$f":"ROUND(R412+(R419-R412)/7*5,0)","v":{"$error":"#N/A"}},{"$error":"#N/A"},{"$error":"#N/A"},{"$f":"VLOOKUP(P417,Daten!C$6:E$115,3,FALSE)","v":{"$error":"#N/A"}},{"$f":"VLOOKUP(P417,Daten!C$6:L$115,10,FALSE)","v":{"$error":"#N/A"}},{"$f":"VLOOKUP(P417,Daten!C$6:M$115,11,FALSE)","v":{"$error":"#N/A"}},0.05,0.1,0.8,0.85]
[null,null,null,null,null,null,null,null,null,null,null,null,null,null,null,58.9,{"$f":"Q417+0.1","v":58.900000000000411},{"$f":"ROUND(R412+(R419-R412)/7*6,0)","v":{"$error":"#N/A"}},{"$error":"#N/A"},{"$error":"#N/A"},{"$f":"VLOOKUP(P418,Daten!C$6:E$115,3,FALSE)","v":{"$error":"#N/A"}},{"$f":"VLOOKUP(P418,Daten!C$6:L$115,10,FALSE)","v":{"$error":"#N/A"}},{"$f":"VLOOKUP(P418,Daten!C$6:M$115,11,FALSE)","v":{"$error":"#N/A"}},0.05,0.1,0.8,0.85]
[null,null,null,null,null,null,null,null,null,null,null,null,null,null,null,59,{"$f":"Q418+0.1","v":59.000000000000412},{"$f":"VLOOKUP(Menü!H$24,Sollgewichte!A$4:CD$13,Q419+2,FALSE)","v":{"$error":"#N/A"}},{"$error":"#N/A"},{"$error":"#N/A"},{"$f":"VLOOKUP(P419,Daten!C$6:E$115,3,FALSE)","v":{"$error":"#N/A"}},{"$f":"VLOOKUP(P419,Daten!C$6:L$115,10,FALSE)","v":{"$error":"#N/A"}},{"$f":"VLOOKUP(P419,Daten!C$6:M$115,11,FALSE)","v":{"$error":"#N/A"}},0.05,0.1,0.8,0.85]
[null,null,null,null,null,null,null,null,null,null,null,null,null,null,null,59.2,{"$f":"Q419+0.2","v":59.200000000000415},{"$f":"ROUND(R419+(R426-R419)/7,0)","v":{"$error":"#N/A"}},{"$error":"#N/A"},{"$error":"#N/A"},{"$f":"VLOOKUP(P420,Daten!C$6:E$115,3,FALSE)","v":{"$error":"#N/A"}},{"$f":"VLOOKUP(P420,Daten!C$6:L$115,10,FALSE)","v":{"$error":"#N/A"}},{"$f":"VLOOKUP(P420,Daten!C$6:M$115,11,FALSE)","v":{"$error":"#N/A"}},0.05,0.1,0.8,0.85]
[null,null,null,null,null,null,null,null,null,null,null,null,null,null,null,59.3,{"$f":"Q420+0.1","v":59.300000000000416},{"$f":"ROUND(R419+(R426-R419)/7*2,0)","v":{"$error":"#N/A"}},{"$error":"#N/A"},{"$error":"#N/A"},{"$f":"VLOOKUP(P421,Daten!C$6:E$115,3,FALSE)","v":{"$error":"#N/A"}},{"$f":"VLOOKUP(P421,Daten!C$6:L$115,10,FALSE)","v":{"$error":"#N/A"}},{"$f":"VLOOKUP(P421,Daten!C$6:M$115,11,FALSE)","v":{"$error":"#N/A"}},0.05,0.1,0.8,0.85]
[null,null,null,null,null,null,null,null,null,null,null,null,null,null,null,59.5,{"$f":"Q421+0.2","v":59.500000000000419},{"$f":"ROUND(R419+(R426-R419)/7*3,0)","v":{"$error":"#N/A"}},{"$error":"#N/A"},{"$error":"#N/A"},{"$f":"VLOOKUP(P422,Daten!C$6:E$115,3,FALSE)","v":{"$error":"#N/A"}},{"$f":"VLOOKUP(P422,Daten!C$6:L$115,10,FALSE)","v":{"$error":"#N/A"}},{"$f":"VLOOKUP(P422,Daten!C$6:M$115,11,FALSE)","v":{"$error":"#N/A"}},0.05,0.1,0.8,0.85]
[null,null,null,null,null,null,null,null,null,null,null,null,null,null,null,59.6,{"$f":"Q422+0.1","v":59.600000000000421},{"$f":"ROUND(R419+(R426-R419)/7*4,0)","v":{"$error":"#N/A"}},{"$error":"#N/A"},{"$error":"#N/A"},{"$f":"VLOOKUP(P423,Daten!C$6:E$115,3,FALSE)","v":{"$error":"#N/A"}},{"$f":"VLOOKUP(P423,Daten!C$6:L$115,10,FALSE)","v":{"$error":"#N/A"}},{"$f":"VLOOKUP(P423,Daten!C$6:M$115,11,FALSE)","v":{"$error":"#N/A"}},0.05,0.1,0.8,0.85]
[null,null,null,null,null,null,null,null,null,null,null,null,null,null,null,59.8,{"$f":"Q423+0.2","v":59.800000000000423},{"$f":"ROUND(R419+(R426-R419)/7*5,0)","v":{"$error":"#N/A"}},{"$error":"#N/A"},{"$error":"#N/A"},{"$f":"VLOOKUP(P424,Daten!C$6:E$115,3,FALSE)","v":{"$error":"#N/A"}},{"$f":"VLOOKUP(P424,Daten!C$6:L$115,10,FALSE)","v":{"$error":"#N/A"}},{"$f":"VLOOKUP(P424,Daten!C$6:M$115,11,FALSE)","v":{"$error":"#N/A"}},0.05,0.1,0.8,0.85]
[null,null,null,null,null,null,null,null,null,null,null,null,null,null,null,59.9,{"$f":"Q424+0.1","v":59.900000000000425},{"$f":"ROUND(R419+(R426-R419)/7*6,0)","v":{"$error":"#N/A"}},{"$error":"#N/A"},{"$error":"#N/A"},{"$f":"VLOOKUP(P425,Daten!C$6:E$115,3,FALSE)","v":{"$error":"#N/A"}},{"$f":"VLOOKUP(P425,Daten!C$6:L$115,10,FALSE)","v":{"$error":"#N/A"}},{"$f":"VLOOKUP(P425,Daten!C$6:M$115,11,FALSE)","v":{"$error":"#N/A"}},0.05,0.1,0.8,0.85]
[null,null,null,null,null,null,null,null,null,null,null,null,null,null,null,60,{"$f":"Q425+0.1","v":60.000000000000426},{"$f":"VLOOKUP(Menü!H$24,Sollgewichte!A$4:CD$13,Q426+2,FALSE)","v":{"$error":"#N/A"}},{"$error":"#N/A"},{"$error":"#N/A"},{"$f":"VLOOKUP(P426,Daten!C$6:E$115,3,FALSE)","v":{"$error":"#N/A"}},{"$f":"VLOOKUP(P426,Daten!C$6:L$115,10,FALSE)","v":{"$error":"#N/A"}},{"$f":"VLOOKUP(P426,Daten!C$6:M$115,11,FALSE)","v":{"$error":"#N/A"}},0.05,0.1,0.8,0.85]
[null,null,null,null,null,null,null,null,null,null,null,null,null,null,null,60.2,{"$f":"Q426+0.2","v":60.200000000000429},{"$f":"ROUND(R426+(R433-R426)/7,0)","v":{"$error":"#N/A"}},{"$error":"#N/A"},{"$error":"#N/A"},{"$f":"VLOOKUP(P427,Daten!C$6:E$115,3,FALSE)","v":{"$error":"#N/A"}},{"$f":"VLOOKUP(P427,Daten!C$6:L$115,10,FALSE)","v":{"$error":"#N/A"}},{"$f":"VLOOKUP(P427,Daten!C$6:M$115,11,FALSE)","v":{"$error":"#N/A"}},0.05,0.1,0.8,0.85]
[null,null,null,null,null,null,null,null,null,null,null,null,null,null,null,60.3,{"$f":"Q427+0.1","v":60.300000000000431},{"$f":"ROUND(R426+(R433-R426)/7*2,0)","v":{"$error":"#N/A"}},{"$error":"#N/A"},{"$error":"#N/A"},{"$f":"VLOOKUP(P428,Daten!C$6:E$115,3,FALSE)","v":{"$error":"#N/A"}},{"$f":"VLOOKUP(P428,Daten!C$6:L$115,10,FALSE)","v":{"$error":"#N/A"}},{"$f":"VLOOKUP(P428,Daten!C$6:M$115,11,FALSE)","v":{"$error":"#N/A"}},0.05,0.1,0.8,0.85]
[null,null,null,null,null,null,null,null,null,null,null,null,null,null,null,60.5,{"$f":"Q428+0.2","v":60.500000000000433},{"$f":"ROUND(R426+(R433-R426)/7*3,0)","v":{"$error":"#N/A"}},{"$error":"#N/A"},{"$error":"#N/A"},{"$f":"VLOOKUP(P429,Daten!C$6:E$115,3,FALSE)","v":{"$error":"#N/A"}},{"$f":"VLOOKUP(P429,Daten!C$6:L$115,10,FALSE)","v":{"$error":"#N/A"}},{"$f":"VLOOKUP(P429,Daten!C$6:M$115,11,FALSE)","v":{"$error":"#N/A"}},0.05,0.1,0.8,0.85]
[null,null,null,null,null,null,null,null,null,null,null,null,null,null,null,60.6,{"$f":"Q429+0.1","v":60.600000000000435},{"$f":"ROUND(R426+(R433-R426)/7*4,0)","v":{"$error":"#N/A"}},{"$error":"#N/A"},{"$error":"#N/A"},{"$f":"VLOOKUP(P430,Daten!C$6:E$115,3,FALSE)","v":{"$error":"#N/A"}},{"$f":"VLOOKUP(P430,Daten!C$6:L$115,10,FALSE)","v":{"$error":"#N/A"}},{"$f":"VLOOKUP(P430,Daten!C$6:M$115,11,FALSE)","v":{"$error":"#N/A"}},0.05,0.1,0.8,0.85]
[null,null,null,null,null,null,null,null,null,null,null,null,null,null,null,60.8,{"$f":"Q430+0.2","v":60.800000000000438},{"$f":"ROUND(R426+(R433-R426)/7*5,0)","v":{"$error":"#N/A"}},{"$error":"#N/A"},{"$error":"#N/A"},{"$f":"VLOOKUP(P431,Daten!C$6:E$115,3,FALSE)","v":{"$error":"#N/A"}},{"$f":"VLOOKUP(P431,Daten!C$6:L$115,10,FALSE)","v":{"$error":"#N/A"}},{"$f":"VLOOKUP(P431,Daten!C$6:M$115,11,FALSE)","v":{"$error":"#N/A"}},0.05,0.1,0.8,0.85]
[null,null,null,null,null,null,null,null,null,null,null,null,null,null,null,60.9,{"$f":"Q431+0.1","v":60.900000000000439},{"$f":"ROUND(R426+(R433-R426)/7*6,0)","v":{"$error":"#N/A"}},{"$error":"#N/A"},{"$error":"#N/A"},{"$f":"VLOOKUP(P432,Daten!C$6:E$115,3,FALSE)","v":{"$error":"#N/A"}},{"$f":"VLOOKUP(P432,Daten!C$6:L$115,10,FALSE)","v":{"$error":"#N/A"}},{"$f":"VLOOKUP(P432,Daten!C$6:M$115,11,FALSE)","v":{"$error":"#N/A"}},0.05,0.1,0.8,0.85]
[null,null,null,null,null,null,null,null,null,null,null,null,null,null,null,61,{"$f":"Q432+0.1","v":61.000000000000441},{"$f":"VLOOKUP(Menü!H$24,Sollgewichte!A$4:CD$13,Q433+2,FALSE)","v":{"$error":"#N/A"}},{"$error":"#N/A"},{"$error":"#N/A"},{"$f":"VLOOKUP(P433,Daten!C$6:E$115,3,FALSE)","v":{"$error":"#N/A"}},{"$f":"VLOOKUP(P433,Daten!C$6:L$115,10,FALSE)","v":{"$error":"#N/A"}},{"$f":"VLOOKUP(P433,Daten!C$6:M$115,11,FALSE)","v":{"$error":"#N/A"}},0.05,0.1,0.8,0.85]
[null,null,null,null,null,null,null,null,null,null,null,null,null,null,null,61.2,{"$f":"Q433+0.2","v":61.200000000000443},{"$f":"ROUND(R433+(R440-R433)/7,0)","v":{"$error":"#N/A"}},{"$error":"#N/A"},{"$error":"#N/A"},{"$f":"VLOOKUP(P434,Daten!C$6:E$115,3,FALSE)","v":{"$error":"#N/A"}},{"$f":"VLOOKUP(P434,Daten!C$6:L$115,10,FALSE)","v":{"$error":"#N/A"}},{"$f":"VLOOKUP(P434,Daten!C$6:M$115,11,FALSE)","v":{"$error":"#N/A"}},0.05,0.1,0.8,0.85]
[null,null,null,null,null,null,null,null,null,null,null,null,null,null,null,61.3,{"$f":"Q434+0.1","v":61.300000000000445},{"$f":"ROUND(R433+(R440-R433)/7*2,0)","v":{"$error":"#N/A"}},{"$error":"#N/A"},{"$error":"#N/A"},{"$f":"VLOOKUP(P435,Daten!C$6:E$115,3,FALSE)","v":{"$error":"#N/A"}},{"$f":"VLOOKUP(P435,Daten!C$6:L$115,10,FALSE)","v":{"$error":"#N/A"}},{"$f":"VLOOKUP(P435,Daten!C$6:M$115,11,FALSE)","v":{"$error":"#N/A"}},0.05,0.1,0.8,0.85]
[null,null,null,null,null,null,null,null,null,null,null,null,null,null,null,61.5,{"$f":"Q435+0.2","v":61.500000000000448},{"$f":"ROUND(R433+(R440-R433)/7*3,0)","v":{"$error":"#N/A"}},{"$error":"#N/A"},{"$error":"#N/A"},{"$f":"VLOOKUP(P436,Daten!C$6:E$115,3,FALSE)","v":{"$error":"#N/A"}},{"$f":"VLOOKUP(P436,Daten!C$6:L$115,10,FALSE)","v":{"$error":"#N/A"}},{"$f":"VLOOKUP(P436,Daten!C$6:M$115,11,FALSE)","v":{"$error":"#N/A"}},0.05,0.1,0.8,0.85]
[null,null,null,null,null,null,null,null,null,null,null,null,null,null,null,61.6,{"$f":"Q436+0.1","v":61.600000000000449},{"$f":"ROUND(R433+(R440-R433)/7*4,0)","v":{"$error":"#N/A"}},{"$error":"#N/A"},{"$error":"#N/A"},{"$f":"VLOOKUP(P437,Daten!C$6:E$115,3,FALSE)","v":{"$error":"#N/A"}},{"$f":"VLOOKUP(P437,Daten!C$6:L$115,10,FALSE)","v":{"$error":"#N/A"}},{"$f":"VLOOKUP(P437,Daten!C$6:M$115,11,FALSE)","v":{"$error":"#N/A"}},0.05,0.1,0.8,0.85]
[null,null,null,null,null,null,null,null,null,null,null,null,null,null,null,61.8,{"$f":"Q437+0.2","v":61.800000000000452},{"$f":"ROUND(R433+(R440-R433)/7*5,0)","v":{"$error":"#N/A"}},{"$error":"#N/A"},{"$error":"#N/A"},{"$f":"VLOOKUP(P438,Daten!C$6:E$115,3,FALSE)","v":{"$error":"#N/A"}},{"$f":"VLOOKUP(P438,Daten!C$6:L$115,10,FALSE)","v":{"$error":"#N/A"}},{"$f":"VLOOKUP(P438,Daten!C$6:M$115,11,FALSE)","v":{"$error":"#N/A"}},0.05,0.1,0.8,0.85]
[null,null,null,null,null,null,null,null,null,null,null,null,null,null,null,61.9,{"$f":"Q438+0.1","v":61.900000000000453},{"$f":"ROUND(R433+(R440-R433)/7*6,0)","v":{"$error":"#N/A"}},{"$error":"#N/A"},{"$error":"#N/A"},{"$f":"VLOOKUP(P439,Daten!C$6:E$115,3,FALSE)","v":{"$error":"#N/A"}},{"$f":"VLOOKUP(P439,Daten!C$6:L$115,10,FALSE)","v":{"$error":"#N/A"}},{"$f":"VLOOKUP(P439,Daten!C$6:M$115,11,FALSE)","v":{"$error":"#N/A"}},0.05,0.1,0.8,0.85]
[null,null,null,null,null,null,null,null,null,null,null,null,null,null,null,62,{"$f":"Q439+0.1","v":62.000000000000455},{"$f":"VLOOKUP(Menü!H$24,Sollgewichte!A$4:CD$13,Q440+2,FALSE)","v":{"$error":"#N/A"}},{"$error":"#N/A"},{"$error":"#N/A"},{"$f":"VLOOKUP(P440,Daten!C$6:E$115,3,FALSE)","v":{"$error":"#N/A"}},{"$f":"VLOOKUP(P440,Daten!C$6:L$115,10,FALSE)","v":{"$error":"#N/A"}},{"$f":"VLOOKUP(P440,Daten!C$6:M$115,11,FALSE)","v":{"$error":"#N/A"}},0.05,0.1,0.8,0.85]
[null,null,null,null,null,null,null,null,null,null,null,null,null,null,null,62.2,{"$f":"Q440+0.2","v":62.200000000000458},{"$f":"ROUND(R440+(R447-R440)/7,0)","v":{"$error":"#N/A"}},{"$error":"#N/A"},{"$error":"#N/A"},{"$f":"VLOOKUP(P441,Daten!C$6:E$115,3,FALSE)","v":{"$error":"#N/A"}},{"$f":"VLOOKUP(P441,Daten!C$6:L$115,10,FALSE)","v":{"$error":"#N/A"}},{"$f":"VLOOKUP(P441,Daten!C$6:M$115,11,FALSE)","v":{"$error":"#N/A"}},0.05,0.1,0.8,0.85]
[null,null,null,null,null,null,null,null,null,null,null,null,null,null,null,62.3,{"$f":"Q441+0.1","v":62.300000000000459},{"$f":"ROUND(R440+(R447-R440)/7*2,0)","v":{"$error":"#N/A"}},{"$error":"#N/A"},{"$error":"#N/A"},{"$f":"VLOOKUP(P442,Daten!C$6:E$115,3,FALSE)","v":{"$error":"#N/A"}},{"$f":"VLOOKUP(P442,Daten!C$6:L$115,10,FALSE)","v":{"$error":"#N/A"}},{"$f":"VLOOKUP(P442,Daten!C$6:M$115,11,FALSE)","v":{"$error":"#N/A"}},0.05,0.1,0.8,0.85]
[null,null,null,null,null,null,null,null,null,null,null,null,null,null,null,62.5,{"$f":"Q442+0.2","v":62.500000000000462},{"$f":"ROUND(R440+(R447-R440)/7*3,0)","v":{"$error":"#N/A"}},{"$error":"#N/A"},{"$error":"#N/A"},{"$f":"VLOOKUP(P443,Daten!C$6:E$115,3,FALSE)","v":{"$error":"#N/A"}},{"$f":"VLOOKUP(P443,Daten!C$6:L$115,10,FALSE)","v":{"$error":"#N/A"}},{"$f":"VLOOKUP(P443,Daten!C$6:M$115,11,FALSE)","v":{"$error":"#N/A"}},0.05,0.1,0.8,0.85]
[null,null,null,null,null,null,null,null,null,null,null,null,null,null,null,62.6,{"$f":"Q443+0.1","v":62.600000000000463},{"$f":"ROUND(R440+(R447-R440)/7*4,0)","v":{"$error":"#N/A"}},{"$error":"#N/A"},{"$error":"#N/A"},{"$f":"VLOOKUP(P444,Daten!C$6:E$115,3,FALSE)","v":{"$error":"#N/A"}},{"$f":"VLOOKUP(P444,Daten!C$6:L$115,10,FALSE)","v":{"$error":"#N/A"}},{"$f":"VLOOKUP(P444,Daten!C$6:M$115,11,FALSE)","v":{"$error":"#N/A"}},0.05,0.1,0.8,0.85]
[null,null,null,null,null,null,null,null,null,null,null,null,null,null,null,62.8,{"$f":"Q444+0.2","v":62.800000000000466},{"$f":"ROUND(R440+(R447-R440)/7*5,0)","v":{"$error":"#N/A"}},{"$error":"#N/A"},{"$error":"#N/A"},{"$f":"VLOOKUP(P445,Daten!C$6:E$115,3,FALSE)","v":{"$error":"#N/A"}},{"$f":"VLOOKUP(P445,Daten!C$6:L$115,10,FALSE)","v":{"$error":"#N/A"}},{"$f":"VLOOKUP(P445,Daten!C$6:M$115,11,FALSE)","v":{"$error":"#N/A"}},0.05,0.1,0.8,0.85]
[null,null,null,null,null,null,null,null,null,null,null,null,null,null,null,62.9,{"$f":"Q445+0.1","v":62.900000000000468},{"$f":"ROUND(R440+(R447-R440)/7*6,0)","v":{"$error":"#N/A"}},{"$error":"#N/A"},{"$error":"#N/A"},{"$f":"VLOOKUP(P446,Daten!C$6:E$115,3,FALSE)","v":{"$error":"#N/A"}},{"$f":"VLOOKUP(P446,Daten!C$6:L$115,10,FALSE)","v":{"$error":"#N/A"}},{"$f":"VLOOKUP(P446,Daten!C$6:M$115,11,FALSE)","v":{"$error":"#N/A"}},0.05,0.1,0.8,0.85]
[null,null,null,null,null,null,null,null,null,null,null,null,null,null,null,63,{"$f":"Q446+0.1","v":63.000000000000469},{"$f":"VLOOKUP(Menü!H$24,Sollgewichte!A$4:CD$13,Q447+2,FALSE)","v":{"$error":"#N/A"}},{"$error":"#N/A"},{"$error":"#N/A"},{"$f":"VLOOKUP(P447,Daten!C$6:E$115,3,FALSE)","v":{"$error":"#N/A"}},{"$f":"VLOOKUP(P447,Daten!C$6:L$115,10,FALSE)","v":{"$error":"#N/A"}},{"$f":"VLOOKUP(P447,Daten!C$6:M$115,11,FALSE)","v":{"$error":"#N/A"}},0.05,0.1,0.8,0.85]
[null,null,null,null,null,null,null,null,null,null,null,null,null,null,null,63.2,{"$f":"Q447+0.2","v":63.200000000000472},{"$f":"ROUND(R447+(R454-R447)/7,0)","v":{"$error":"#N/A"}},{"$error":"#N/A"},{"$error":"#N/A"},{"$f":"VLOOKUP(P448,Daten!C$6:E$115,3,FALSE)","v":{"$error":"#N/A"}},{"$f":"VLOOKUP(P448,Daten!C$6:L$115,10,FALSE)","v":{"$error":"#N/A"}},{"$f":"VLOOKUP(P448,Daten!C$6:M$115,11,FALSE)","v":{"$error":"#N/A"}},0.05,0.1,0.8,0.85]
[null,null,null,null,null,null,null,null,null,null,null,null,null,null,null,63.3,{"$f":"Q448+0.1","v":63.300000000000473},{"$f":"ROUND(R447+(R454-R447)/7*2,0)","v":{"$error":"#N/A"}},{"$error":"#N/A"},{"$error":"#N/A"},{"$f":"VLOOKUP(P449,Daten!C$6:E$115,3,FALSE)","v":{"$error":"#N/A"}},{"$f":"VLOOKUP(P449,Daten!C$6:L$115,10,FALSE)","v":{"$error":"#N/A"}},{"$f":"VLOOKUP(P449,Daten!C$6:M$115,11,FALSE)","v":{"$error":"#N/A"}},0.05,0.1,0.8,0.85]
[null,null,null,null,null,null,null,null,null,null,null,null,null,null,null,63.5,{"$f":"Q449+0.2","v":63.500000000000476},{"$f":"ROUND(R447+(R454-R447)/7*3,0)","v":{"$error":"#N/A"}},{"$error":"#N/A"},{"$error":"#N/A"},{"$f":"VLOOKUP(P450,Daten!C$6:E$115,3,FALSE)","v":{"$error":"#N/A"}},{"$f":"VLOOKUP(P450,Daten!C$6:L$115,10,FALSE)","v":{"$error":"#N/A"}},{"$f":"VLOOKUP(P450,Daten!C$6:M$115,11,FALSE)","v":{"$error":"#N/A"}},0.05,0.1,0.8,0.85]
[null,null,null,null,null,null,null,null,null,null,null,null,null,null,null,63.6,{"$f":"Q450+0.1","v":63.600000000000477},{"$f":"ROUND(R447+(R454-R447)/7*4,0)","v":{"$error":"#N/A"}},{"$error":"#N/A"},{"$error":"#N/A"},{"$f":"VLOOKUP(P451,Daten!C$6:E$115,3,FALSE)","v":{"$error":"#N/A"}},{"$f":"VLOOKUP(P451,Daten!C$6:L$115,10,FALSE)","v":{"$error":"#N/A"}},{"$f":"VLOOKUP(P451,Daten!C$6:M$115,11,FALSE)","v":{"$error":"#N/A"}},0.05,0.1,0.8,0.85]
[null,null,null,null,null,null,null,null,null,null,null,null,null,null,null,63.8,{"$f":"Q451+0.2","v":63.80000000000048},{"$f":"ROUND(R447+(R454-R447)/7*5,0)","v":{"$error":"#N/A"}},{"$error":"#N/A"},{"$error":"#N/A"},{"$f":"VLOOKUP(P452,Daten!C$6:E$115,3,FALSE)","v":{"$error":"#N/A"}},{"$f":"VLOOKUP(P452,Daten!C$6:L$115,10,FALSE)","v":{"$error":"#N/A"}},{"$f":"VLOOKUP(P452,Daten!C$6:M$115,11,FALSE)","v":{"$error":"#N/A"}},0.05,0.1,0.8,0.85]
[null,null,null,null,null,null,null,null,null,null,null,null,null,null,null,63.9,{"$f":"Q452+0.1","v":63.900000000000482},{"$f":"ROUND(R447+(R454-R447)/7*6,0)","v":{"$error":"#N/A"}},{"$error":"#N/A"},{"$error":"#N/A"},{"$f":"VLOOKUP(P453,Daten!C$6:E$115,3,FALSE)","v":{"$error":"#N/A"}},{"$f":"VLOOKUP(P453,Daten!C$6:L$115,10,FALSE)","v":{"$error":"#N/A"}},{"$f":"VLOOKUP(P453,Daten!C$6:M$115,11,FALSE)","v":{"$error":"#N/A"}},0.05,0.1,0.8,0.85]
[null,null,null,null,null,null,null,null,null,null,null,null,null,null,null,64,{"$f":"Q453+0.1","v":64.000000000000483},{"$f":"VLOOKUP(Menü!H$24,Sollgewichte!A$4:CD$13,Q454+2,FALSE)","v":{"$error":"#N/A"}},{"$error":"#N/A"},{"$error":"#N/A"},{"$f":"VLOOKUP(P454,Daten!C$6:E$115,3,FALSE)","v":{"$error":"#N/A"}},{"$f":"VLOOKUP(P454,Daten!C$6:L$115,10,FALSE)","v":{"$error":"#N/A"}},{"$f":"VLOOKUP(P454,Daten!C$6:M$115,11,FALSE)","v":{"$error":"#N/A"}},0.05,0.1,0.8,0.85]
[null,null,null,null,null,null,null,null,null,null,null,null,null,null,null,{"$f":"ROUND(Q455,1)","v":64.2},{"$f":"Q454+0.2","v":64.200000000000486},{"$f":"ROUND(R454+(R461-R454)/7,0)","v":{"$error":"#N/A"}},{"$f":"R455*0.95","v":{"$error":"#N/A"}},{"$f":"R455","v":{"$error":"#N/A"}},{"$f":"VLOOKUP(P455,Daten!C$6:E$115,3,FALSE)","v":{"$error":"#N/A"}},{"$f":"VLOOKUP(P455,Daten!C$6:L$115,10,FALSE)","v":{"$error":"#N/A"}},{"$f":"VLOOKUP(P455,Daten!C$6:M$115,11,FALSE)","v":{"$error":"#N/A"}},0.05,0.1,0.8,0.85]
[null,null,null,null,null,null,null,null,null,null,null,null,null,null,null,64.3,{"$f":"Q455+0.1","v":64.30000000000048},{"$f":"ROUND(R454+(R461-R454)/7*2,0)","v":{"$error":"#N/A"}},{"$error":"#N/A"},{"$error":"#N/A"},{"$f":"VLOOKUP(P456,Daten!C$6:E$115,3,FALSE)","v":{"$error":"#N/A"}},{"$f":"VLOOKUP(P456,Daten!C$6:L$115,10,FALSE)","v":{"$error":"#N/A"}},{"$f":"VLOOKUP(P456,Daten!C$6:M$115,11,FALSE)","v":{"$error":"#N/A"}},0.05,0.1,0.8,0.85]
[null,null,null,null,null,null,null,null,null,null,null,null,null,null,null,64.5,{"$f":"Q456+0.2","v":64.500000000000483},{"$f":"ROUND(R454+(R461-R454)/7*3,0)","v":{"$error":"#N/A"}},{"$error":"#N/A"},{"$error":"#N/A"},{"$f":"VLOOKUP(P457,Daten!C$6:E$115,3,FALSE)","v":{"$error":"#N/A"}},{"$f":"VLOOKUP(P457,Daten!C$6:L$115,10,FALSE)","v":{"$error":"#N/A"}},{"$f":"VLOOKUP(P457,Daten!C$6:M$115,11,FALSE)","v":{"$error":"#N/A"}},0.05,0.1,0.8,0.85]
[null,null,null,null,null,null,null,null,null,null,null,null,null,null,null,64.599999999999994,{"$f":"Q457+0.1","v":64.600000000000477},{"$f":"ROUND(R454+(R461-R454)/7*4,0)","v":{"$error":"#N/A"}},{"$error":"#N/A"},{"$error":"#N/A"},{"$f":"VLOOKUP(P458,Daten!C$6:E$115,3,FALSE)","v":{"$error":"#N/A"}},{"$f":"VLOOKUP(P458,Daten!C$6:L$115,10,FALSE)","v":{"$error":"#N/A"}},{"$f":"VLOOKUP(P458,Daten!C$6:M$115,11,FALSE)","v":{"$error":"#N/A"}},0.05,0.1,0.8,0.85]
[null,null,null,null,null,null,null,null,null,null,null,null,null,null,null,64.8,{"$f":"Q458+0.2","v":64.80000000000048},{"$f":"ROUND(R454+(R461-R454)/7*5,0)","v":{"$error":"#N/A"}},{"$error":"#N/A"},{"$error":"#N/A"},{"$f":"VLOOKUP(P459,Daten!C$6:E$115,3,FALSE)","v":{"$error":"#N/A"}},{"$f":"VLOOKUP(P459,Daten!C$6:L$115,10,FALSE)","v":{"$error":"#N/A"}},{"$f":"VLOOKUP(P459,Daten!C$6:M$115,11,FALSE)","v":{"$error":"#N/A"}},0.05,0.1,0.8,0.85]
[null,null,null,null,null,null,null,null,null,null,null,null,null,null,null,64.900000000000006,{"$f":"Q459+0.1","v":64.900000000000475},{"$f":"ROUND(R454+(R461-R454)/7*6,0)","v":{"$error":"#N/A"}},{"$error":"#N/A"},{"$error":"#N/A"},{"$f":"VLOOKUP(P460,Daten!C$6:E$115,3,FALSE)","v":{"$error":"#N/A"}},{"$f":"VLOOKUP(P460,Daten!C$6:L$115,10,FALSE)","v":{"$error":"#N/A"}},{"$f":"VLOOKUP(P460,Daten!C$6:M$115,11,FALSE)","v":{"$error":"#N/A"}},0.05,0.1,0.8,0.85]
[null,null,null,null,null,null,null,null,null,null,null,null,null,null,null,65,{"$f":"Q460+0.1","v":65.000000000000469},{"$f":"VLOOKUP(Menü!H$24,Sollgewichte!A$4:CD$13,Q461+2,FALSE)","v":{"$error":"#N/A"}},{"$error":"#N/A"},{"$error":"#N/A"},{"$f":"VLOOKUP(P461,Daten!C$6:E$115,3,FALSE)","v":{"$error":"#N/A"}},{"$f":"VLOOKUP(P461,Daten!C$6:L$115,10,FALSE)","v":{"$error":"#N/A"}},{"$f":"VLOOKUP(P461,Daten!C$6:M$115,11,FALSE)","v":{"$error":"#N/A"}},0.05,0.1,0.8,0.85]
[null,null,null,null,null,null,null,null,null,null,null,null,null,null,null,65.2,{"$f":"Q461+0.2","v":65.200000000000472},{"$f":"ROUND(R461+(R468-R461)/7,0)","v":{"$error":"#N/A"}},{"$error":"#N/A"},{"$error":"#N/A"},{"$f":"VLOOKUP(P462,Daten!C$6:E$115,3,FALSE)","v":{"$error":"#N/A"}},{"$f":"VLOOKUP(P462,Daten!C$6:L$115,10,FALSE)","v":{"$error":"#N/A"}},{"$f":"VLOOKUP(P462,Daten!C$6:M$115,11,FALSE)","v":{"$error":"#N/A"}},0.05,0.1,0.8,0.85]
[null,null,null,null,null,null,null,null,null,null,null,null,null,null,null,65.3,{"$f":"Q462+0.1","v":65.300000000000466},{"$f":"ROUND(R461+(R468-R461)/7*2,0)","v":{"$error":"#N/A"}},{"$error":"#N/A"},{"$error":"#N/A"},{"$f":"VLOOKUP(P463,Daten!C$6:E$115,3,FALSE)","v":{"$error":"#N/A"}},{"$f":"VLOOKUP(P463,Daten!C$6:L$115,10,FALSE)","v":{"$error":"#N/A"}},{"$f":"VLOOKUP(P463,Daten!C$6:M$115,11,FALSE)","v":{"$error":"#N/A"}},0.05,0.1,0.8,0.85]
[null,null,null,null,null,null,null,null,null,null,null,null,null,null,null,65.5,{"$f":"Q463+0.2","v":65.500000000000469},{"$f":"ROUND(R461+(R468-R461)/7*3,0)","v":{"$error":"#N/A"}},{"$error":"#N/A"},{"$error":"#N/A"},{"$f":"VLOOKUP(P464,Daten!C$6:E$115,3,FALSE)","v":{"$error":"#N/A"}},{"$f":"VLOOKUP(P464,Daten!C$6:L$115,10,FALSE)","v":{"$error":"#N/A"}},{"$f":"VLOOKUP(P464,Daten!C$6:M$115,11,FALSE)","v":{"$error":"#N/A"}},0.05,0.1,0.8,0.85]
[null,null,null,null,null,null,null,null,null,null,null,null,null,null,null,65.599999999999994,{"$f":"Q464+0.1","v":65.600000000000463},{"$f":"ROUND(R461+(R468-R461)/7*4,0)","v":{"$error":"#N/A"}},{"$error":"#N/A"},{"$error":"#N/A"},{"$f":"VLOOKUP(P465,Daten!C$6:E$115,3,FALSE)","v":{"$error":"#N/A"}},{"$f":"VLOOKUP(P465,Daten!C$6:L$115,10,FALSE)","v":{"$error":"#N/A"}},{"$f":"VLOOKUP(P465,Daten!C$6:M$115,11,FALSE)","v":{"$error":"#N/A"}},0.05,0.1,0.8,0.85]
[null,null,null,null,null,null,null,null,null,null,null,null,null,null,null,65.8,{"$f":"Q465+0.2","v":65.800000000000466},{"$f":"ROUND(R461+(R468-R461)/7*5,0)","v":{"$error":"#N/A"}},{"$error":"#N/A"},{"$error":"#N/A"},{"$f":"VLOOKUP(P466,Daten!C$6:E$115,3,FALSE)","v":{"$error":"#N/A"}},{"$f":"VLOOKUP(P466,Daten!C$6:L$115,10,FALSE)","v":{"$error":"#N/A"}},{"$f":"VLOOKUP(P466,Daten!C$6:M$115,11,FALSE)","v":{"$error":"#N/A"}},0.05,0.1,0.8,0.85]
[null,null,null,null,null,null,null,null,null,null,null,null,null,null,null,65.900000000000006,{"$f":"Q466+0.1","v":65.90000000000046},{"$f":"ROUND(R461+(R468-R461)/7*6,0)","v":{"$error":"#N/A"}},{"$error":"#N/A"},{"$error":"#N/A"},{"$f":"VLOOKUP(P467,Daten!C$6:E$115,3,FALSE)","v":{"$error":"#N/A"}},{"$f":"VLOOKUP(P467,Daten!C$6:L$115,10,FALSE)","v":{"$error":"#N/A"}},{"$f":"VLOOKUP(P467,Daten!C$6:M$115,11,FALSE)","v":{"$error":"#N/A"}},0.05,0.1,0.8,0.85]
[null,null,null,null,null,null,null,null,null,null,null,null,null,null,null,66,{"$f":"Q467+0.1","v":66.000000000000455},{"$f":"VLOOKUP(Menü!H$24,Sollgewichte!A$4:CD$13,Q468+2,FALSE)","v":{"$error":"#N/A"}},{"$error":"#N/A"},{"$error":"#N/A"},{"$f":"VLOOKUP(P468,Daten!C$6:E$115,3,FALSE)","v":{"$error":"#N/A"}},{"$f":"VLOOKUP(P468,Daten!C$6:L$115,10,FALSE)","v":{"$error":"#N/A"}},{"$f":"VLOOKUP(P468,Daten!C$6:M$115,11,FALSE)","v":{"$error":"#N/A"}},0.05,0.1,0.8,0.85]
[null,null,null,null,null,null,null,null,null,null,null,null,null,null,null,66.2,{"$f":"Q468+0.2","v":66.200000000000458},{"$f":"ROUND(R468+(R475-R468)/7,0)","v":{"$error":"#N/A"}},{"$error":"#N/A"},{"$error":"#N/A"},{"$f":"VLOOKUP(P469,Daten!C$6:E$115,3,FALSE)","v":{"$error":"#N/A"}},{"$f":"VLOOKUP(P469,Daten!C$6:L$115,10,FALSE)","v":{"$error":"#N/A"}},{"$f":"VLOOKUP(P469,Daten!C$6:M$115,11,FALSE)","v":{"$error":"#N/A"}},0.05,0.1,0.8,0.85]
[null,null,null,null,null,null,null,null,null,null,null,null,null,null,null,66.3,{"$f":"Q469+0.1","v":66.300000000000452},{"$f":"ROUND(R468+(R475-R468)/7*2,0)","v":{"$error":"#N/A"}},{"$error":"#N/A"},{"$error":"#N/A"},{"$f":"VLOOKUP(P470,Daten!C$6:E$115,3,FALSE)","v":{"$error":"#N/A"}},{"$f":"VLOOKUP(P470,Daten!C$6:L$115,10,FALSE)","v":{"$error":"#N/A"}},{"$f":"VLOOKUP(P470,Daten!C$6:M$115,11,FALSE)","v":{"$error":"#N/A"}},0.05,0.1,0.8,0.85]
[null,null,null,null,null,null,null,null,null,null,null,null,null,null,null,66.5,{"$f":"Q470+0.2","v":66.500000000000455},{"$f":"ROUND(R468+(R475-R468)/7*3,0)","v":{"$error":"#N/A"}},{"$error":"#N/A"},{"$error":"#N/A"},{"$f":"VLOOKUP(P471,Daten!C$6:E$115,3,FALSE)","v":{"$error":"#N/A"}},{"$f":"VLOOKUP(P471,Daten!C$6:L$115,10,FALSE)","v":{"$error":"#N/A"}},{"$f":"VLOOKUP(P471,Daten!C$6:M$115,11,FALSE)","v":{"$error":"#N/A"}},0.05,0.1,0.8,0.85]
[null,null,null,null,null,null,null,null,null,null,null,null,null,null,null,66.599999999999994,{"$f":"Q471+0.1","v":66.600000000000449},{"$f":"ROUND(R468+(R475-R468)/7*4,0)","v":{"$error":"#N/A"}},{"$error":"#N/A"},{"$error":"#N/A"},{"$f":"VLOOKUP(P472,Daten!C$6:E$115,3,FALSE)","v":{"$error":"#N/A"}},{"$f":"VLOOKUP(P472,Daten!C$6:L$115,10,FALSE)","v":{"$error":"#N/A"}},{"$f":"VLOOKUP(P472,Daten!C$6:M$115,11,FALSE)","v":{"$error":"#N/A"}},0.05,0.1,0.8,0.85]
[null,null,null,null,null,null,null,null,null,null,null,null,null,null,null,66.8,{"$f":"Q472+0.2","v":66.800000000000452},{"$f":"ROUND(R468+(R475-R468)/7*5,0)","v":{"$error":"#N/A"}},{"$error":"#N/A"},{"$error":"#N/A"},{"$f":"VLOOKUP(P473,Daten!C$6:E$115,3,FALSE)","v":{"$error":"#N/A"}},{"$f":"VLOOKUP(P473,Daten!C$6:L$115,10,FALSE)","v":{"$error":"#N/A"}},{"$f":"VLOOKUP(P473,Daten!C$6:M$115,11,FALSE)","v":{"$error":"#N/A"}},0.05,0.1,0.8,0.85]
[null,null,null,null,null,null,null,null,null,null,null,null,null,null,null,66.900000000000006,{"$f":"Q473+0.1","v":66.900000000000446},{"$f":"ROUND(R468+(R475-R468)/7*6,0)","v":{"$error":"#N/A"}},{"$error":"#N/A"},{"$error":"#N/A"},{"$f":"VLOOKUP(P474,Daten!C$6:E$115,3,FALSE)","v":{"$error":"#N/A"}},{"$f":"VLOOKUP(P474,Daten!C$6:L$115,10,FALSE)","v":{"$error":"#N/A"}},{"$f":"VLOOKUP(P474,Daten!C$6:M$115,11,FALSE)","v":{"$error":"#N/A"}},0.05,0.1,0.8,0.85]
[null,null,null,null,null,null,null,null,null,null,null,null,null,null,null,67,{"$f":"Q474+0.1","v":67.000000000000441},{"$f":"VLOOKUP(Menü!H$24,Sollgewichte!A$4:CD$13,Q475+2,FALSE)","v":{"$error":"#N/A"}},{"$error":"#N/A"},{"$error":"#N/A"},{"$f":"VLOOKUP(P475,Daten!C$6:E$115,3,FALSE)","v":{"$error":"#N/A"}},{"$f":"VLOOKUP(P475,Daten!C$6:L$115,10,FALSE)","v":{"$error":"#N/A"}},{"$f":"VLOOKUP(P475,Daten!C$6:M$115,11,FALSE)","v":{"$error":"#N/A"}},0.05,0.1,0.8,0.85]
[null,null,null,null,null,null,null,null,null,null,null,null,null,null,null,67.2,{"$f":"Q475+0.2","v":67.200000000000443},{"$f":"ROUND(R475+(R482-R475)/7,0)","v":{"$error":"#N/A"}},{"$error":"#N/A"},{"$error":"#N/A"},{"$f":"VLOOKUP(P476,Daten!C$6:E$115,3,FALSE)","v":{"$error":"#N/A"}},{"$f":"VLOOKUP(P476,Daten!C$6:L$115,10,FALSE)","v":{"$error":"#N/A"}},{"$f":"VLOOKUP(P476,Daten!C$6:M$115,11,FALSE)","v":{"$error":"#N/A"}},0.05,0.1,0.8,0.85]
[null,null,null,null,null,null,null,null,null,null,null,null,null,null,null,67.3,{"$f":"Q476+0.1","v":67.300000000000438},{"$f":"ROUND(R475+(R482-R475)/7*2,0)","v":{"$error":"#N/A"}},{"$error":"#N/A"},{"$error":"#N/A"},{"$f":"VLOOKUP(P477,Daten!C$6:E$115,3,FALSE)","v":{"$error":"#N/A"}},{"$f":"VLOOKUP(P477,Daten!C$6:L$115,10,FALSE)","v":{"$error":"#N/A"}},{"$f":"VLOOKUP(P477,Daten!C$6:M$115,11,FALSE)","v":{"$error":"#N/A"}},0.05,0.1,0.8,0.85]
[null,null,null,null,null,null,null,null,null,null,null,null,null,null,null,67.5,{"$f":"Q477+0.2","v":67.500000000000441},{"$f":"ROUND(R475+(R482-R475)/7*3,0)","v":{"$error":"#N/A"}},{"$error":"#N/A"},{"$error":"#N/A"},{"$f":"VLOOKUP(P478,Daten!C$6:E$115,3,FALSE)","v":{"$error":"#N/A"}},{"$f":"VLOOKUP(P478,Daten!C$6:L$115,10,FALSE)","v":{"$error":"#N/A"}},{"$f":"VLOOKUP(P478,Daten!C$6:M$115,11,FALSE)","v":{"$error":"#N/A"}},0.05,0.1,0.8,0.85]
[null,null,null,null,null,null,null,null,null,null,null,null,null,null,null,67.599999999999994,{"$f":"Q478+0.1","v":67.600000000000435},{"$f":"ROUND(R475+(R482-R475)/7*4,0)","v":{"$error":"#N/A"}},{"$error":"#N/A"},{"$error":"#N/A"},{"$f":"VLOOKUP(P479,Daten!C$6:E$115,3,FALSE)","v":{"$error":"#N/A"}},{"$f":"VLOOKUP(P479,Daten!C$6:L$115,10,FALSE)","v":{"$error":"#N/A"}},{"$f":"VLOOKUP(P479,Daten!C$6:M$115,11,FALSE)","v":{"$error":"#N/A"}},0.05,0.1,0.8,0.85]
[null,null,null,null,null,null,null,null,null,null,null,null,null,null,null,67.8,{"$f":"Q479+0.2","v":67.800000000000438},{"$f":"ROUND(R475+(R482-R475)/7*5,0)","v":{"$error":"#N/A"}},{"$error":"#N/A"},{"$error":"#N/A"},{"$f":"VLOOKUP(P480,Daten!C$6:E$115,3,FALSE)","v":{"$error":"#N/A"}},{"$f":"VLOOKUP(P480,Daten!C$6:L$115,10,FALSE)","v":{"$error":"#N/A"}},{"$f":"VLOOKUP(P480,Daten!C$6:M$115,11,FALSE)","v":{"$error":"#N/A"}},0.05,0.1,0.8,0.85]
[null,null,null,null,null,null,null,null,null,null,null,null,null,null,null,67.900000000000006,{"$f":"Q480+0.1","v":67.900000000000432},{"$f":"ROUND(R475+(R482-R475)/7*6,0)","v":{"$error":"#N/A"}},{"$error":"#N/A"},{"$error":"#N/A"},{"$f":"VLOOKUP(P481,Daten!C$6:E$115,3,FALSE)","v":{"$error":"#N/A"}},{"$f":"VLOOKUP(P481,Daten!C$6:L$115,10,FALSE)","v":{"$error":"#N/A"}},{"$f":"VLOOKUP(P481,Daten!C$6:M$115,11,FALSE)","v":{"$error":"#N/A"}},0.05,0.1,0.8,0.85]
[null,null,null,null,null,null,null,null,null,null,null,null,null,null,null,68,{"$f":"Q481+0.1","v":68.000000000000426},{"$f":"VLOOKUP(Menü!H$24,Sollgewichte!A$4:CD$13,Q482+2,FALSE)","v":{"$error":"#N/A"}},{"$error":"#N/A"},{"$error":"#N/A"},{"$f":"VLOOKUP(P482,Daten!C$6:E$115,3,FALSE)","v":{"$error":"#N/A"}},{"$f":"VLOOKUP(P482,Daten!C$6:L$115,10,FALSE)","v":{"$error":"#N/A"}},{"$f":"VLOOKUP(P482,Daten!C$6:M$115,11,FALSE)","v":{"$error":"#N/A"}},0.05,0.1,0.8,0.85]
[null,null,null,null,null,null,null,null,null,null,null,null,null,null,null,68.2,{"$f":"Q482+0.2","v":68.200000000000429},{"$f":"ROUND(R482+(R489-R482)/7,0)","v":{"$error":"#N/A"}},{"$error":"#N/A"},{"$error":"#N/A"},{"$f":"VLOOKUP(P483,Daten!C$6:E$115,3,FALSE)","v":{"$error":"#N/A"}},{"$f":"VLOOKUP(P483,Daten!C$6:L$115,10,FALSE)","v":{"$error":"#N/A"}},{"$f":"VLOOKUP(P483,Daten!C$6:M$115,11,FALSE)","v":{"$error":"#N/A"}},0.05,0.1,0.8,0.85]
[null,null,null,null,null,null,null,null,null,null,null,null,null,null,null,68.3,{"$f":"Q483+0.1","v":68.300000000000423},{"$f":"ROUND(R482+(R489-R482)/7*2,0)","v":{"$error":"#N/A"}},{"$error":"#N/A"},{"$error":"#N/A"},{"$f":"VLOOKUP(P484,Daten!C$6:E$115,3,FALSE)","v":{"$error":"#N/A"}},{"$f":"VLOOKUP(P484,Daten!C$6:L$115,10,FALSE)","v":{"$error":"#N/A"}},{"$f":"VLOOKUP(P484,Daten!C$6:M$115,11,FALSE)","v":{"$error":"#N/A"}},0.05,0.1,0.8,0.85]
[null,null,null,null,null,null,null,null,null,null,null,null,null,null,null,68.5,{"$f":"Q484+0.2","v":68.500000000000426},{"$f":"ROUND(R482+(R489-R482)/7*3,0)","v":{"$error":"#N/A"}},{"$error":"#N/A"},{"$error":"#N/A"},{"$f":"VLOOKUP(P485,Daten!C$6:E$115,3,FALSE)","v":{"$error":"#N/A"}},{"$f":"VLOOKUP(P485,Daten!C$6:L$115,10,FALSE)","v":{"$error":"#N/A"}},{"$f":"VLOOKUP(P485,Daten!C$6:M$115,11,FALSE)","v":{"$error":"#N/A"}},0.05,0.1,0.8,0.85]
[null,null,null,null,null,null,null,null,null,null,null,null,null,null,null,68.599999999999994,{"$f":"Q485+0.1","v":68.600000000000421},{"$f":"ROUND(R482+(R489-R482)/7*4,0)","v":{"$error":"#N/A"}},{"$error":"#N/A"},{"$error":"#N/A"},{"$f":"VLOOKUP(P486,Daten!C$6:E$115,3,FALSE)","v":{"$error":"#N/A"}},{"$f":"VLOOKUP(P486,Daten!C$6:L$115,10,FALSE)","v":{"$error":"#N/A"}},{"$f":"VLOOKUP(P486,Daten!C$6:M$115,11,FALSE)","v":{"$error":"#N/A"}},0.05,0.1,0.8,0.85]
[null,null,null,null,null,null,null,null,null,null,null,null,null,null,null,68.8,{"$f":"Q486+0.2","v":68.800000000000423},{"$f":"ROUND(R482+(R489-R482)/7*5,0)","v":{"$error":"#N/A"}},{"$error":"#N/A"},{"$error":"#N/A"},{"$f":"VLOOKUP(P487,Daten!C$6:E$115,3,FALSE)","v":{"$error":"#N/A"}},{"$f":"VLOOKUP(P487,Daten!C$6:L$115,10,FALSE)","v":{"$error":"#N/A"}},{"$f":"VLOOKUP(P487,Daten!C$6:M$115,11,FALSE)","v":{"$error":"#N/A"}},0.05,0.1,0.8,0.85]
[null,null,null,null,null,null,null,null,null,null,null,null,null,null,null,68.900000000000006,{"$f":"Q487+0.1","v":68.900000000000418},{"$f":"ROUND(R482+(R489-R482)/7*6,0)","v":{"$error":"#N/A"}},{"$error":"#N/A"},{"$error":"#N/A"},{"$f":"VLOOKUP(P488,Daten!C$6:E$115,3,FALSE)","v":{"$error":"#N/A"}},{"$f":"VLOOKUP(P488,Daten!C$6:L$115,10,FALSE)","v":{"$error":"#N/A"}},{"$f":"VLOOKUP(P488,Daten!C$6:M$115,11,FALSE)","v":{"$error":"#N/A"}},0.05,0.1,0.8,0.85]
[null,null,null,null,null,null,null,null,null,null,null,null,null,null,null,69,{"$f":"Q488+0.1","v":69.000000000000412},{"$f":"VLOOKUP(Menü!H$24,Sollgewichte!A$4:CD$13,Q489+2,FALSE)","v":{"$error":"#N/A"}},{"$error":"#N/A"},{"$error":"#N/A"},{"$f":"VLOOKUP(P489,Daten!C$6:E$115,3,FALSE)","v":{"$error":"#N/A"}},{"$f":"VLOOKUP(P489,Daten!C$6:L$115,10,FALSE)","v":{"$error":"#N/A"}},{"$f":"VLOOKUP(P489,Daten!C$6:M$115,11,FALSE)","v":{"$error":"#N/A"}},0.05,0.1,0.8,0.85]
[null,null,null,null,null,null,null,null,null,null,null,null,null,null,null,69.2,{"$f":"Q489+0.2","v":69.200000000000415},{"$f":"ROUND(R489+(R496-R489)/7,0)","v":{"$error":"#N/A"}},{"$error":"#N/A"},{"$error":"#N/A"},{"$f":"VLOOKUP(P490,Daten!C$6:E$115,3,FALSE)","v":{"$error":"#N/A"}},{"$f":"VLOOKUP(P490,Daten!C$6:L$115,10,FALSE)","v":{"$error":"#N/A"}},{"$f":"VLOOKUP(P490,Daten!C$6:M$115,11,FALSE)","v":{"$error":"#N/A"}},0.05,0.1,0.8,0.85]
[null,null,null,null,null,null,null,null,null,null,null,null,null,null,null,69.3,{"$f":"Q490+0.1","v":69.300000000000409},{"$f":"ROUND(R489+(R496-R489)/7*2,0)","v":{"$error":"#N/A"}},{"$error":"#N/A"},{"$error":"#N/A"},{"$f":"VLOOKUP(P491,Daten!C$6:E$115,3,FALSE)","v":{"$error":"#N/A"}},{"$f":"VLOOKUP(P491,Daten!C$6:L$115,10,FALSE)","v":{"$error":"#N/A"}},{"$f":"VLOOKUP(P491,Daten!C$6:M$115,11,FALSE)","v":{"$error":"#N/A"}},0.05,0.1,0.8,0.85]
[null,null,null,null,null,null,null,null,null,null,null,null,null,null,null,69.5,{"$f":"Q491+0.2","v":69.500000000000412},{"$f":"ROUND(R489+(R496-R489)/7*3,0)","v":{"$error":"#N/A"}},{"$error":"#N/A"},{"$error":"#N/A"},{"$f":"VLOOKUP(P492,Daten!C$6:E$115,3,FALSE)","v":{"$error":"#N/A"}},{"$f":"VLOOKUP(P492,Daten!C$6:L$115,10,FALSE)","v":{"$error":"#N/A"}},{"$f":"VLOOKUP(P492,Daten!C$6:M$115,11,FALSE)","v":{"$error":"#N/A"}},0.05,0.1,0.8,0.85]
[null,null,null,null,null,null,null,null,null,null,null,null,null,null,null,69.599999999999994,{"$f":"Q492+0.1","v":69.600000000000406},{"$f":"ROUND(R489+(R496-R489)/7*4,0)","v":{"$error":"#N/A"}},{"$error":"#N/A"},{"$error":"#N/A"},{"$f":"VLOOKUP(P493,Daten!C$6:E$115,3,FALSE)","v":{"$error":"#N/A"}},{"$f":"VLOOKUP(P493,Daten!C$6:L$115,10,FALSE)","v":{"$error":"#N/A"}},{"$f":"VLOOKUP(P493,Daten!C$6:M$115,11,FALSE)","v":{"$error":"#N/A"}},0.05,0.1,0.8,0.85]
[null,null,null,null,null,null,null,null,null,null,null,null,null,null,null,69.8,{"$f":"Q493+0.2","v":69.800000000000409},{"$f":"ROUND(R489+(R496-R489)/7*5,0)","v":{"$error":"#N/A"}},{"$error":"#N/A"},{"$error":"#N/A"},{"$f":"VLOOKUP(P494,Daten!C$6:E$115,3,FALSE)","v":{"$error":"#N/A"}},{"$f":"VLOOKUP(P494,Daten!C$6:L$115,10,FALSE)","v":{"$error":"#N/A"}},{"$f":"VLOOKUP(P494,Daten!C$6:M$115,11,FALSE)","v":{"$error":"#N/A"}},0.05,0.1,0.8,0.85]
[null,null,null,null,null,null,null,null,null,null,null,null,null,null,null,69.900000000000006,{"$f":"Q494+0.1","v":69.900000000000404},{"$f":"ROUND(R489+(R496-R489)/7*6,0)","v":{"$error":"#N/A"}},{"$error":"#N/A"},{"$error":"#N/A"},{"$f":"VLOOKUP(P495,Daten!C$6:E$115,3,FALSE)","v":{"$error":"#N/A"}},{"$f":"VLOOKUP(P495,Daten!C$6:L$115,10,FALSE)","v":{"$error":"#N/A"}},{"$f":"VLOOKUP(P495,Daten!C$6:M$115,11,FALSE)","v":{"$error":"#N/A"}},0.05,0.1,0.8,0.85]
[null,null,null,null,null,null,null,null,null,null,null,null,null,null,null,70,{"$f":"Q495+0.1","v":70.000000000000398},{"$f":"VLOOKUP(Menü!H$24,Sollgewichte!A$4:CD$13,Q496+2,FALSE)","v":{"$error":"#N/A"}},{"$error":"#N/A"},{"$error":"#N/A"},{"$f":"VLOOKUP(P496,Daten!C$6:E$115,3,FALSE)","v":{"$error":"#N/A"}},{"$f":"VLOOKUP(P496,Daten!C$6:L$115,10,FALSE)","v":{"$error":"#N/A"}},{"$f":"VLOOKUP(P496,Daten!C$6:M$115,11,FALSE)","v":{"$error":"#N/A"}},0.05,0.1,0.8,0.85]
[null,null,null,null,null,null,null,null,null,null,null,null,null,null,null,70.2,{"$f":"Q496+0.2","v":70.200000000000401},{"$f":"ROUND(R496+(R503-R496)/7,0)","v":{"$error":"#N/A"}},{"$error":"#N/A"},{"$error":"#N/A"},{"$f":"VLOOKUP(P497,Daten!C$6:E$115,3,FALSE)","v":{"$error":"#N/A"}},{"$f":"VLOOKUP(P497,Daten!C$6:L$115,10,FALSE)","v":{"$error":"#N/A"}},{"$f":"VLOOKUP(P497,Daten!C$6:M$115,11,FALSE)","v":{"$error":"#N/A"}},0.05,0.1,0.8,0.85]
[null,null,null,null,null,null,null,null,null,null,null,null,null,null,null,70.3,{"$f":"Q497+0.1","v":70.300000000000395},{"$f":"ROUND(R496+(R503-R496)/7*2,0)","v":{"$error":"#N/A"}},{"$error":"#N/A"},{"$error":"#N/A"},{"$f":"VLOOKUP(P498,Daten!C$6:E$115,3,FALSE)","v":{"$error":"#N/A"}},{"$f":"VLOOKUP(P498,Daten!C$6:L$115,10,FALSE)","v":{"$error":"#N/A"}},{"$f":"VLOOKUP(P498,Daten!C$6:M$115,11,FALSE)","v":{"$error":"#N/A"}},0.05,0.1,0.8,0.85]
[null,null,null,null,null,null,null,null,null,null,null,null,null,null,null,70.5,{"$f":"Q498+0.2","v":70.500000000000398},{"$f":"ROUND(R496+(R503-R496)/7*3,0)","v":{"$error":"#N/A"}},{"$error":"#N/A"},{"$error":"#N/A"},{"$f":"VLOOKUP(P499,Daten!C$6:E$115,3,FALSE)","v":{"$error":"#N/A"}},{"$f":"VLOOKUP(P499,Daten!C$6:L$115,10,FALSE)","v":{"$error":"#N/A"}},{"$f":"VLOOKUP(P499,Daten!C$6:M$115,11,FALSE)","v":{"$error":"#N/A"}},0.05,0.1,0.8,0.85]
[null,null,null,null,null,null,null,null,null,null,null,null,null,null,null,70.599999999999994,{"$f":"Q499+0.1","v":70.600000000000392},{"$f":"ROUND(R496+(R503-R496)/7*4,0)","v":{"$error":"#N/A"}},{"$error":"#N/A"},{"$error":"#N/A"},{"$f":"VLOOKUP(P500,Daten!C$6:E$115,3,FALSE)","v":{"$error":"#N/A"}},{"$f":"VLOOKUP(P500,Daten!C$6:L$115,10,FALSE)","v":{"$error":"#N/A"}},{"$f":"VLOOKUP(P500,Daten!C$6:M$115,11,FALSE)","v":{"$error":"#N/A"}},0.05,0.1,0.8,0.85]
[null,null,null,null,null,null,null,null,null,null,null,null,null,null,null,70.8,{"$f":"Q500+0.2","v":70.800000000000395},{"$f":"ROUND(R496+(R503-R496)/7*5,0)","v":{"$error":"#N/A"}},{"$error":"#N/A"},{"$error":"#N/A"},{"$f":"VLOOKUP(P501,Daten!C$6:E$115,3,FALSE)","v":{"$error":"#N/A"}},{"$f":"VLOOKUP(P501,Daten!C$6:L$115,10,FALSE)","v":{"$error":"#N/A"}},{"$f":"VLOOKUP(P501,Daten!C$6:M$115,11,FALSE)","v":{"$error":"#N/A"}},0.05,0.1,0.8,0.85]
[null,null,null,null,null,null,null,null,null,null,null,null,null,null,null,70.900000000000006,{"$f":"Q501+0.1","v":70.900000000000389},{"$f":"ROUND(R496+(R503-R496)/7*6,0)","v":{"$error":"#N/A"}},{"$error":"#N/A"},{"$error":"#N/A"},{"$f":"VLOOKUP(P502,Daten!C$6:E$115,3,FALSE)","v":{"$error":"#N/A"}},{"$f":"VLOOKUP(P502,Daten!C$6:L$115,10,FALSE)","v":{"$error":"#N/A"}},{"$f":"VLOOKUP(P502,Daten!C$6:M$115,11,FALSE)","v":{"$error":"#N/A"}},0.05,0.1,0.8,0.85]
[null,null,null,null,null,null,null,null,null,null,null,null,null,null,null,71,{"$f":"Q502+0.1","v":71.000000000000384},{"$f":"VLOOKUP(Menü!H$24,Sollgewichte!A$4:CD$13,Q503+2,FALSE)","v":{"$error":"#N/A"}},{"$error":"#N/A"},{"$error":"#N/A"},{"$f":"VLOOKUP(P503,Daten!C$6:E$115,3,FALSE)","v":{"$error":"#N/A"}},{"$f":"VLOOKUP(P503,Daten!C$6:L$115,10,FALSE)","v":{"$error":"#N/A"}},{"$f":"VLOOKUP(P503,Daten!C$6:M$115,11,FALSE)","v":{"$error":"#N/A"}},0.05,0.1,0.8,0.85]
[null,null,null,null,null,null,null,null,null,null,null,null,null,null,null,71.2,{"$f":"Q503+0.2","v":71.200000000000387},{"$f":"ROUND(R503+(R510-R503)/7,0)","v":{"$error":"#N/A"}},{"$error":"#N/A"},{"$error":"#N/A"},{"$f":"VLOOKUP(P504,Daten!C$6:E$115,3,FALSE)","v":{"$error":"#N/A"}},{"$f":"VLOOKUP(P504,Daten!C$6:L$115,10,FALSE)","v":{"$error":"#N/A"}},{"$f":"VLOOKUP(P504,Daten!C$6:M$115,11,FALSE)","v":{"$error":"#N/A"}},0.05,0.1,0.8,0.85]
[null,null,null,null,null,null,null,null,null,null,null,null,null,null,null,71.3,{"$f":"Q504+0.1","v":71.300000000000381},{"$f":"ROUND(R503+(R510-R503)/7*2,0)","v":{"$error":"#N/A"}},{"$error":"#N/A"},{"$error":"#N/A"},{"$f":"VLOOKUP(P505,Daten!C$6:E$115,3,FALSE)","v":{"$error":"#N/A"}},{"$f":"VLOOKUP(P505,Daten!C$6:L$115,10,FALSE)","v":{"$error":"#N/A"}},{"$f":"VLOOKUP(P505,Daten!C$6:M$115,11,FALSE)","v":{"$error":"#N/A"}},0.05,0.1,0.8,0.85]
[null,null,null,null,null,null,null,null,null,null,null,null,null,null,null,71.5,{"$f":"Q505+0.2","v":71.500000000000384},{"$f":"ROUND(R503+(R510-R503)/7*3,0)","v":{"$error":"#N/A"}},{"$error":"#N/A"},{"$error":"#N/A"},{"$f":"VLOOKUP(P506,Daten!C$6:E$115,3,FALSE)","v":{"$error":"#N/A"}},{"$f":"VLOOKUP(P506,Daten!C$6:L$115,10,FALSE)","v":{"$error":"#N/A"}},{"$f":"VLOOKUP(P506,Daten!C$6:M$115,11,FALSE)","v":{"$error":"#N/A"}},0.05,0.1,0.8,0.85]
[null,null,null,null,null,null,null,null,null,null,null,null,null,null,null,71.599999999999994,{"$f":"Q506+0.1","v":71.600000000000378},{"$f":"ROUND(R503+(R510-R503)/7*4,0)","v":{"$error":"#N/A"}},{"$error":"#N/A"},{"$error":"#N/A"},{"$f":"VLOOKUP(P507,Daten!C$6:E$115,3,FALSE)","v":{"$error":"#N/A"}},{"$f":"VLOOKUP(P507,Daten!C$6:L$115,10,FALSE)","v":{"$error":"#N/A"}},{"$f":"VLOOKUP(P507,Daten!C$6:M$115,11,FALSE)","v":{"$error":"#N/A"}},0.05,0.1,0.8,0.85]
[null,null,null,null,null,null,null,null,null,null,null,null,null,null,null,71.8,{"$f":"Q507+0.2","v":71.800000000000381},{"$f":"ROUND(R503+(R510-R503)/7*5,0)","v":{"$error":"#N/A"}},{"$error":"#N/A"},{"$error":"#N/A"},{"$f":"VLOOKUP(P508,Daten!C$6:E$115,3,FALSE)","v":{"$error":"#N/A"}},{"$f":"VLOOKUP(P508,Daten!C$6:L$115,10,FALSE)","v":{"$error":"#N/A"}},{"$f":"VLOOKUP(P508,Daten!C$6:M$115,11,FALSE)","v":{"$error":"#N/A"}},0.05,0.1,0.8,0.85]
[null,null,null,null,null,null,null,null,null,null,null,null,null,null,null,71.900000000000006,{"$f":"Q508+0.1","v":71.900000000000375},{"$f":"ROUND(R503+(R510-R503)/7*6,0)","v":{"$error":"#N/A"}},{"$error":"#N/A"},{"$error":"#N/A"},{"$f":"VLOOKUP(P509,Daten!C$6:E$115,3,FALSE)","v":{"$error":"#N/A"}},{"$f":"VLOOKUP(P509,Daten!C$6:L$115,10,FALSE)","v":{"$error":"#N/A"}},{"$f":"VLOOKUP(P509,Daten!C$6:M$115,11,FALSE)","v":{"$error":"#N/A"}},0.05,0.1,0.8,0.85]
[null,null,null,null,null,null,null,null,null,null,null,null,null,null,null,72,{"$f":"Q509+0.1","v":72.000000000000369},{"$f":"VLOOKUP(Menü!H$24,Sollgewichte!A$4:CD$13,Q510+2,FALSE)","v":{"$error":"#N/A"}},{"$error":"#N/A"},{"$error":"#N/A"},{"$f":"VLOOKUP(P510,Daten!C$6:E$115,3,FALSE)","v":{"$error":"#N/A"}},{"$f":"VLOOKUP(P510,Daten!C$6:L$115,10,FALSE)","v":{"$error":"#N/A"}},{"$f":"VLOOKUP(P510,Daten!C$6:M$115,11,FALSE)","v":{"$error":"#N/A"}},0.05,0.1,0.8,0.85]
[null,null,null,null,null,null,null,null,null,null,null,null,null,null,null,72.2,{"$f":"Q510+0.2","v":72.200000000000372},{"$f":"ROUND(R510+(R517-R510)/7,0)","v":{"$error":"#N/A"}},{"$error":"#N/A"},{"$error":"#N/A"},{"$f":"VLOOKUP(P511,Daten!C$6:E$115,3,FALSE)","v":{"$error":"#N/A"}},{"$f":"VLOOKUP(P511,Daten!C$6:L$115,10,FALSE)","v":{"$error":"#N/A"}},{"$f":"VLOOKUP(P511,Daten!C$6:M$115,11,FALSE)","v":{"$error":"#N/A"}},0.05,0.1,0.8,0.85]
[null,null,null,null,null,null,null,null,null,null,null,null,null,null,null,72.3,{"$f":"Q511+0.1","v":72.300000000000367},{"$f":"ROUND(R510+(R517-R510)/7*2,0)","v":{"$error":"#N/A"}},{"$error":"#N/A"},{"$error":"#N/A"},{"$f":"VLOOKUP(P512,Daten!C$6:E$115,3,FALSE)","v":{"$error":"#N/A"}},{"$f":"VLOOKUP(P512,Daten!C$6:L$115,10,FALSE)","v":{"$error":"#N/A"}},{"$f":"VLOOKUP(P512,Daten!C$6:M$115,11,FALSE)","v":{"$error":"#N/A"}},0.05,0.1,0.8,0.85]
[null,null,null,null,null,null,null,null,null,null,null,null,null,null,null,72.5,{"$f":"Q512+0.2","v":72.500000000000369},{"$f":"ROUND(R510+(R517-R510)/7*3,0)","v":{"$error":"#N/A"}},{"$error":"#N/A"},{"$error":"#N/A"},{"$f":"VLOOKUP(P513,Daten!C$6:E$115,3,FALSE)","v":{"$error":"#N/A"}},{"$f":"VLOOKUP(P513,Daten!C$6:L$115,10,FALSE)","v":{"$error":"#N/A"}},{"$f":"VLOOKUP(P513,Daten!C$6:M$115,11,FALSE)","v":{"$error":"#N/A"}},0.05,0.1,0.8,0.85]
[null,null,null,null,null,null,null,null,null,null,null,null,null,null,null,72.599999999999994,{"$f":"Q513+0.1","v":72.600000000000364},{"$f":"ROUND(R510+(R517-R510)/7*4,0)","v":{"$error":"#N/A"}},{"$error":"#N/A"},{"$error":"#N/A"},{"$f":"VLOOKUP(P514,Daten!C$6:E$115,3,FALSE)","v":{"$error":"#N/A"}},{"$f":"VLOOKUP(P514,Daten!C$6:L$115,10,FALSE)","v":{"$error":"#N/A"}},{"$f":"VLOOKUP(P514,Daten!C$6:M$115,11,FALSE)","v":{"$error":"#N/A"}},0.05,0.1,0.8,0.85]
[null,null,null,null,null,null,null,null,null,null,null,null,null,null,null,72.8,{"$f":"Q514+0.2","v":72.800000000000367},{"$f":"ROUND(R510+(R517-R510)/7*5,0)","v":{"$error":"#N/A"}},{"$error":"#N/A"},{"$error":"#N/A"},{"$f":"VLOOKUP(P515,Daten!C$6:E$115,3,FALSE)","v":{"$error":"#N/A"}},{"$f":"VLOOKUP(P515,Daten!C$6:L$115,10,FALSE)","v":{"$error":"#N/A"}},{"$f":"VLOOKUP(P515,Daten!C$6:M$115,11,FALSE)","v":{"$error":"#N/A"}},0.05,0.1,0.8,0.85]
[null,null,null,null,null,null,null,null,null,null,null,null,null,null,null,72.900000000000006,{"$f":"Q515+0.1","v":72.900000000000361},{"$f":"ROUND(R510+(R517-R510)/7*6,0)","v":{"$error":"#N/A"}},{"$error":"#N/A"},{"$error":"#N/A"},{"$f":"VLOOKUP(P516,Daten!C$6:E$115,3,FALSE)","v":{"$error":"#N/A"}},{"$f":"VLOOKUP(P516,Daten!C$6:L$115,10,FALSE)","v":{"$error":"#N/A"}},{"$f":"VLOOKUP(P516,Daten!C$6:M$115,11,FALSE)","v":{"$error":"#N/A"}},0.05,0.1,0.8,0.85]
[null,null,null,null,null,null,null,null,null,null,null,null,null,null,null,73,{"$f":"Q516+0.1","v":73.000000000000355},{"$f":"VLOOKUP(Menü!H$24,Sollgewichte!A$4:CD$13,Q517+2,FALSE)","v":{"$error":"#N/A"}},{"$error":"#N/A"},{"$error":"#N/A"},{"$f":"VLOOKUP(P517,Daten!C$6:E$115,3,FALSE)","v":{"$error":"#N/A"}},{"$f":"VLOOKUP(P517,Daten!C$6:L$115,10,FALSE)","v":{"$error":"#N/A"}},{"$f":"VLOOKUP(P517,Daten!C$6:M$115,11,FALSE)","v":{"$error":"#N/A"}},0.05,0.1,0.8,0.85]
[null,null,null,null,null,null,null,null,null,null,null,null,null,null,null,73.2,{"$f":"Q517+0.2","v":73.200000000000358},{"$f":"ROUND(R517+(R524-R517)/7,0)","v":{"$error":"#N/A"}},{"$error":"#N/A"},{"$error":"#N/A"},{"$f":"VLOOKUP(P518,Daten!C$6:E$115,3,FALSE)","v":{"$error":"#N/A"}},{"$f":"VLOOKUP(P518,Daten!C$6:L$115,10,FALSE)","v":{"$error":"#N/A"}},{"$f":"VLOOKUP(P518,Daten!C$6:M$115,11,FALSE)","v":{"$error":"#N/A"}},0.05,0.1,0.8,0.85]
[null,null,null,null,null,null,null,null,null,null,null,null,null,null,null,{"$f":"ROUND(Q519,1)","v":73.3},{"$f":"Q518+0.1","v":73.300000000000352},{"$f":"ROUND(R517+(R524-R517)/7*2,0)","v":{"$error":"#N/A"}},{"$f":"R519*0.95","v":{"$error":"#N/A"}},{"$f":"R519","v":{"$error":"#N/A"}},{"$f":"VLOOKUP(P519,Daten!C$6:E$115,3,FALSE)","v":{"$error":"#N/A"}},{"$f":"VLOOKUP(P519,Daten!C$6:L$115,10,FALSE)","v":{"$error":"#N/A"}},{"$f":"VLOOKUP(P519,Daten!C$6:M$115,11,FALSE)","v":{"$error":"#N/A"}},0.05,0.1,0.8,0.85]
[null,null,null,null,null,null,null,null,null,null,null,null,null,null,null,73.5,{"$f":"Q519+0.2","v":73.500000000000355},{"$f":"ROUND(R517+(R524-R517)/7*3,0)","v":{"$error":"#N/A"}},{"$error":"#N/A"},{"$error":"#N/A"},{"$f":"VLOOKUP(P520,Daten!C$6:E$115,3,FALSE)","v":{"$error":"#N/A"}},{"$f":"VLOOKUP(P520,Daten!C$6:L$115,10,FALSE)","v":{"$error":"#N/A"}},{"$f":"VLOOKUP(P520,Daten!C$6:M$115,11,FALSE)","v":{"$error":"#N/A"}},0.05,0.1,0.8,0.85]
[null,null,null,null,null,null,null,null,null,null,null,null,null,null,null,73.599999999999994,{"$f":"Q520+0.1","v":73.60000000000035},{"$f":"ROUND(R517+(R524-R517)/7*4,0)","v":{"$error":"#N/A"}},{"$error":"#N/A"},{"$error":"#N/A"},{"$f":"VLOOKUP(P521,Daten!C$6:E$115,3,FALSE)","v":{"$error":"#N/A"}},{"$f":"VLOOKUP(P521,Daten!C$6:L$115,10,FALSE)","v":{"$error":"#N/A"}},{"$f":"VLOOKUP(P521,Daten!C$6:M$115,11,FALSE)","v":{"$error":"#N/A"}},0.05,0.1,0.8,0.85]
[null,null,null,null,null,null,null,null,null,null,null,null,null,null,null,73.8,{"$f":"Q521+0.2","v":73.800000000000352},{"$f":"ROUND(R517+(R524-R517)/7*5,0)","v":{"$error":"#N/A"}},{"$error":"#N/A"},{"$error":"#N/A"},{"$f":"VLOOKUP(P522,Daten!C$6:E$115,3,FALSE)","v":{"$error":"#N/A"}},{"$f":"VLOOKUP(P522,Daten!C$6:L$115,10,FALSE)","v":{"$error":"#N/A"}},{"$f":"VLOOKUP(P522,Daten!C$6:M$115,11,FALSE)","v":{"$error":"#N/A"}},0.05,0.1,0.8,0.85]
[null,null,null,null,null,null,null,null,null,null,null,null,null,null,null,73.900000000000006,{"$f":"Q522+0.1","v":73.900000000000347},{"$f":"ROUND(R517+(R524-R517)/7*6,0)","v":{"$error":"#N/A"}},{"$error":"#N/A"},{"$error":"#N/A"},{"$f":"VLOOKUP(P523,Daten!C$6:E$115,3,FALSE)","v":{"$error":"#N/A"}},{"$f":"VLOOKUP(P523,Daten!C$6:L$115,10,FALSE)","v":{"$error":"#N/A"}},{"$f":"VLOOKUP(P523,Daten!C$6:M$115,11,FALSE)","v":{"$error":"#N/A"}},0.05,0.1,0.8,0.85]
[null,null,null,null,null,null,null,null,null,null,null,null,null,null,null,74,{"$f":"Q523+0.1","v":74.000000000000341},{"$f":"VLOOKUP(Menü!H$24,Sollgewichte!A$4:CD$13,Q524+2,FALSE)","v":{"$error":"#N/A"}},{"$error":"#N/A"},{"$error":"#N/A"},{"$f":"VLOOKUP(P524,Daten!C$6:E$115,3,FALSE)","v":{"$error":"#N/A"}},{"$f":"VLOOKUP(P524,Daten!C$6:L$115,10,FALSE)","v":{"$error":"#N/A"}},{"$f":"VLOOKUP(P524,Daten!C$6:M$115,11,FALSE)","v":{"$error":"#N/A"}},0.05,0.1,0.8,0.85]
[null,null,null,null,null,null,null,null,null,null,null,null,null,null,null,74.2,{"$f":"Q524+0.2","v":74.200000000000344},{"$f":"ROUND(R524+(R531-R524)/7,0)","v":{"$error":"#N/A"}},{"$error":"#N/A"},{"$error":"#N/A"},{"$f":"VLOOKUP(P525,Daten!C$6:E$115,3,FALSE)","v":{"$error":"#N/A"}},{"$f":"VLOOKUP(P525,Daten!C$6:L$115,10,FALSE)","v":{"$error":"#N/A"}},{"$f":"VLOOKUP(P525,Daten!C$6:M$115,11,FALSE)","v":{"$error":"#N/A"}},0.05,0.1,0.8,0.85]
[null,null,null,null,null,null,null,null,null,null,null,null,null,null,null,74.3,{"$f":"Q525+0.1","v":74.300000000000338},{"$f":"ROUND(R524+(R531-R524)/7*2,0)","v":{"$error":"#N/A"}},{"$error":"#N/A"},{"$error":"#N/A"},{"$f":"VLOOKUP(P526,Daten!C$6:E$115,3,FALSE)","v":{"$error":"#N/A"}},{"$f":"VLOOKUP(P526,Daten!C$6:L$115,10,FALSE)","v":{"$error":"#N/A"}},{"$f":"VLOOKUP(P526,Daten!C$6:M$115,11,FALSE)","v":{"$error":"#N/A"}},0.05,0.1,0.8,0.85]
[null,null,null,null,null,null,null,null,null,null,null,null,null,null,null,74.5,{"$f":"Q526+0.2","v":74.500000000000341},{"$f":"ROUND(R524+(R531-R524)/7*3,0)","v":{"$error":"#N/A"}},{"$error":"#N/A"},{"$error":"#N/A"},{"$f":"VLOOKUP(P527,Daten!C$6:E$115,3,FALSE)","v":{"$error":"#N/A"}},{"$f":"VLOOKUP(P527,Daten!C$6:L$115,10,FALSE)","v":{"$error":"#N/A"}},{"$f":"VLOOKUP(P527,Daten!C$6:M$115,11,FALSE)","v":{"$error":"#N/A"}},0.05,0.1,0.8,0.85]
[null,null,null,null,null,null,null,null,null,null,null,null,null,null,null,74.599999999999994,{"$f":"Q527+0.1","v":74.600000000000335},{"$f":"ROUND(R524+(R531-R524)/7*4,0)","v":{"$error":"#N/A"}},{"$error":"#N/A"},{"$error":"#N/A"},{"$f":"VLOOKUP(P528,Daten!C$6:E$115,3,FALSE)","v":{"$error":"#N/A"}},{"$f":"VLOOKUP(P528,Daten!C$6:L$115,10,FALSE)","v":{"$error":"#N/A"}},{"$f":"VLOOKUP(P528,Daten!C$6:M$115,11,FALSE)","v":{"$error":"#N/A"}},0.05,0.1,0.8,0.85]
[null,null,null,null,null,null,null,null,null,null,null,null,null,null,null,74.8,{"$f":"Q528+0.2","v":74.800000000000338},{"$f":"ROUND(R524+(R531-R524)/7*5,0)","v":{"$error":"#N/A"}},{"$error":"#N/A"},{"$error":"#N/A"},{"$f":"VLOOKUP(P529,Daten!C$6:E$115,3,FALSE)","v":{"$error":"#N/A"}},{"$f":"VLOOKUP(P529,Daten!C$6:L$115,10,FALSE)","v":{"$error":"#N/A"}},{"$f":"VLOOKUP(P529,Daten!C$6:M$115,11,FALSE)","v":{"$error":"#N/A"}},0.05,0.1,0.8,0.85]
[null,null,null,null,null,null,null,null,null,null,null,null,null,null,null,74.900000000000006,{"$f":"Q529+0.1","v":74.900000000000333},{"$f":"ROUND(R524+(R531-R524)/7*6,0)","v":{"$error":"#N/A"}},{"$error":"#N/A"},{"$error":"#N/A"},{"$f":"VLOOKUP(P530,Daten!C$6:E$115,3,FALSE)","v":{"$error":"#N/A"}},{"$f":"VLOOKUP(P530,Daten!C$6:L$115,10,FALSE)","v":{"$error":"#N/A"}},{"$f":"VLOOKUP(P530,Daten!C$6:M$115,11,FALSE)","v":{"$error":"#N/A"}},0.05,0.1,0.8,0.85]
[null,null,null,null,null,null,null,null,null,null,null,null,null,null,null,75,{"$f":"Q530+0.1","v":75.000000000000327},{"$f":"VLOOKUP(Menü!H$24,Sollgewichte!A$4:CD$13,Q531+2,FALSE)","v":{"$error":"#N/A"}},{"$error":"#N/A"},{"$error":"#N/A"},{"$f":"VLOOKUP(P531,Daten!C$6:E$115,3,FALSE)","v":{"$error":"#N/A"}},{"$f":"VLOOKUP(P531,Daten!C$6:L$115,10,FALSE)","v":{"$error":"#N/A"}},{"$f":"VLOOKUP(P531,Daten!C$6:M$115,11,FALSE)","v":{"$error":"#N/A"}},0.05,0.1,0.8,0.85]
[null,null,null,null,null,null,null,null,null,null,null,null,null,null,null,75.2,{"$f":"Q531+0.2","v":75.20000000000033},{"$f":"ROUND(R531+(R538-R531)/7,0)","v":{"$error":"#N/A"}},{"$error":"#N/A"},{"$error":"#N/A"},{"$f":"VLOOKUP(P532,Daten!C$6:E$115,3,FALSE)","v":{"$error":"#N/A"}},{"$f":"VLOOKUP(P532,Daten!C$6:L$115,10,FALSE)","v":{"$error":"#N/A"}},{"$f":"VLOOKUP(P532,Daten!C$6:M$115,11,FALSE)","v":{"$error":"#N/A"}},0.05,0.1,0.8,0.85]
[null,null,null,null,null,null,null,null,null,null,null,null,null,null,null,75.3,{"$f":"Q532+0.1","v":75.300000000000324},{"$f":"ROUND(R531+(R538-R531)/7*2,0)","v":{"$error":"#N/A"}},{"$error":"#N/A"},{"$error":"#N/A"},{"$f":"VLOOKUP(P533,Daten!C$6:E$115,3,FALSE)","v":{"$error":"#N/A"}},{"$f":"VLOOKUP(P533,Daten!C$6:L$115,10,FALSE)","v":{"$error":"#N/A"}},{"$f":"VLOOKUP(P533,Daten!C$6:M$115,11,FALSE)","v":{"$error":"#N/A"}},0.05,0.1,0.8,0.85]
[null,null,null,null,null,null,null,null,null,null,null,null,null,null,null,75.5,{"$f":"Q533+0.2","v":75.500000000000327},{"$f":"ROUND(R531+(R538-R531)/7*3,0)","v":{"$error":"#N/A"}},{"$error":"#N/A"},{"$error":"#N/A"},{"$f":"VLOOKUP(P534,Daten!C$6:E$115,3,FALSE)","v":{"$error":"#N/A"}},{"$f":"VLOOKUP(P534,Daten!C$6:L$115,10,FALSE)","v":{"$error":"#N/A"}},{"$f":"VLOOKUP(P534,Daten!C$6:M$115,11,FALSE)","v":{"$error":"#N/A"}},0.05,0.1,0.8,0.85]
[null,null,null,null,null,null,null,null,null,null,null,null,null,null,null,75.599999999999994,{"$f":"Q534+0.1","v":75.600000000000321},{"$f":"ROUND(R531+(R538-R531)/7*4,0)","v":{"$error":"#N/A"}},{"$error":"#N/A"},{"$error":"#N/A"},{"$f":"VLOOKUP(P535,Daten!C$6:E$115,3,FALSE)","v":{"$error":"#N/A"}},{"$f":"VLOOKUP(P535,Daten!C$6:L$115,10,FALSE)","v":{"$error":"#N/A"}},{"$f":"VLOOKUP(P535,Daten!C$6:M$115,11,FALSE)","v":{"$error":"#N/A"}},0.05,0.1,0.8,0.85]
[null,null,null,null,null,null,null,null,null,null,null,null,null,null,null,75.8,{"$f":"Q535+0.2","v":75.800000000000324},{"$f":"ROUND(R531+(R538-R531)/7*5,0)","v":{"$error":"#N/A"}},{"$error":"#N/A"},{"$error":"#N/A"},{"$f":"VLOOKUP(P536,Daten!C$6:E$115,3,FALSE)","v":{"$error":"#N/A"}},{"$f":"VLOOKUP(P536,Daten!C$6:L$115,10,FALSE)","v":{"$error":"#N/A"}},{"$f":"VLOOKUP(P536,Daten!C$6:M$115,11,FALSE)","v":{"$error":"#N/A"}},0.05,0.1,0.8,0.85]
[null,null,null,null,null,null,null,null,null,null,null,null,null,null,null,75.900000000000006,{"$f":"Q536+0.1","v":75.900000000000318},{"$f":"ROUND(R531+(R538-R531)/7*6,0)","v":{"$error":"#N/A"}},{"$error":"#N/A"},{"$error":"#N/A"},{"$f":"VLOOKUP(P537,Daten!C$6:E$115,3,FALSE)","v":{"$error":"#N/A"}},{"$f":"VLOOKUP(P537,Daten!C$6:L$115,10,FALSE)","v":{"$error":"#N/A"}},{"$f":"VLOOKUP(P537,Daten!C$6:M$115,11,FALSE)","v":{"$error":"#N/A"}},0.05,0.1,0.8,0.85]
[null,null,null,null,null,null,null,null,null,null,null,null,null,null,null,76,{"$f":"Q537+0.1","v":76.000000000000313},{"$f":"VLOOKUP(Menü!H$24,Sollgewichte!A$4:CD$13,Q538+2,FALSE)","v":{"$error":"#N/A"}},{"$error":"#N/A"},{"$error":"#N/A"},{"$f":"VLOOKUP(P538,Daten!C$6:E$115,3,FALSE)","v":{"$error":"#N/A"}},{"$f":"VLOOKUP(P538,Daten!C$6:L$115,10,FALSE)","v":{"$error":"#N/A"}},{"$f":"VLOOKUP(P538,Daten!C$6:M$115,11,FALSE)","v":{"$error":"#N/A"}},0.05,0.1,0.8,0.85]
[null,null,null,null,null,null,null,null,null,null,null,null,null,null,null,76.2,{"$f":"Q538+0.2","v":76.200000000000315},{"$f":"ROUND(R538+(R545-R538)/7,0)","v":{"$error":"#N/A"}},{"$error":"#N/A"},{"$error":"#N/A"},{"$f":"VLOOKUP(P539,Daten!C$6:E$115,3,FALSE)","v":{"$error":"#N/A"}},{"$f":"VLOOKUP(P539,Daten!C$6:L$115,10,FALSE)","v":{"$error":"#N/A"}},{"$f":"VLOOKUP(P539,Daten!C$6:M$115,11,FALSE)","v":{"$error":"#N/A"}},0.05,0.1,0.8,0.85]
[null,null,null,null,null,null,null,null,null,null,null,null,null,null,null,76.3,{"$f":"Q539+0.1","v":76.30000000000031},{"$f":"ROUND(R538+(R545-R538)/7*2,0)","v":{"$error":"#N/A"}},{"$error":"#N/A"},{"$error":"#N/A"},{"$f":"VLOOKUP(P540,Daten!C$6:E$115,3,FALSE)","v":{"$error":"#N/A"}},{"$f":"VLOOKUP(P540,Daten!C$6:L$115,10,FALSE)","v":{"$error":"#N/A"}},{"$f":"VLOOKUP(P540,Daten!C$6:M$115,11,FALSE)","v":{"$error":"#N/A"}},0.05,0.1,0.8,0.85]
[null,null,null,null,null,null,null,null,null,null,null,null,null,null,null,76.5,{"$f":"Q540+0.2","v":76.500000000000313},{"$f":"ROUND(R538+(R545-R538)/7*3,0)","v":{"$error":"#N/A"}},{"$error":"#N/A"},{"$error":"#N/A"},{"$f":"VLOOKUP(P541,Daten!C$6:E$115,3,FALSE)","v":{"$error":"#N/A"}},{"$f":"VLOOKUP(P541,Daten!C$6:L$115,10,FALSE)","v":{"$error":"#N/A"}},{"$f":"VLOOKUP(P541,Daten!C$6:M$115,11,FALSE)","v":{"$error":"#N/A"}},0.05,0.1,0.8,0.85]
[null,null,null,null,null,null,null,null,null,null,null,null,null,null,null,76.599999999999994,{"$f":"Q541+0.1","v":76.600000000000307},{"$f":"ROUND(R538+(R545-R538)/7*4,0)","v":{"$error":"#N/A"}},{"$error":"#N/A"},{"$error":"#N/A"},{"$f":"VLOOKUP(P542,Daten!C$6:E$115,3,FALSE)","v":{"$error":"#N/A"}},{"$f":"VLOOKUP(P542,Daten!C$6:L$115,10,FALSE)","v":{"$error":"#N/A"}},{"$f":"VLOOKUP(P542,Daten!C$6:M$115,11,FALSE)","v":{"$error":"#N/A"}},0.05,0.1,0.8,0.85]
[null,null,null,null,null,null,null,null,null,null,null,null,null,null,null,76.8,{"$f":"Q542+0.2","v":76.80000000000031},{"$f":"ROUND(R538+(R545-R538)/7*5,0)","v":{"$error":"#N/A"}},{"$error":"#N/A"},{"$error":"#N/A"},{"$f":"VLOOKUP(P543,Daten!C$6:E$115,3,FALSE)","v":{"$error":"#N/A"}},{"$f":"VLOOKUP(P543,Daten!C$6:L$115,10,FALSE)","v":{"$error":"#N/A"}},{"$f":"VLOOKUP(P543,Daten!C$6:M$115,11,FALSE)","v":{"$error":"#N/A"}},0.05,0.1,0.8,0.85]
[null,null,null,null,null,null,null,null,null,null,null,null,null,null,null,76.900000000000006,{"$f":"Q543+0.1","v":76.900000000000304},{"$f":"ROUND(R538+(R545-R538)/7*6,0)","v":{"$error":"#N/A"}},{"$error":"#N/A"},{"$error":"#N/A"},{"$f":"VLOOKUP(P544,Daten!C$6:E$115,3,FALSE)","v":{"$error":"#N/A"}},{"$f":"VLOOKUP(P544,Daten!C$6:L$115,10,FALSE)","v":{"$error":"#N/A"}},{"$f":"VLOOKUP(P544,Daten!C$6:M$115,11,FALSE)","v":{"$error":"#N/A"}},0.05,0.1,0.8,0.85]
[null,null,null,null,null,null,null,null,null,null,null,null,null,null,null,77,{"$f":"Q544+0.1","v":77.000000000000298},{"$f":"VLOOKUP(Menü!H$24,Sollgewichte!A$4:CD$13,Q545+2,FALSE)","v":{"$error":"#N/A"}},{"$error":"#N/A"},{"$error":"#N/A"},{"$f":"VLOOKUP(P545,Daten!C$6:E$115,3,FALSE)","v":{"$error":"#N/A"}},{"$f":"VLOOKUP(P545,Daten!C$6:L$115,10,FALSE)","v":{"$error":"#N/A"}},{"$f":"VLOOKUP(P545,Daten!C$6:M$115,11,FALSE)","v":{"$error":"#N/A"}},0.05,0.1,0.8,0.85]
[null,null,null,null,null,null,null,null,null,null,null,null,null,null,null,77.2,{"$f":"Q545+0.2","v":77.200000000000301},{"$f":"ROUND(R545+(R552-R545)/7,0)","v":{"$error":"#N/A"}},{"$error":"#N/A"},{"$error":"#N/A"},{"$f":"VLOOKUP(P546,Daten!C$6:E$115,3,FALSE)","v":{"$error":"#N/A"}},{"$f":"VLOOKUP(P546,Daten!C$6:L$115,10,FALSE)","v":{"$error":"#N/A"}},{"$f":"VLOOKUP(P546,Daten!C$6:M$115,11,FALSE)","v":{"$error":"#N/A"}},0.05,0.1,0.8,0.85]
[null,null,null,null,null,null,null,null,null,null,null,null,null,null,null,77.3,{"$f":"Q546+0.1","v":77.300000000000296},{"$f":"ROUND(R545+(R552-R545)/7*2,0)","v":{"$error":"#N/A"}},{"$error":"#N/A"},{"$error":"#N/A"},{"$f":"VLOOKUP(P547,Daten!C$6:E$115,3,FALSE)","v":{"$error":"#N/A"}},{"$f":"VLOOKUP(P547,Daten!C$6:L$115,10,FALSE)","v":{"$error":"#N/A"}},{"$f":"VLOOKUP(P547,Daten!C$6:M$115,11,FALSE)","v":{"$error":"#N/A"}},0.05,0.1,0.8,0.85]
[null,null,null,null,null,null,null,null,null,null,null,null,null,null,null,77.5,{"$f":"Q547+0.2","v":77.500000000000298},{"$f":"ROUND(R545+(R552-R545)/7*3,0)","v":{"$error":"#N/A"}},{"$error":"#N/A"},{"$error":"#N/A"},{"$f":"VLOOKUP(P548,Daten!C$6:E$115,3,FALSE)","v":{"$error":"#N/A"}},{"$f":"VLOOKUP(P548,Daten!C$6:L$115,10,FALSE)","v":{"$error":"#N/A"}},{"$f":"VLOOKUP(P548,Daten!C$6:M$115,11,FALSE)","v":{"$error":"#N/A"}},0.05,0.1,0.8,0.85]
[null,null,null,null,null,null,null,null,null,null,null,null,null,null,null,77.599999999999994,{"$f":"Q548+0.1","v":77.600000000000293},{"$f":"ROUND(R545+(R552-R545)/7*4,0)","v":{"$error":"#N/A"}},{"$error":"#N/A"},{"$error":"#N/A"},{"$f":"VLOOKUP(P549,Daten!C$6:E$115,3,FALSE)","v":{"$error":"#N/A"}},{"$f":"VLOOKUP(P549,Daten!C$6:L$115,10,FALSE)","v":{"$error":"#N/A"}},{"$f":"VLOOKUP(P549,Daten!C$6:M$115,11,FALSE)","v":{"$error":"#N/A"}},0.05,0.1,0.8,0.85]
[null,null,null,null,null,null,null,null,null,null,null,null,null,null,null,77.8,{"$f":"Q549+0.2","v":77.800000000000296},{"$f":"ROUND(R545+(R552-R545)/7*5,0)","v":{"$error":"#N/A"}},{"$error":"#N/A"},{"$error":"#N/A"},{"$f":"VLOOKUP(P550,Daten!C$6:E$115,3,FALSE)","v":{"$error":"#N/A"}},{"$f":"VLOOKUP(P550,Daten!C$6:L$115,10,FALSE)","v":{"$error":"#N/A"}},{"$f":"VLOOKUP(P550,Daten!C$6:M$115,11,FALSE)","v":{"$error":"#N/A"}},0.05,0.1,0.8,0.85]
[null,null,null,null,null,null,null,null,null,null,null,null,null,null,null,77.900000000000006,{"$f":"Q550+0.1","v":77.90000000000029},{"$f":"ROUND(R545+(R552-R545)/7*6,0)","v":{"$error":"#N/A"}},{"$error":"#N/A"},{"$error":"#N/A"},{"$f":"VLOOKUP(P551,Daten!C$6:E$115,3,FALSE)","v":{"$error":"#N/A"}},{"$f":"VLOOKUP(P551,Daten!C$6:L$115,10,FALSE)","v":{"$error":"#N/A"}},{"$f":"VLOOKUP(P551,Daten!C$6:M$115,11,FALSE)","v":{"$error":"#N/A"}},0.05,0.1,0.8,0.85]
[null,null,null,null,null,null,null,null,null,null,null,null,null,null,null,78,{"$f":"Q551+0.1","v":78.000000000000284},{"$f":"VLOOKUP(Menü!H$24,Sollgewichte!A$4:CD$13,Q552+2,FALSE)","v":{"$error":"#N/A"}},{"$error":"#N/A"},{"$error":"#N/A"},{"$f":"VLOOKUP(P552,Daten!C$6:E$115,3,FALSE)","v":{"$error":"#N/A"}},{"$f":"VLOOKUP(P552,Daten!C$6:L$115,10,FALSE)","v":{"$error":"#N/A"}},{"$f":"VLOOKUP(P552,Daten!C$6:M$115,11,FALSE)","v":{"$error":"#N/A"}},0.05,0.1,0.8,0.85]
[null,null,null,null,null,null,null,null,null,null,null,null,null,null,null,78.2,{"$f":"Q552+0.2","v":78.200000000000287},{"$f":"ROUND(R552+(R559-R552)/7,0)","v":{"$error":"#N/A"}},{"$error":"#N/A"},{"$error":"#N/A"},{"$f":"VLOOKUP(P553,Daten!C$6:E$115,3,FALSE)","v":{"$error":"#N/A"}},{"$f":"VLOOKUP(P553,Daten!C$6:L$115,10,FALSE)","v":{"$error":"#N/A"}},{"$f":"VLOOKUP(P553,Daten!C$6:M$115,11,FALSE)","v":{"$error":"#N/A"}},0.05,0.1,0.8,0.85]
[null,null,null,null,null,null,null,null,null,null,null,null,null,null,null,78.3,{"$f":"Q553+0.1","v":78.300000000000281},{"$f":"ROUND(R552+(R559-R552)/7*2,0)","v":{"$error":"#N/A"}},{"$error":"#N/A"},{"$error":"#N/A"},{"$f":"VLOOKUP(P554,Daten!C$6:E$115,3,FALSE)","v":{"$error":"#N/A"}},{"$f":"VLOOKUP(P554,Daten!C$6:L$115,10,FALSE)","v":{"$error":"#N/A"}},{"$f":"VLOOKUP(P554,Daten!C$6:M$115,11,FALSE)","v":{"$error":"#N/A"}},0.05,0.1,0.8,0.85]
[null,null,null,null,null,null,null,null,null,null,null,null,null,null,null,78.5,{"$f":"Q554+0.2","v":78.500000000000284},{"$f":"ROUND(R552+(R559-R552)/7*3,0)","v":{"$error":"#N/A"}},{"$error":"#N/A"},{"$error":"#N/A"},{"$f":"VLOOKUP(P555,Daten!C$6:E$115,3,FALSE)","v":{"$error":"#N/A"}},{"$f":"VLOOKUP(P555,Daten!C$6:L$115,10,FALSE)","v":{"$error":"#N/A"}},{"$f":"VLOOKUP(P555,Daten!C$6:M$115,11,FALSE)","v":{"$error":"#N/A"}},0.05,0.1,0.8,0.85]
[null,null,null,null,null,null,null,null,null,null,null,null,null,null,null,78.599999999999994,{"$f":"Q555+0.1","v":78.600000000000279},{"$f":"ROUND(R552+(R559-R552)/7*4,0)","v":{"$error":"#N/A"}},{"$error":"#N/A"},{"$error":"#N/A"},{"$f":"VLOOKUP(P556,Daten!C$6:E$115,3,FALSE)","v":{"$error":"#N/A"}},{"$f":"VLOOKUP(P556,Daten!C$6:L$115,10,FALSE)","v":{"$error":"#N/A"}},{"$f":"VLOOKUP(P556,Daten!C$6:M$115,11,FALSE)","v":{"$error":"#N/A"}},0.05,0.1,0.8,0.85]
[null,null,null,null,null,null,null,null,null,null,null,null,null,null,null,78.8,{"$f":"Q556+0.2","v":78.800000000000281},{"$f":"ROUND(R552+(R559-R552)/7*5,0)","v":{"$error":"#N/A"}},{"$error":"#N/A"},{"$error":"#N/A"},{"$f":"VLOOKUP(P557,Daten!C$6:E$115,3,FALSE)","v":{"$error":"#N/A"}},{"$f":"VLOOKUP(P557,Daten!C$6:L$115,10,FALSE)","v":{"$error":"#N/A"}},{"$f":"VLOOKUP(P557,Daten!C$6:M$115,11,FALSE)","v":{"$error":"#N/A"}},0.05,0.1,0.8,0.85]
[null,null,null,null,null,null,null,null,null,null,null,null,null,null,null,78.900000000000006,{"$f":"Q557+0.1","v":78.900000000000276},{"$f":"ROUND(R552+(R559-R552)/7*6,0)","v":{"$error":"#N/A"}},{"$error":"#N/A"},{"$error":"#N/A"},{"$f":"VLOOKUP(P558,Daten!C$6:E$115,3,FALSE)","v":{"$error":"#N/A"}},{"$f":"VLOOKUP(P558,Daten!C$6:L$115,10,FALSE)","v":{"$error":"#N/A"}},{"$f":"VLOOKUP(P558,Daten!C$6:M$115,11,FALSE)","v":{"$error":"#N/A"}},0.05,0.1,0.8,0.85]
[null,null,null,null,null,null,null,null,null,null,null,null,null,null,null,79,{"$f":"Q558+0.1","v":79.00000000000027},{"$f":"VLOOKUP(Menü!H$24,Sollgewichte!A$4:CD$13,Q559+2,FALSE)","v":{"$error":"#N/A"}},{"$error":"#N/A"},{"$error":"#N/A"},{"$f":"VLOOKUP(P559,Daten!C$6:E$115,3,FALSE)","v":{"$error":"#N/A"}},{"$f":"VLOOKUP(P559,Daten!C$6:L$115,10,FALSE)","v":{"$error":"#N/A"}},{"$f":"VLOOKUP(P559,Daten!C$6:M$115,11,FALSE)","v":{"$error":"#N/A"}},0.05,0.1,0.8,0.85]
[null,null,null,null,null,null,null,null,null,null,null,null,null,null,null,79.2,{"$f":"Q559+0.2","v":79.200000000000273},{"$f":"ROUND(R559+(R566-R559)/7,0)","v":{"$error":"#N/A"}},{"$error":"#N/A"},{"$error":"#N/A"},{"$f":"VLOOKUP(P560,Daten!C$6:E$115,3,FALSE)","v":{"$error":"#N/A"}},{"$f":"VLOOKUP(P560,Daten!C$6:L$115,10,FALSE)","v":{"$error":"#N/A"}},{"$f":"VLOOKUP(P560,Daten!C$6:M$115,11,FALSE)","v":{"$error":"#N/A"}},0.05,0.1,0.8,0.85]
[null,null,null,null,null,null,null,null,null,null,null,null,null,null,null,79.3,{"$f":"Q560+0.1","v":79.300000000000267},{"$f":"ROUND(R559+(R566-R559)/7*2,0)","v":{"$error":"#N/A"}},{"$error":"#N/A"},{"$error":"#N/A"},{"$f":"VLOOKUP(P561,Daten!C$6:E$115,3,FALSE)","v":{"$error":"#N/A"}},{"$f":"VLOOKUP(P561,Daten!C$6:L$115,10,FALSE)","v":{"$error":"#N/A"}},{"$f":"VLOOKUP(P561,Daten!C$6:M$115,11,FALSE)","v":{"$error":"#N/A"}},0.05,0.1,0.8,0.85]
[null,null,null,null,null,null,null,null,null,null,null,null,null,null,null,79.5,{"$f":"Q561+0.2","v":79.50000000000027},{"$f":"ROUND(R559+(R566-R559)/7*3,0)","v":{"$error":"#N/A"}},{"$error":"#N/A"},{"$error":"#N/A"},{"$f":"VLOOKUP(P562,Daten!C$6:E$115,3,FALSE)","v":{"$error":"#N/A"}},{"$f":"VLOOKUP(P562,Daten!C$6:L$115,10,FALSE)","v":{"$error":"#N/A"}},{"$f":"VLOOKUP(P562,Daten!C$6:M$115,11,FALSE)","v":{"$error":"#N/A"}},0.05,0.1,0.8,0.85]
[null,null,null,null,null,null,null,null,null,null,null,null,null,null,null,79.599999999999994,{"$f":"Q562+0.1","v":79.600000000000264},{"$f":"ROUND(R559+(R566-R559)/7*4,0)","v":{"$error":"#N/A"}},{"$error":"#N/A"},{"$error":"#N/A"},{"$f":"VLOOKUP(P563,Daten!C$6:E$115,3,FALSE)","v":{"$error":"#N/A"}},{"$f":"VLOOKUP(P563,Daten!C$6:L$115,10,FALSE)","v":{"$error":"#N/A"}},{"$f":"VLOOKUP(P563,Daten!C$6:M$115,11,FALSE)","v":{"$error":"#N/A"}},0.05,0.1,0.8,0.85]
[null,null,null,null,null,null,null,null,null,null,null,null,null,null,null,79.8,{"$f":"Q563+0.2","v":79.800000000000267},{"$f":"ROUND(R559+(R566-R559)/7*5,0)","v":{"$error":"#N/A"}},{"$error":"#N/A"},{"$error":"#N/A"},{"$f":"VLOOKUP(P564,Daten!C$6:E$115,3,FALSE)","v":{"$error":"#N/A"}},{"$f":"VLOOKUP(P564,Daten!C$6:L$115,10,FALSE)","v":{"$error":"#N/A"}},{"$f":"VLOOKUP(P564,Daten!C$6:M$115,11,FALSE)","v":{"$error":"#N/A"}},0.05,0.1,0.8,0.85]
[null,null,null,null,null,null,null,null,null,null,null,null,null,null,null,79.900000000000006,{"$f":"Q564+0.1","v":79.900000000000261},{"$f":"ROUND(R559+(R566-R559)/7*6,0)","v":{"$error":"#N/A"}},{"$error":"#N/A"},{"$error":"#N/A"},{"$f":"VLOOKUP(P565,Daten!C$6:E$115,3,FALSE)","v":{"$error":"#N/A"}},{"$f":"VLOOKUP(P565,Daten!C$6:L$115,10,FALSE)","v":{"$error":"#N/A"}},{"$f":"VLOOKUP(P565,Daten!C$6:M$115,11,FALSE)","v":{"$error":"#N/A"}},0.05,0.1,0.8,0.85]
[null,null,null,null,null,null,null,null,null,null,null,null,null,null,null,80,{"$f":"Q565+0.1","v":80.000000000000256},{"$f":"VLOOKUP(Menü!H$24,Sollgewichte!A$4:CD$13,Q566+2,FALSE)","v":{"$error":"#N/A"}},{"$error":"#N/A"},{"$error":"#N/A"},{"$f":"VLOOKUP(P566,Daten!C$6:E$115,3,FALSE)","v":{"$error":"#N/A"}},{"$f":"VLOOKUP(P566,Daten!C$6:L$115,10,FALSE)","v":{"$error":"#N/A"}},{"$f":"VLOOKUP(P566,Daten!C$6:M$115,11,FALSE)","v":{"$error":"#N/A"}},0.05,0.1,0.8,0.85]

{"sheet":"Sollgewichte","index":5,"n_rows":15,"n_cols":82,"rows_kept":15,"cut":false,"hidden":false,"merged":[[1,81,2,81],[1,70,2,70],[1,71,2,71],[1,72,2,72],[1,73,2,73],[1,74,2,74],[1,75,2,75],[1,76,2,76],[1,77,2,77],[1,78,2,78],[1,79,2,79],[1,80,2,80],[1,69,2,69],[1,58,2,58],[1,59,2,59],[1,60,2,60],[1,61,2,61],[1,62,2,62],[1,63,2,63],[1,64,2,64],[1,65,2,65],[1,66,2,66],[1,67,2,67],[1,68,2,68],[1,57,2,57],[1,46,2,46],[1,47,2,47],[1,48,2,48],[1,49,2,49],[1,50,2,50],[1,51,2,51],[1,52,2,52],[1,53,2,53],[1,54,2,54],[1,55,2,55],[1,56,2,56],[1,45,2,45],[1,34,2,34],[1,35,2,35],[1,36,2,36],[1,37,2,37],[1,38,2,38],[1,39,2,39],[1,40,2,40],[1,41,2,41],[1,42,2,42],[1,43,2,43],[1,44,2,44],[1,33,2,33],[1,22,2,22],[1,23,2,23],[1,24,2,24],[1,25,2,25],[1,26,2,26],[1,27,2,27],[1,28,2,28],[1,29,2,29],[1,30,2,30],[1,31,2,31],[1,32,2,32],[1,21,2,21],[1,10,2,10],[1,11,2,11],[1,12,2,12],[1,13,2,13],[1,14,2,14],[1,15,2,15],[1,16,2,16],[1,17,2,17],[1,18,2,18],[1,19,2,19],[1,20,2,20],[1,9,2,9],[1,1,2,1],[1,3,2,3],[1,4,2,4],[1,5,2,5],[1,6,2,6],[1,7,2,7],[1,8,2,8],[1,2,2,2]]}
[]
["Lebenswoche: ",0,1,2,3,4,5,6,7,8,9,10,11,12,13,14,15,16,17,18,19,20,21,22,23,24,25,26,27,28,29,30,31,32,33,34,35,36,37,38,39,40,41,42,43,44,45,46,47,48,49,50,51,52,53,54,55,56,57,58,59,60,61,62,63,64,65,66,67,68,69,70,71,72,73,74,75,76,77,78,79,80]
[" Herkunft:"]
["LB Classic Plus",40,75,130,195,275,370,480,590,695,795,890,980,1068,1153,1235,1315,1395,1475,1565,1655,1740,1815,1894,1934,1974,1989,2004,2011,2017,2022,2027,2032,2037,2042,2047,2052,2056,2060,2064,2068,2072,2076,2080,2084,2088,2092,2096,2100,2104,2108,2112,2116,2120,2124,2128,2132,2136,2140,2144,2148,2152,2156,2160,2164,2168,2172,2176,2180,2184,2188,2192,2196,2200,2202,2204,2206,2208,2210,2212,2214,2216]
["LB Classic/ Tetra SL",40,75,130,195,275,367,475,583,685,782,874,961,1043,1123,1197,1264,1330,1400,1475,1555,1640,1711,1790,1830,1870,1885,1900,1905,1911,1915,1920,1923,1925,1928,1931,1933,1935,1938,1940,1943,1945,1948,1951,1953,1955,1958,1960,1963,1965,1968,1971,1973,1975,1978,1980,1984,1985,1989,1991,1993,1995,1998,2000,2003,2005,2008,2011,2013,2015,2018,2020,2023,2025,2028,2031,2033,2035,2038,2040,2043,2045]
["LB light",40,75,125,190,270,360,465,570,670,765,855,940,1020,1098,1171,1236,1301,1369,1443,1521,1604,1673,1751,1790,1829,1844,1858,1863,1869,1873,1878,1881,1883,1886,1889,1891,1893,1895,1897,1900,1902,1905,1908,1910,1912,1915,1917,1920,1922,1925,1928,1930,1932,1934,1936,1939,1942,1945,1947,1949,1951,1954,1956,1959,1961,1964,1967,1969,1971,1974,1976,1978,1980,1983,1986,1988,1990,1993,1995,1998,2000]
["Lohmann Tradition/Silver",40,76,132,199,280,374,484,594,698,797,890,979,1062,1144,1219,1287,1355,1426,1502,1584,1670,1743,1823,1868,1906,1922,1935,1940,1946,1951,1955,1958,1962,1965,1968,1971,1974,1977,1980,1983,1986,1989,1993,1995,1997,1999,2001,2003,2005,2007,2009,2011,2013,2015,2017,2019,2021,2022,2023,2024,2025,2026,2027,2028,2029,2030,2031,2032,2033,2034,2035,2036,2037,2038,2039,2040,2041,2042,2043,2044,2045]
["Lohmann Sandy",40,75,127,190,271,355,452,558,658,758,853,935,1009,1072,1130,1183,1230,1280,1333,1394,1459,1529,1582,1627,1668,1700,1725,1747,1768,1784,1795,1801,1806,1809,1812,1815,1818,1821,1824,1827,1830,1833,1836,1839,1842,1845,1848,1851,1854,1855,1856,1857,1858,1859,1860,1861,1862,1863,1864,1865,1866,1867,1868,1869,1870,1871,1872,1873,1874,1875,1876,1877,1878,1879,1880,1881,1882,1883,1884,1885,1886]
["LSL Classic",40,75,125,187,257,337,429,529,624,719,809,887,957,1017,1072,1122,1167,1214,1264,1322,1386,1450,1500,1540,1580,1610,1630,1650,1670,1690,1700,1705,1710,1713,1715,1718,1720,1723,1725,1728,1730,1733,1735,1738,1740,1743,1745,1748,1750,1751,1753,1754,1755,1756,1758,1759,1760,1761,1763,1764,1765,1766,1768,1769,1770,1771,1773,1774,1775,1776,1778,1779,1780,1781,1783,1784,1785,1786,1788,1789,1790]
["Novogen brown classic",40,65,110,180,270,365,470,570,660,750,840,930,1020,1110,1190,1270,1350,1430,1500,1580,1640,1685,1720,1745,1765,1780,1790,1805,1815,1820,1820,1825,1825,1825,1830,1830,1835,1835,1840,1840,1840,1845,1845,1850,1850,1850,1855,1855,1860,1860,1860,1865,1865,1865,1870,1870,1875,1875,1880,1880,1880,1885,1885,1890,1890,1890,1895,1895,1900,1900,1900,1905,1905,1910,1910,1910,1915,1915,1920,1920,1920]
["Novogen brown light",35,65,110,180,270,365,470,570,660,750,840,930,1020,1100,1180,1250,1325,1400,1480,1550,1610,1655,1690,1710,1725,1735,1745,1755,1765,1770,1770,1775,1775,1775,1780,1780,1785,1785,1790,1790,1790,1795,1795,1800,1800,1800,1805,1805,1810,1810,1810,1815,1815,1815,1820,1820,1825,1825,1830,1830,1830,1835,1835,1840,1840,1840,1845,1845,1850,1850,1850,1855,1855,1860,1860,1860,1865,1865,1870,1870,1870]
["Dekalb white",40,65,120,190,265,345,430,515,600,685,765,845,925,1000,1075,1140,1195,1270,1330,1400,1460,1484,1503,1519,1532,1544,1554,1563,1572,1580,1587,1593,1600,1605,1611,1616,1621,1626,1630,1635,1639,1643,1646,1650,1654,1657,1660,1663,1667,1670,1672,1675,1678,1681,1683,1686,1688,1691,1693,1695,1698,1700,1702,1704,1706,1708,1710,1712,1714,1716,1718,1720,1721,1723,1725,1727,1728,1730,1732,1733,1735]
["Bovans Brown",40,65,118,191,275,370,471,580,687,793,894,989,1076,1161,1237,1307,1378,1440,1500,1600,1650,1710,1770,1800,1810,1820,1830,1840,1850,1860,1870,1880,1885,1890,1895,1900,1905,1910,1915,1920,1930,1935,1940,1943,1946,1950,1955,1956,1957,1958,1959,1960,1963,1966,1969,1970,1973,1976,1980,1981,1982,1983,1984,1985,1986,1987,1990,1991,1992,1993,1994,1995,1996,1997,2000,2000,2000,2000,2000,2000,2000]
["Sollgewichte in g"]
["(gemäß angaben der Zuchtfirmen)"]

{"sheet":"Dateneingabe","index":6,"n_rows":20,"n_cols":22,"rows_kept":20,"cut":false,"hidden":false,"merged":[[6,14,6,15],[7,14,7,15],[8,14,8,15],[13,14,13,17],[11,14,12,17],[8,16,8,17],[19,3,19,6],[19,8,19,11],[1,14,1,17],[2,14,2,15],[3,14,3,15],[4,14,4,15],[1,1,1,12],[2,1,2,2],[14,14,17,16],[2,16,2,17],[3,16,3,17],[4,16,4,17],[5,16,5,17],[6,16,6,17],[7,16,7,17],[5,14,5,15]]}
[]
[null,"Tiergewichte in g:",null,null,null,null,null,null,null,null,null,null,null,null,"Herden- / Tiergruppendaten:"]
[null,"Tier:",null,0,1,2,3,4,5,6,7,8,9,null,"Stall / Abteil:",null,{"$f":"Menü!F24","v":0}]
[null,"x",null,".",null,null,null,null,null,null,null,null,null,null,"Tieranzahl:",null,{"$f":"Menü!H23","v":0}]
[null,"1x",null,null,null,null,null,null,null,null,null,null,null,null,"Herkunft:",null,{"$f":"Menü!H24","v":0}]
[null,"2x",null,null,null,null,null,null,null,null,null,null,null,null,"Schlupfdatum:",null,{"$f":"Menü!J23","v":"00:00:00"}]
[null,"3x",null,null,null,null,null,null,null,null,null,null,null,null,"Aufnahmedatum:"]
[null,"4x",null,null,null,null,null,null,null,null,null,null,null,null,"Lebenswoche:",null,{"$f":"ROUND(ROUNDUP((Q7-Menü!J23)/7,1),1)","v":0}]
[null,"5x",null,null,null,null,null,null,null,null,null,null,null,null,"Sollgewicht:",null,{"$f":"VLOOKUP(Q8,Gewichtsentwicklung!P6:R566,3,FALSE)","v":{"$error":"#N/A"}}]
[null,"6x"]
[null,"7x"]
[null,"8x",null,null,null,null,null,null,null,null,null,null,null,null,{"$f":"\"Tier \"&V15-4&V16-4","v":"Tier 01"}]
[null,"9x"]
[null,"10x",null,null,null,null,null,null,null,null,null,null,null,null,"Gewichtseingabe in g:",null,null,null,null,null,null,7]
[null,"11x",null,null,null,null,null,null,null,null,null,null,null,null,null,null,null,null,null,null,"Zeile:",4]
[null,"12x",null,null,null,null,null,null,null,null,null,null,null,null,null,null,null,null,null,null,"Spalte",5]
[null,"13x"]
[null,"14x"]
[]
[null,null,null,"Gewicht > 120% Sollgewicht",null,null,null,null,"Gewicht < 80% Sollgewicht"]

{"sheet":"Impressum","index":7,"n_rows":16,"n_cols":3,"rows_kept":16,"cut":false,"hidden":false,"merged":[[10,1,10,2],[12,1,12,2]]}
[]
[]
[]
[]
[]
[]
[]
[]
[]
[]
[null,"Dieses Managementtool zur Tiergewichtsanalyse wurde im Rahmen des Projektes:\n\n„Anwendung eines Managementtools (MTool) zur Verbesserung des Wohlbefindens und der Gesundheit von Legehennen“\n\nam Fachgebiet für Nutztierethologie und Tierhaltung der Universität Kassel entwickelt und durch das Bundesministerium für Ernährung und Landwirtschaft im Rahmen der Modell- und Demonstrationsvorhaben Tierschutz über die Bundesanstalt für Landwirtschaft und Ernährung (Projektträger) gefördert. Weitere Materialien können über www.mud-tierschutz.de bezogen werden.\n"]
[]
[null,"Verantwortliche Personen:"]
[null,"Projektleitung: "," Prof. Dr. Ute Knierim (Universität Kassel, Fachgebiet für Nutztierethologie und Tierhaltung)"]
[null,"Projektdurchführung: "," Dr. agr. Dipl. Biol. Christiane Keppler (Universität Kassel, Fachgebiet für Nutztierethologie und Tierhaltung)"]
[null,"Programmierung:"," B.Sc. Jonas Keppler (Universität Kassel, Fachgebiet für Nutztierethologie und Tierhaltung)"]

{"sheet":"Datenexport","index":8,"n_rows":1,"n_cols":179,"rows_kept":1,"cut":false,"hidden":false,"merged":[]}
["Exportdatum:","Betriebskennung:","Stall / Abteil:","Tieranzahl:","Herkunft:","Schlupfdatum:","Aufnahmedatum:","Lebens-   tag: ","Lebens-woche:","Anzahl    gewogener Tiere:","Mittelwert:","Minimum:","Maximum:","Standart-abweichung:","Variationa-koeffizient:","Sollgewicht:","Sollgewichts-erfüllung:","Uniformität:","Anteil Tiere mit niedrigem Gewicht:","Anzahl Tiere Außerhalb 80%:","Anzahl Tiere Klasse 1:","Anzahl Tiere Klasse 2:","Anzahl Tiere Klasse 3:","Anzahl Tiere Klasse 4:","Anzahl Tiere Klasse 5:","Anzahl Tiere Klasse 6:","Anzahl Tiere Klasse 7:","Anzahl Tiere Klasse 8:","Anzahl Tiere Klasse 9:","Anzahl Tiere Klasse 10:","# 1","# 2","# 3","# 4","# 5","# 6","# 7","# 8","# 9","# 10","# 11","# 12","# 13","# 14","# 15","# 16","# 17","# 18","# 19","# 20","# 21","# 22","# 23","# 24","# 25","# 26","# 27","# 28","# 29","# 30","# 31","# 32","# 33","# 34","# 35","# 36","# 37","# 38","# 39","# 40","# 41","# 42","# 43","# 44","# 45","# 46","# 47","# 48","# 49","# 50","# 51","# 52","# 53","# 54","# 55","# 56","# 57","# 58","# 59","# 60","# 61","# 62","# 63","# 64","# 65","# 66","# 67","# 68","# 69","# 70","# 71","# 72","# 73","# 74","# 75","# 76","# 77","# 78","# 79","# 80","# 81","# 82","# 83","# 84","# 85","# 86","# 87","# 88","# 89","# 90","# 91","# 92","# 93","# 94","# 95","# 96","# 97","# 98","# 99","# 100","# 101","# 102","# 103","# 104","# 105","# 106","# 107","# 108","# 109","# 110","# 111","# 112","# 113","# 114","# 115","# 116","# 117","# 118","# 119","# 120","# 121","# 122","# 123","# 124","# 125","# 126","# 127","# 128","# 129","# 130","# 131","# 132","# 133","# 134","# 135","# 136","# 137","# 138","# 139","# 140","# 141","# 142","# 143","# 144","# 145","# 146","# 147","# 148","# 149"]